{"text_format":"1","workbook":"xlsx","n_sheets":28,"sheets":["Foglio1","Foglio2","Foglio4","Foglio3","Foglio5","Foglio6","Foglio7","Foglio8","Foglio9","Foglio10","Foglio11","Foglio12","Foglio13","Foglio14","Foglio15","Foglio16","Foglio17","Foglio18","Foglio19","Foglio20","Foglio21","Foglio22","Foglio23","Foglio24","Foglio25","Foglio26","Foglio27","Foglio28"],"not_rendered":{"charts":0,"images":0,"macros":1,"external_links":0,"defined_names":0,"comments":0,"pivot_tables":0},"unopened":[],"bounds":{"document_bytes":16777216,"sheet_cells":100000,"rows_first":2000,"rows_last":500,"rows_between":2000,"halvings":0,"cell_chars":16384,"cell_head_chars":4096},"cells_cut":0,"cells_raw":0,"read":"whole","date_system":"1900"}

{"sheet":"Foglio1","index":0,"n_rows":26,"n_cols":10,"rows_kept":26,"cut":false,"hidden":false,"merged":[[25,2,25,9],[15,1,15,9],[19,1,19,9],[20,2,20,4],[21,6,22,6],[24,1,24,9],[8,6,8,9],[0,1,0,9],[2,1,2,9],[3,1,3,9],[4,1,4,9],[5,1,5,9],[1,1,1,9],[8,1,8,4]]}
[null,"Information requirements for comfort chillers"]
[null,{"$f":"Foglio2!C14","v":"EWFT250B-SRC2"}]
[null,"Outdoor side heat exchanger of air conditioner: Air"]
[null,"Indoor side heat exchanger of air conditioner: water"]
[null,"Type: Scroll"]
[null,"Driver of compressor: Electric"]
[null,"Item","Symbol","Value","Unit",null,"Item","Symbol","Value","Unit"]
[null,"Rated cooling\ncapacity","Prated,c",{"$f":"Foglio2!C42","v":237.27},"kW",null,"Seasonal space\ncooling energy\nefficiency","ηs,c",{"$f":"Foglio2!C7","v":192},"%"]
[null,"Declared cooling capacity for part load at given outdoor temperatures\nTj and indoor 27°/19 °C (dry/wet bulb)",null,null,null,null,"Declared energy efficiency ratio or gas utilisation efficiency/auxiliary\nenergy factor for part load at given outdoor temperatures Tj"]
[null,"Tj = + 35 °C","Pdc",{"$f":"Foglio2!C42","v":237.27},"kW",null,"Tj = + 35 °C","EERd or GUEc,bin\n/AEFc,bin",{"$f":"Foglio2!C35","v":2.76}]
[null,"Tj = + 30 °C","Pdc",{"$f":"Foglio2!C91","v":165.95},"kW",null,"Tj = + 30 °C","EERd or GUEc,bin\n/AEFc,bin",{"$f":"Foglio2!C84","v":4.1680000000000001}]
[null,"Tj = + 25 °C","Pdc",{"$f":"Foglio2!C236","v":111.52},"kW",null,"Tj = + 25 °C","EERd or GUEc,bin\n/AEFc,bin",{"$f":"Foglio2!C229","v":5.3220000000000001}]
[null,"Tj = + 20 °C","Pdc",{"$f":"Foglio2!C381","v":49.83},"kW",null,"Tj = + 20 °C","EERd or GUEc,bin\n/AEFc,bin",{"$f":"Foglio2!C374","v":6.5730000000000004}]
[]
[null,"Degradation coefficient\nfor air\nconditioners (*9)","\nCdc","\n0.95","\n—"]
[null,"Power consumption in modes other than ‘active mode’"]
[null,"Off mode","POFF",{"$f":"Foglio2!C32","v":0},"kW",null,"Crankcase heater\nmode","PCK",{"$f":"Foglio2!C31","v":0},"kW"]
[null,"Thermostat-off\nmode","PTO",{"$f":"Foglio2!C29","v":0.12},"kW",null,"Standby mode","PSB",{"$f":"Foglio2!C30","v":0.2},"kW"]
[]
[null,"Other items"]
[null,"Capacity control","Step",null,null,null,"For air-to-water\ncomfort chillers: air\nflow rate, outdoor\nmeasured","—",{"$f":"Foglio2!C517","v":34092},"m3/h"]
[null,"Sound power level,\noutdoor","LWA ",{"$f":"Foglio2!C518","v":87.5},"dB",null,"For water/brine-towater\nchillers:\nRated brine or water\nflow rate, outdoor\nside heat exchanger","—",null,"m3/h"]
[null,"Emissions of\nnitrogen oxides (if\napplicable)","NOx (*10)",null,"mg/kWh\ninput GCV"]
[null,"GWP of the\nrefrigerant",null,{"$f":"Foglio2!C4","v":675},"kg CO2eq (\n100 years )"]
[null,"Standard rating conditions used: Low Temp Application"]
[null,"Contact details","Daikin Applied Europe S.p.A. Via Piani di Santa Maria, 72 | 00072 | Ariccia | Roma"]

{"sheet":"Foglio2","index":1,"n_rows":518,"n_cols":20,"rows_kept":518,"cut":false,"hidden":false,"merged":[]}
["Job Output",null,"Job dichiarati al DP3.1 e definitivi per il lancio"]
[]
[]
["GWP",null,675]
["Job Name","Calc Type","Author","Job ID","Calc Date"]
["EWAD-TZD BS SEER","Performance SEER","test",640,"2023-12-01T14:35:51"]
[null,"ETA",{"$f":" ((C27/2.5)-0.03)*100","v":192},{"$f":" ((D27/2.5)-0.03)*100","v":177.32},189.60000000000002,178.8,194.64,193.92000000000002,188.88,189.48000000000002,198.2,201.20000000000005,195.27999999999997,194.56,198.00000000000003,197,{"$f":" ((Q27/2.5)-0.03)*100","v":194.39999999999998},199.36,202.48,198.08]
[null,null,{"$f":"MID(C15,1,4)","v":"EWFT"},{"$f":"MID(D15,1,4)","v":"EWFT"},{"$f":"MID(E15,1,4)","v":"EWFT"},{"$f":"MID(F15,1,4)","v":"EWFT"},"EWFT","EWFT","EWFT","EWFT","EWFT","EWFT","EWFT","EWFT","EWFT","EWFT",{"$f":"MID(Q15,1,4)","v":"EWFT"},"EWFT","EWFT","EWFT"]
[null,null,{"$f":"MID(C17,1,3)","v":"250"},{"$f":"MID(D17,1,3)","v":"270"},{"$f":"MID(E17,1,3)","v":"250"},{"$f":"MID(F17,1,3)","v":"270"},"180","210","230","250","290","320","350","180","210","230",{"$f":"MID(Q17,1,3)","v":"250"},"290","320","350"]
[null,null,{"$f":"MID(C15,6,2)","v":"B-"},{"$f":"MID(D15,6,2)","v":"B-"},{"$f":"MID(E15,6,2)","v":"B-"},{"$f":"MID(F15,6,2)","v":"B-"},"B-","B-","B-","B-","B-","B-","B-","B-","B-","B-",{"$f":"MID(Q15,6,2)","v":"B-"},"B-","B-","B-"]
[null,null,{"$f":"C16","v":"SR"},{"$f":"D16","v":"SR"},{"$f":"E16","v":"SS"},"SS","XR","XR","XR","XR","XR","XR","XR","XS","XS","XS",{"$f":"Q16","v":"XS"},"XS","XS","XS"]
[null,null,{"$f":"MID(C15,8,1)","v":"C"},{"$f":"MID(D15,8,1)","v":"C"},{"$f":"MID(E15,8,1)","v":"C"},{"$f":"MID(F15,8,1)","v":"C"},"C","C","C","C","C","C","C","C","C","C",{"$f":"MID(Q15,8,1)","v":"C"},"C","C","C"]
[null,null,{"$f":"MID(C17,5,1)","v":"2"},{"$f":"MID(D17,5,1)","v":"2"},{"$f":"MID(E17,5,1)","v":"2"},{"$f":"MID(F17,5,1)","v":"2"},"2","2","2","2","2","2","2","2","2","2",{"$f":"MID(Q17,5,1)","v":"2"},"2","2","2"]
[null,null,{"$f":"_xlfn.CONCAT(C8,C9,C10,C11,C12,C13,C3)","v":"EWFT250B-SRC2"},{"$f":"_xlfn.CONCAT(D8,D9,D10,D11,D12,D13,D3)","v":"EWFT270B-SRC2"},"EWFT250B-SSC2","EWFT270B-SSC2",{"$f":"_xlfn.CONCAT(G8,G9,G10,G11,G12,G13,G3)","v":"EWFT180B-XRC2"},{"$f":"_xlfn.CONCAT(H8,H9,H10,H11,H12,H13,H3)","v":"EWFT210B-XRC2"},"EWFT230B-XRC2",{"$f":"_xlfn.CONCAT(J8,J9,J10,J11,J12,J13,J3)","v":"EWFT250B-XRC2"},{"$f":"_xlfn.CONCAT(K8,K9,K10,K11,K12,K13,K3)","v":"EWFT290B-XRC2"},"EWFT320B-XRC2",{"$f":"_xlfn.CONCAT(M8,M9,M10,M11,M12,M13,M3)","v":"EWFT350B-XRC2"},{"$f":"_xlfn.CONCAT(N8,N9,N10,N11,N12,N13,N3)","v":"EWFT180B-XSC2"},"EWFT210B-XSC2",{"$f":"_xlfn.CONCAT(P8,P9,P10,P11,P12,P13,P3)","v":"EWFT230B-XSC2"},"EWFT250B-XSC2","EWFT290B-XSC2","EWFT320B-XSC2","EWFT350B-XSC2"]
["Series","-","EWFT-B-C","EWFT-B-C","EWFT-B-C","EWFT-B-C","EWFT-B-C","EWFT-B-C","EWFT-B-C","EWFT-B-C","EWFT-B-C","EWFT-B-C","EWFT-B-C","EWFT-B-C","EWFT-B-C","EWFT-B-C","EWFT-B-C","EWFT-B-C","EWFT-B-C","EWFT-B-C"]
["Version","-","SR","SR","SS","SS","XR","XR","XR","XR","XR","XR","XR","XS","XS","XS","XS","XS","XS","XS"]
["Size","-","250.2","270.2","250.2","270.2","180.2","210.2","230.2","250.2","290.2","320.2","350.2","180.2","210.2","230.2","250.2","290.2","320.2","350.2"]
["Option List","-","Option not present","Option not present","Option not present","Option not present","Option not present","Option not present","Option not present","Option not present","Option not present","Option not present","Option not present","Option not present","Option not present","Option not present","Option not present","Option not present","Option not present","Option not present"]
["Unit ID","-","3402","3403","3419","3420","3436","3437","3438","3439","3440","3441","3442","3457","3458","3459","3460","3461","3462","3463"]
["DllVersion","-","6.0.5","6.0.5","6.0.5","6.0.5","6.0.5","6.0.5","6.0.5","6.0.5","6.0.5","6.0.5","6.0.5","6.0.5","6.0.5","6.0.5","6.0.5","6.0.5","6.0.5","6.0.5"]
["Variable Flow","-","Y","Y","Y","Y","Y","Y","Y","Y","Y","Y","Y","Y","Y","Y","Y","Y","Y","Y"]
["Fouling Factor","m2K/W",0,0,0,0,0,0,0,0,0,0,0,0,0,0,0,0,0,0]
["EN","-","N","N","N","N","N","N","N","N","N","N","N","N","N","N","N","N","N","N"]
["Mark up","-","Y","Y","Y","Y","Y","Y","Y","Y","Y","Y","Y","Y","Y","Y","Y","Y","Y","Y"]
[]
["Performance"]
["SEER","-",4.875,4.508,4.8150000000000004,4.5449999999999999,4.9409999999999998,4.923,4.7969999999999997,4.8120000000000003,5.03,5.1050000000000004,4.9569999999999999,4.9390000000000001,5.0250000000000004,5,4.9349999999999996,5.0590000000000002,5.1369999999999996,5.0270000000000001]
["Cdc","-","NaN","NaN","NaN","NaN","NaN","NaN","NaN","NaN","NaN","NaN","NaN","NaN","NaN","NaN","NaN","NaN","NaN","NaN"]
["Pto","kW",0.12,0.12,0.12,0.12,0.1,0.12,0.14000000000000001,0.14000000000000001,0.14000000000000001,0.14000000000000001,0.14000000000000001,0.1,0.12,0.14000000000000001,0.14000000000000001,0.14000000000000001,0.14000000000000001,0.14000000000000001]
["Psb","kW",0.2,0.2,0.2,0.2,0.2,0.2,0.2,0.2,0.2,0.25,0.25,0.2,0.2,0.2,0.2,0.2,0.25,0.25]
["Pck","kW",0,0,0,0,0,0,0,0,0,0,0,0,0,0,0,0,0,0]
["Poff","kW",0,0,0,0,0,0,0,0,0,0,0,0,0,0,0,0,0,0]
[]
["Calculation Error","-","No Error","No Error","No Error","No Error","No Error","No Error","No Error","No Error","No Error","No Error","No Error","No Error","No Error","No Error","No Error","No Error","No Error","No Error"]
["100% EER","%",2.76,2.6269999999999998,2.895,2.7879999999999998,3.1160000000000001,2.948,2.8180000000000001,2.6139999999999999,2.8540000000000001,2.8220000000000001,2.67,3.198,3.1320000000000001,3.0750000000000002,2.9380000000000002,3.04,3.03,2.931]
["100% Solution"]
["Load","%",100,100,100,100,100,100,100,100,100,100,100,100,100,100,100,100,100,100]
["OAT","°C",35,35,35,35,35,35,35,35,35,35,35,35,35,35,35,35,35,35]
["EEWT","°C",12,12,12,12,12,12,12,12,12,12,12,12,12,12,12,12,12,12]
["ELWT","°C",7,7,7,7,7,7,7,7,7,7,7,7,7,7,7,7,7,7]
["EER","-",2.76,2.6269999999999998,2.895,2.7879999999999998,3.1160000000000001,2.948,2.8180000000000001,2.6139999999999999,2.8540000000000001,2.8220000000000001,2.67,3.198,3.1320000000000001,3.0750000000000002,2.9380000000000002,3.04,3.03,2.931]
["Capacity","kW",237.27,255,245.4,264.8,171.3,194.07,216.64,232.99,267.83999999999997,303.86,320.31,178.35,204.13,229.89,249.91,282.86,320.70999999999998,340.72]
["Evap. Flow","l/s",11.3,12.2,11.7,12.6,8.1999999999999993,9.3000000000000007,10.3,11.1,12.8,14.5,15.3,8.5,9.6999999999999993,11,11.9,13.5,15.3,16.3]
["Evap. Pressure drop","kPa",35.1,40.200000000000003,37.4,43.2,28.9,24.1,22.5,25.9,33.799999999999997,43.1,47.7,31.2,26.5,25.2,29.6,37.5,47.8,53.7]
["PI (total)","kW",85.96,97.08,84.76,94.97,54.97,65.84,76.89,89.14,93.86,107.69,119.98,55.77,65.19,74.760000000000005,85.05,93.03,105.85,116.24]
["PI fan (total)","kW",4.95,4.95,7.96,7.96,3.49,3.49,3.49,3.49,5.23,5.23,5.23,7.96,7.96,7.96,7.96,11.93,11.93,11.93]
["PI pump","kW","-","-","-","-","-","-","-","-","-","-","-","-","-","-","-","-","-","-"]
["PI compressor C1","kW",34.590000000000003,45.59,32.93,43,25.47,25.6,36.43,36.43,48.56,36.42,48.56,23.6,23.7,33.08,33.08,43.26,33.08,43.26]
["PI compressor C2","kW",45.59,45.59,43,43,25.47,36.229999999999997,36.43,48.56,39.200000000000003,64.900000000000006,64.900000000000006,23.6,32.93,33.08,43.26,36.89,59.54,59.54]
["PI fan C1","kW",2.48,2.48,3.98,3.98,1.74,1.74,1.74,1.74,1.74,1.74,1.74,3.98,3.98,3.98,3.98,3.98,3.98,3.98]
["PI fan C2","kW",2.48,2.48,3.98,3.98,1.74,1.74,1.74,1.74,3.49,3.49,3.49,3.98,3.98,3.98,3.98,7.96,7.96,7.96]
["T evap C1","°C",3.76,3.41,3.69,3.32,3.56,4.1900000000000004,4.32,4.32,4.0599999999999996,4.3,4.0599999999999996,3.46,4.12,4.2300000000000004,4.2300000000000004,3.92,4.21,3.92]
["T evap C2","°C",3.41,3.41,3.32,3.32,3.56,3.82,4.32,4.0599999999999996,3.8,3.04,3.04,3.46,3.69,4.2300000000000004,3.92,3.73,2.89,2.89]
["T cond C1","°C",50.31,53.37,47.99,50.62,48.59,48.82,52.7,52.7,56.22,52.7,56.22,45.04,45.22,48.17,48.17,50.86,48.16,50.86]
["T cond C2","°C",53.37,53.37,50.62,50.62,48.59,52.48,52.7,56.22,46.15,50.94,50.94,45.04,47.99,48.17,50.86,43.23,46.81,46.81]
["Dp suction C1","kPa",0.5,0.5,0.5,0.5,0.5,0.5,0.5,0.5,0.5,0.5,0.5,0.5,0.5,0.5,0.5,0.5,0.5,0.5]
["Dp suction C2","kPa",0.5,0.5,0.5,0.5,0.5,0.5,0.5,0.5,0.5,0.5,0.5,0.5,0.5,0.5,0.5,0.5,0.5,0.5]
["Dp discharge C1","kPa",0.4,0.4,0.4,0.4,0.4,0.4,0.4,0.4,0.4,0.4,0.4,0.4,0.4,0.4,0.4,0.4,0.4,0.4]
["Dp discharge C2","kPa",0.4,0.4,0.4,0.4,0.4,0.4,0.4,0.4,0.4,0.4,0.4,0.4,0.4,0.4,0.4,0.4,0.4,0.4]
["Sst C1","°C",3.26,2.91,3.19,2.82,3.06,3.69,3.82,3.82,3.56,3.8,3.56,2.96,3.62,3.73,3.73,3.42,3.71,3.42]
["Sst C2","°C",2.91,2.91,2.82,2.82,3.06,3.32,3.82,3.56,3.3,2.54,2.54,2.96,3.19,3.73,3.42,3.23,2.39,2.39]
["Sdt C1","°C",50.71,53.77,48.39,51.02,48.99,49.22,53.1,53.1,56.62,53.1,56.62,45.44,45.62,48.57,48.57,51.26,48.56,51.26]
["Sdt C2","°C",53.77,53.77,51.02,51.02,48.99,52.88,53.1,56.62,46.55,51.34,51.34,45.44,48.39,48.57,51.26,43.63,47.21,47.21]
["Frequency C1","Hz",100,100,100,100,100,100,100,100,100,100,100,100,100,100,100,100,100,100]
["Frequency C2","Hz",100,100,100,100,100,100,100,100,100,100,100,100,100,100,100,100,100,100]
["Fan ON C1","-","2","2","2","2","2","2","2","2","2","2","2","2","2","2","2","2","2","2"]
["Fan ON C2","-","2","2","2","2","2","2","2","2","4","4","4","2","2","2","2","4","4","4"]
["Fan rpm C1","rpm",810,810,950,950,720,720,720,720,720,720,720,950,950,950,950,950,950,950]
["Fan rpm C2","rpm",810,810,950,950,720,720,720,720,720,720,720,950,950,950,950,950,950,950]
["Air Flow C1","m3/s",9.4700000000000006,9.4700000000000006,11.25,11.25,8.35,8.35,8.35,8.35,8.35,8.35,8.35,11.25,11.25,11.25,11.25,11.25,11.25,11.25]
["Air Flow C2","m3/s",9.4700000000000006,9.4700000000000006,11.25,11.25,8.35,8.35,8.35,8.35,16.7,16.7,16.7,11.25,11.25,11.25,11.25,22.51,22.51,22.51]
["Air Speed C1","m/s",2.13,2.13,2.5299999999999998,2.5299999999999998,1.88,1.88,1.88,1.88,1.88,1.88,1.88,2.5299999999999998,2.5299999999999998,2.5299999999999998,2.5299999999999998,2.5299999999999998,2.5299999999999998,2.5299999999999998]
["Air Speed C2","m/s",2.13,2.13,2.5299999999999998,2.5299999999999998,1.88,1.88,1.88,1.88,1.88,1.88,1.88,2.5299999999999998,2.5299999999999998,2.5299999999999998,2.5299999999999998,2.5299999999999998,2.5299999999999998,2.5299999999999998]
["Compressor n°1 C1","-","ON","ON","ON","ON","ON","ON","ON","ON","ON","ON","ON","ON","ON","ON","ON","ON","ON","ON"]
["Compressor n°2 C1","-","ON","ON","ON","ON","ON","ON","ON","ON","ON","ON","ON","ON","ON","ON","ON","ON","ON","ON"]
["Compressor n°3 C1","-","OFF","OFF","OFF","OFF","OFF","OFF","OFF","OFF","OFF","OFF","OFF","OFF","OFF","OFF","OFF","OFF","OFF","OFF"]
["Compressor n°4 C1","-","OFF","OFF","OFF","OFF","OFF","OFF","OFF","OFF","OFF","OFF","OFF","OFF","OFF","OFF","OFF","OFF","OFF","OFF"]
["Compressor n°1 C2","-","ON","ON","ON","ON","ON","ON","ON","ON","ON","ON","ON","ON","ON","ON","ON","ON","ON","ON"]
["Compressor n°2 C2","-","ON","ON","ON","ON","ON","ON","ON","ON","ON","ON","ON","ON","ON","ON","ON","ON","ON","ON"]
["Compressor n°3 C2","-","OFF","OFF","OFF","OFF","OFF","OFF","OFF","OFF","OFF","ON","ON","OFF","OFF","OFF","OFF","OFF","ON","ON"]
["Compressor n°4 C2","-","OFF","OFF","OFF","OFF","OFF","OFF","OFF","OFF","OFF","OFF","OFF","OFF","OFF","OFF","OFF","OFF","OFF","OFF"]
[]
["Calculation Error","-","No Error","No Error","No Error","No Error","No Error","No Error","No Error","No Error","No Error","No Error","No Error","No Error","No Error","No Error","No Error","No Error","No Error","No Error"]
["74% EER","%",4.1680000000000001,3.8159999999999998,3.9369999999999998,3.819,4.22,4.3179999999999996,3.9039999999999999,4.1829999999999998,4.2290000000000001,4.1680000000000001,4.07,4.21,4.2939999999999996,4.085,4.2009999999999996,4.202,4.1509999999999998,4.0979999999999999]
["74% Solution"]
["Load","%",74,74,74,74,74,74,74,74,74,74,74,74,74,74,74,74,74,74]
["OAT","°C",30,30,30,30,30,30,30,30,30,30,30,30,30,30,30,30,30,30]
["EEWT","°C",13.5,13.5,13.5,13.5,13.5,13.5,13.5,13.5,13.5,13.5,13.5,13.5,13.5,13.5,13.5,13.5,13.5,13.5]
["ELWT","°C",8.5,8.5,8.5,8.5,8.5,8.5,8.5,8.5,8.5,8.5,8.5,8.5,8.5,8.5,8.5,8.5,8.5,8.5]
["EER","-",4.1680000000000001,3.8159999999999998,3.9369999999999998,3.819,4.22,4.3179999999999996,3.9039999999999999,4.1829999999999998,4.2290000000000001,4.1680000000000001,4.07,4.21,4.2939999999999996,4.085,4.2009999999999996,4.202,4.1509999999999998,4.0979999999999999]
["Capacity","kW",165.95,188.7,181.59,195.95,126.76,135.21,160.31,165.33,198.2,212.9,241.63,131.97999999999999,137.84,170.12,169.12,209.31,217.14,243.67]
["Evap. Flow","l/s",7.9,9,8.6999999999999993,9.3000000000000007,6,6.4,7.6,7.9,9.5,10.199999999999999,11.5,6.3,6.6,8.1,8.1,10,10.4,11.6]
["Evap. Pressure drop","kPa",18,22.9,21.3,24.5,16.600000000000001,12.4,12.8,13.5,19,21.8,27.8,17.899999999999999,12.8,14.3,14.1,21.1,22.6,28.2]
["PI (total)","kW",39.82,49.45,46.12,51.31,30.04,31.32,41.06,39.53,46.86,51.08,59.37,31.35,32.1,41.64,40.26,49.81,52.31,59.46]
["PI fan (total)","kW",5.04,0,0,0,0,3.11,0,3.55,0,4.88,5.32,0,5.07,0,5.94,0,8.0299999999999994,6.3]
["PI pump","kW","-","-","-","-","-","-","-","-","-","-","-","-","-","-","-","-","-","-"]
["PI compressor C1","kW",17.309999999999999,0,0,0,0,10.23,0,17.96,0,10.24,17.96,0,9.8699999999999992,0,17.11,0,9.8699999999999992,17.63]
["PI compressor C2","kW",17.309999999999999,0,0,0,0,17.91,0,17.96,0,35.68,35.68,0,17.079999999999998,0,17.11,0,34.06,35.06]
["PI fan C1","kW",2.52,0,0,0,0,1.34,0,1.77,0,1.34,1.77,0,2.1,0,2.97,0,2.1,2.1]
["PI fan C2","kW",2.52,0,0,0,0,1.77,0,1.77,0,3.55,3.55,0,2.97,0,2.97,0,5.94,4.2]
["T evap C1","°C",5.77,0,0,0,0,6.34,0,6.18,0,6.59,6.18,0,6.33,0,6.15,0,6.58,6.17]
["T evap C2","°C",5.77,0,0,0,0,5.8,0,6.18,0,5.07,5.07,0,5.76,0,6.15,0,5.0199999999999996,5.05]
["T cond C1","°C",40.54,0,0,0,0,38.78,0,42.18,0,38.840000000000003,42.18,0,37.24,0,40.04,0,37.29,41.36]
["T cond C2","°C",40.54,0,0,0,0,42.06,0,42.18,0,41.79,41.79,0,39.94,0,40.04,0,39.71,41]
["Dp suction C1","kPa",0.25,0,0,0,0,0.25,0,0.25,0,0.25,0.25,0,0.25,0,0.25,0,0.25,0.25]
["Dp suction C2","kPa",0.25,0,0,0,0,0.25,0,0.25,0,0.34,0.34,0,0.25,0,0.25,0,0.34,0.34]
["Dp discharge C1","kPa",0.2,0,0,0,0,0.2,0,0.2,0,0.2,0.2,0,0.2,0,0.2,0,0.2,0.2]
["Dp discharge C2","kPa",0.2,0,0,0,0,0.2,0,0.2,0,0.27,0.27,0,0.2,0,0.2,0,0.27,0.27]
["Sst C1","°C",5.52,0,0,0,0,6.09,0,5.93,0,6.34,5.93,0,6.08,0,5.9,0,6.33,5.92]
["Sst C2","°C",5.52,0,0,0,0,5.55,0,5.93,0,4.7300000000000004,4.7300000000000004,0,5.51,0,5.9,0,4.68,4.71]
["Sdt C1","°C",40.74,0,0,0,0,38.979999999999997,0,42.38,0,39.04,42.38,0,37.44,0,40.24,0,37.49,41.56]
["Sdt C2","°C",40.74,0,0,0,0,42.26,0,42.38,0,42.06,42.06,0,40.14,0,40.24,0,39.979999999999997,41.27]
["Frequency C1","Hz",50,0,0,0,0,50,0,50,0,50,50,0,50,0,50,0,50,50]
["Frequency C2","Hz",50,0,0,0,0,50,0,50,0,66.67,66.67,0,50,0,50,0,66.67,66.67]
["Fan ON C1","-","2","0","0","0","0","2","0","2","0","2","2","0","2","0","2","0","2","2"]
["Fan ON C2","-","2","0","0","0","0","2","0","2","0","4","4","0","2","0","2","0","4","4"]
["Fan rpm C1","rpm",810,0,0,0,0,655,0,720,0,655,720,0,762,0,856,0,762,762]
["Fan rpm C2","rpm",810,0,0,0,0,720,0,720,0,720,720,0,856,0,856,0,856,762]
["Air Flow C1","m3/s",9.5299999999999994,0,0,0,0,7.59,0,8.4,0,7.59,8.4,0,8.93,0,10.119999999999999,0,8.93,8.93]
["Air Flow C2","m3/s",9.5299999999999994,0,0,0,0,8.4,0,8.4,0,16.8,16.8,0,10.119999999999999,0,10.119999999999999,0,20.239999999999998,17.86]
["Air Speed C1","m/s",2.14,0,0,0,0,1.71,0,1.89,0,1.71,1.89,0,2.0099999999999998,0,2.2799999999999998,0,2.0099999999999998,2.0099999999999998]
["Air Speed C2","m/s",2.14,0,0,0,0,1.89,0,1.89,0,1.89,1.89,0,2.2799999999999998,0,2.2799999999999998,0,2.2799999999999998,2.0099999999999998]
["Compressor n°1 C1","-","ON","OFF","OFF","OFF","OFF","ON","OFF","ON","OFF","ON","ON","OFF","ON","OFF","ON","OFF","ON","ON"]
["Compressor n°2 C1","-","OFF","OFF","OFF","OFF","OFF","OFF","OFF","OFF","OFF","OFF","OFF","OFF","OFF","OFF","OFF","OFF","OFF","OFF"]
["Compressor n°3 C1","-","OFF","OFF","OFF","OFF","OFF","OFF","OFF","OFF","OFF","OFF","OFF","OFF","OFF","OFF","OFF","OFF","OFF","OFF"]
["Compressor n°4 C1","-","OFF","OFF","OFF","OFF","OFF","OFF","OFF","OFF","OFF","OFF","OFF","OFF","OFF","OFF","OFF","OFF","OFF","OFF"]
["Compressor n°1 C2","-","ON","OFF","OFF","OFF","OFF","ON","OFF","ON","OFF","ON","ON","OFF","ON","OFF","ON","OFF","ON","ON"]
["Compressor n°2 C2","-","OFF","OFF","OFF","OFF","OFF","OFF","OFF","OFF","OFF","ON","ON","OFF","OFF","OFF","OFF","OFF","ON","ON"]
["Compressor n°3 C2","-","OFF","OFF","OFF","OFF","OFF","OFF","OFF","OFF","OFF","OFF","OFF","OFF","OFF","OFF","OFF","OFF","OFF","OFF"]
["Compressor n°4 C2","-","OFF","OFF","OFF","OFF","OFF","OFF","OFF","OFF","OFF","OFF","OFF","OFF","OFF","OFF","OFF","OFF","OFF","OFF"]
[]
["74% EER","%","No Staging",3.472,3.8170000000000002,3.5920000000000001,4.008,"No Staging",3.714,"No Staging",4.0469999999999997,"No Staging","No Staging",4.0739999999999998,"No Staging",3.8719999999999999,"No Staging",4.0750000000000002,"No Staging","No Staging"]
["74% StageUp"]
["Load","%","No Staging",70.72,72.02,72.06,74.739999999999995,"No Staging",67.95,"No Staging",75.77,"No Staging","No Staging",76.040000000000006,"No Staging",81.73,"No Staging",76.41,"No Staging","No Staging"]
["OAT","°C","No Staging",30,30,30,30,"No Staging",30,"No Staging",30,"No Staging","No Staging",30,"No Staging",30,"No Staging",30,"No Staging","No Staging"]
["EEWT","°C","No Staging",13.5,13.5,13.5,13.5,"No Staging",13.5,"No Staging",13.5,"No Staging","No Staging",13.5,"No Staging",13.5,"No Staging",13.5,"No Staging","No Staging"]
["ELWT","°C","No Staging",8.5,8.5,8.5,8.5,"No Staging",8.5,"No Staging",8.5,"No Staging","No Staging",8.5,"No Staging",8.5,"No Staging",8.5,"No Staging","No Staging"]
["EER","-","No Staging",3.472,3.8170000000000002,3.5920000000000001,4.008,"No Staging",3.714,"No Staging",4.0469999999999997,"No Staging","No Staging",4.0739999999999998,"No Staging",3.8719999999999999,"No Staging",4.0750000000000002,"No Staging","No Staging"]
["Capacity","kW","No Staging",224.59,207.03,228.84,147.36000000000001,"No Staging",174.88,"No Staging",240.63,"No Staging","No Staging",149.91999999999999,"No Staging",210.35,"No Staging",242.66,"No Staging","No Staging"]
["Evap. Flow","l/s","No Staging",10.7,9.9,10.9,7,"No Staging",8.4,"No Staging",11.5,"No Staging","No Staging",7.2,"No Staging",10,"No Staging",11.6,"No Staging","No Staging"]
["Evap. Pressure drop","kPa","No Staging",31.8,27.3,32.9,22,"No Staging",15,"No Staging",27.6,"No Staging","No Staging",22.7,"No Staging",21.4,"No Staging",28,"No Staging","No Staging"]
["PI (total)","kW","No Staging",64.69,54.24,63.71,36.76,"No Staging",47.09,"No Staging",59.46,"No Staging","No Staging",36.79,"No Staging",54.32,"No Staging",59.55,"No Staging","No Staging"]
["PI fan (total)","kW","No Staging",5.04,6.14,6.14,3.11,"No Staging",3.55,"No Staging",5.32,"No Staging","No Staging",4.3899999999999997,"No Staging",6.14,"No Staging",6.3,"No Staging","No Staging"]
["PI pump","kW","No Staging","-","-","-","-","No Staging","-","No Staging","-","No Staging","No Staging","-","No Staging","-","No Staging","-","No Staging","No Staging"]
["PI compressor C1","kW","No Staging",41.92,30.11,17.59,10.210000000000001,"No Staging",33.450000000000003,"No Staging",17.96,"No Staging","No Staging",22,"No Staging",17.63,"No Staging",17.63,"No Staging","No Staging"]
["PI compressor C2","kW","No Staging",17.309999999999999,17.59,39.5,23.23,"No Staging",10,"No Staging",35.74,"No Staging","No Staging",10.16,"No Staging",30.25,"No Staging",35.130000000000003,"No Staging","No Staging"]
["PI fan C1","kW","No Staging",2.52,4.05,2.1,1.34,"No Staging",1.77,"No Staging",1.77,"No Staging","No Staging",2.97,"No Staging",2.1,"No Staging",2.1,"No Staging","No Staging"]
["PI fan C2","kW","No Staging",2.52,2.1,4.05,1.77,"No Staging",1.77,"No Staging",3.55,"No Staging","No Staging",1.42,"No Staging",4.05,"No Staging",4.2,"No Staging","No Staging"]
["T evap C1","°C","No Staging",4.6399999999999997,4.97,5.79,5.95,"No Staging",5.63,"No Staging",6.18,"No Staging","No Staging",4.75,"No Staging",6.17,"No Staging",6.17,"No Staging","No Staging"]
["T evap C2","°C","No Staging",5.77,5.79,4.55,4.8099999999999996,"No Staging",6.62,"No Staging",5.08,"No Staging","No Staging",5.94,"No Staging",5.53,"No Staging",5.0599999999999996,"No Staging","No Staging"]
["T cond C1","°C","No Staging",49.31,43.7,41.25,38.68,"No Staging",48.62,"No Staging",42.18,"No Staging","No Staging",41.76,"No Staging",41.36,"No Staging",41.36,"No Staging","No Staging"]
["T cond C2","°C","No Staging",40.54,41.25,46.46,44.27,"No Staging",37.83,"No Staging",41.74,"No Staging","No Staging",38.450000000000003,"No Staging",43.9,"No Staging",40.950000000000003,"No Staging","No Staging"]
["Dp suction C1","kPa","No Staging",0.5,0.5,0.25,0.25,"No Staging",0.5,"No Staging",0.25,"No Staging","No Staging",0.5,"No Staging",0.25,"No Staging",0.25,"No Staging","No Staging"]
["Dp suction C2","kPa","No Staging",0.25,0.25,0.5,0.5,"No Staging",0.25,"No Staging",0.5,"No Staging","No Staging",0.25,"No Staging",0.5,"No Staging",0.5,"No Staging","No Staging"]
["Dp discharge C1","kPa","No Staging",0.4,0.4,0.2,0.2,"No Staging",0.4,"No Staging",0.2,"No Staging","No Staging",0.4,"No Staging",0.2,"No Staging",0.2,"No Staging","No Staging"]
["Dp discharge C2","kPa","No Staging",0.2,0.2,0.4,0.4,"No Staging",0.2,"No Staging",0.4,"No Staging","No Staging",0.2,"No Staging",0.4,"No Staging",0.4,"No Staging","No Staging"]
["Sst C1","°C","No Staging",4.1399999999999997,4.47,5.54,5.7,"No Staging",5.13,"No Staging",5.93,"No Staging","No Staging",4.25,"No Staging",5.92,"No Staging",5.92,"No Staging","No Staging"]
["Sst C2","°C","No Staging",5.52,5.54,4.05,4.3099999999999996,"No Staging",6.37,"No Staging",4.58,"No Staging","No Staging",5.69,"No Staging",5.03,"No Staging",4.5599999999999996,"No Staging","No Staging"]
["Sdt C1","°C","No Staging",49.71,44.1,41.45,38.880000000000003,"No Staging",49.02,"No Staging",42.38,"No Staging","No Staging",42.16,"No Staging",41.56,"No Staging",41.56,"No Staging","No Staging"]
["Sdt C2","°C","No Staging",40.74,41.45,46.86,44.67,"No Staging",38.03,"No Staging",42.14,"No Staging","No Staging",38.65,"No Staging",44.3,"No Staging",41.35,"No Staging","No Staging"]
["Frequency C1","Hz","No Staging",0,0,0,0,"No Staging",0,"No Staging",0,"No Staging","No Staging",0,"No Staging",0,"No Staging",0,"No Staging","No Staging"]
["Frequency C2","Hz","No Staging",0,0,0,0,"No Staging",0,"No Staging",0,"No Staging","No Staging",0,"No Staging",0,"No Staging",0,"No Staging","No Staging"]
["Fan ON C1","-","No Staging","2","2","2","2","No Staging","2","No Staging","2","No Staging","No Staging","2","No Staging","2","No Staging","2","No Staging","No Staging"]
["Fan ON C2","-","No Staging","2","2","2","2","No Staging","2","No Staging","4","No Staging","No Staging","2","No Staging","2","No Staging","4","No Staging","No Staging"]
["Fan rpm C1","rpm","No Staging",810,950,762,655,"No Staging",720,"No Staging",720,"No Staging","No Staging",856,"No Staging",762,"No Staging",762,"No Staging","No Staging"]
["Fan rpm C2","rpm","No Staging",810,762,950,720,"No Staging",720,"No Staging",720,"No Staging","No Staging",669,"No Staging",950,"No Staging",762,"No Staging","No Staging"]
["Air Flow C1","m3/s","No Staging",9.5299999999999994,11.32,8.93,7.59,"No Staging",8.4,"No Staging",8.4,"No Staging","No Staging",10.119999999999999,"No Staging",8.93,"No Staging",8.93,"No Staging","No Staging"]
["Air Flow C2","m3/s","No Staging",9.5299999999999994,8.93,11.32,8.4,"No Staging",8.4,"No Staging",16.8,"No Staging","No Staging",7.76,"No Staging",11.32,"No Staging",17.86,"No Staging","No Staging"]
["Air Speed C1","m/s","No Staging",2.14,2.5499999999999998,2.0099999999999998,1.71,"No Staging",1.89,"No Staging",1.89,"No Staging","No Staging",2.2799999999999998,"No Staging",2.0099999999999998,"No Staging",2.0099999999999998,"No Staging","No Staging"]
["Air Speed C2","m/s","No Staging",2.14,2.0099999999999998,2.5499999999999998,1.89,"No Staging",1.89,"No Staging",1.89,"No Staging","No Staging",1.74,"No Staging",2.5499999999999998,"No Staging",2.0099999999999998,"No Staging","No Staging"]
["Compressor n°1 C1","-","No Staging","ON","ON","ON","ON","No Staging","ON","No Staging","ON","No Staging","No Staging","ON","No Staging","ON","No Staging","ON","No Staging","No Staging"]
["Compressor n°2 C1","-","No Staging","ON","ON","OFF","OFF","No Staging","ON","No Staging","OFF","No Staging","No Staging","ON","No Staging","OFF","No Staging","OFF","No Staging","No Staging"]
["Compressor n°3 C1","-","No Staging","OFF","OFF","OFF","OFF","No Staging","OFF","No Staging","OFF","No Staging","No Staging","OFF","No Staging","OFF","No Staging","OFF","No Staging","No Staging"]
["Compressor n°4 C1","-","No Staging","OFF","OFF","OFF","OFF","No Staging","OFF","No Staging","OFF","No Staging","No Staging","OFF","No Staging","OFF","No Staging","OFF","No Staging","No Staging"]
["Compressor n°1 C2","-","No Staging","ON","ON","ON","ON","No Staging","ON","No Staging","ON","No Staging","No Staging","ON","No Staging","ON","No Staging","ON","No Staging","No Staging"]
["Compressor n°2 C2","-","No Staging","OFF","OFF","ON","ON","No Staging","OFF","No Staging","ON","No Staging","No Staging","OFF","No Staging","ON","No Staging","ON","No Staging","No Staging"]
["Compressor n°3 C2","-","No Staging","OFF","OFF","OFF","OFF","No Staging","OFF","No Staging","OFF","No Staging","No Staging","OFF","No Staging","OFF","No Staging","OFF","No Staging","No Staging"]
["Compressor n°4 C2","-","No Staging","OFF","OFF","OFF","OFF","No Staging","OFF","No Staging","OFF","No Staging","No Staging","OFF","No Staging","OFF","No Staging","OFF","No Staging","No Staging"]
[]
["74% EER","%","No Staging",4.1689999999999996,4.319,4.1660000000000004,4.5629999999999997,"No Staging",4.3659999999999997,"No Staging",4.4260000000000002,"No Staging","No Staging",4.5350000000000001,"No Staging",4.383,"No Staging",4.4390000000000001,"No Staging","No Staging"]
["74% StageDown"]
["Load","%","No Staging",52.26,46.99,51.87,53.6,"No Staging",53.14,"No Staging",53.18,"No Staging","No Staging",53.25,"No Staging",53.45,"No Staging",53.33,"No Staging","No Staging"]
["OAT","°C","No Staging",30,30,30,30,"No Staging",30,"No Staging",30,"No Staging","No Staging",30,"No Staging",30,"No Staging",30,"No Staging","No Staging"]
["EEWT","°C","No Staging",13.5,13.5,13.5,13.5,"No Staging",13.5,"No Staging",13.5,"No Staging","No Staging",13.5,"No Staging",13.5,"No Staging",13.5,"No Staging","No Staging"]
["ELWT","°C","No Staging",8.5,8.5,8.5,8.5,"No Staging",8.5,"No Staging",8.5,"No Staging","No Staging",8.5,"No Staging",8.5,"No Staging",8.5,"No Staging","No Staging"]
["EER","-","No Staging",4.1689999999999996,4.319,4.1660000000000004,4.5629999999999997,"No Staging",4.3659999999999997,"No Staging",4.4260000000000002,"No Staging","No Staging",4.5350000000000001,"No Staging",4.383,"No Staging",4.4390000000000001,"No Staging","No Staging"]
["Capacity","kW","No Staging",165.95,135.07,164.73,105.68,"No Staging",136.77000000000001,"No Staging",168.88,"No Staging","No Staging",104.98,"No Staging",137.55000000000001,"No Staging",169.36,"No Staging","No Staging"]
["Evap. Flow","l/s","No Staging",7.9,6.4,7.9,5,"No Staging",6.5,"No Staging",8.1,"No Staging","No Staging",5,"No Staging",6.6,"No Staging",8.1,"No Staging","No Staging"]
["Evap. Pressure drop","kPa","No Staging",18,12.4,17.8,12,"No Staging",9.5,"No Staging",14.1,"No Staging","No Staging",11.8,"No Staging",9.6,"No Staging",14.2,"No Staging","No Staging"]
["PI (total)","kW","No Staging",39.799999999999997,31.27,39.54,23.16,"No Staging",31.33,"No Staging",38.159999999999997,"No Staging","No Staging",23.15,"No Staging",31.38,"No Staging",38.15,"No Staging","No Staging"]
["PI fan (total)","kW","No Staging",5.04,3.01,4.2,2.68,"No Staging",3.11,"No Staging",3.73,"No Staging","No Staging",2.33,"No Staging",3.52,"No Staging",3.92,"No Staging","No Staging"]
["PI pump","kW","No Staging","-","-","-","-","No Staging","-","No Staging","-","No Staging","No Staging","-","No Staging","-","No Staging","-","No Staging","No Staging"]
["PI compressor C1","kW","No Staging",17.309999999999999,10.61,17.59,10.210000000000001,"No Staging",17.96,"No Staging",17.96,"No Staging","No Staging",10.59,"No Staging",17.63,"No Staging",17.63,"No Staging","No Staging"]
["PI compressor C2","kW","No Staging",17.309999999999999,17.59,17.59,10.210000000000001,"No Staging",10.24,"No Staging",16.36,"No Staging","No Staging",10.16,"No Staging",10.18,"No Staging",16.47,"No Staging","No Staging"]
["PI fan C1","kW","No Staging",2.52,0.91,2.1,1.34,"No Staging",1.77,"No Staging",1.77,"No Staging","No Staging",0.91,"No Staging",2.1,"No Staging",2.1,"No Staging","No Staging"]
["PI fan C2","kW","No Staging",2.52,2.1,2.1,1.34,"No Staging",1.34,"No Staging",1.96,"No Staging","No Staging",1.42,"No Staging",1.42,"No Staging",1.82,"No Staging","No Staging"]
["T evap C1","°C","No Staging",5.77,6.36,5.79,5.95,"No Staging",6.2,"No Staging",6.18,"No Staging","No Staging",5.97,"No Staging",6.17,"No Staging",6.17,"No Staging","No Staging"]
["T evap C2","°C","No Staging",5.77,5.79,5.79,5.95,"No Staging",6.62,"No Staging",6.12,"No Staging","No Staging",5.94,"No Staging",6.62,"No Staging",6.13,"No Staging","No Staging"]
["T cond C1","°C","No Staging",40.54,40.4,41.25,38.68,"No Staging",42.19,"No Staging",42.18,"No Staging","No Staging",40.29,"No Staging",41.36,"No Staging",41.36,"No Staging","No Staging"]
["T cond C2","°C","No Staging",40.54,41.25,41.25,38.68,"No Staging",38.840000000000003,"No Staging",38.159999999999997,"No Staging","No Staging",38.450000000000003,"No Staging",38.61,"No Staging",38.43,"No Staging","No Staging"]
["Dp suction C1","kPa","No Staging",0.25,0.25,0.25,0.25,"No Staging",0.25,"No Staging",0.25,"No Staging","No Staging",0.25,"No Staging",0.25,"No Staging",0.25,"No Staging","No Staging"]
["Dp suction C2","kPa","No Staging",0.25,0.25,0.25,0.25,"No Staging",0.25,"No Staging",0.25,"No Staging","No Staging",0.25,"No Staging",0.25,"No Staging",0.25,"No Staging","No Staging"]
["Dp discharge C1","kPa","No Staging",0.2,0.2,0.2,0.2,"No Staging",0.2,"No Staging",0.2,"No Staging","No Staging",0.2,"No Staging",0.2,"No Staging",0.2,"No Staging","No Staging"]
["Dp discharge C2","kPa","No Staging",0.2,0.2,0.2,0.2,"No Staging",0.2,"No Staging",0.2,"No Staging","No Staging",0.2,"No Staging",0.2,"No Staging",0.2,"No Staging","No Staging"]
["Sst C1","°C","No Staging",5.52,6.11,5.54,5.7,"No Staging",5.95,"No Staging",5.93,"No Staging","No Staging",5.72,"No Staging",5.92,"No Staging",5.92,"No Staging","No Staging"]
["Sst C2","°C","No Staging",5.52,5.54,5.54,5.7,"No Staging",6.37,"No Staging",5.87,"No Staging","No Staging",5.69,"No Staging",6.37,"No Staging",5.88,"No Staging","No Staging"]
["Sdt C1","°C","No Staging",40.74,40.6,41.45,38.880000000000003,"No Staging",42.39,"No Staging",42.38,"No Staging","No Staging",40.49,"No Staging",41.56,"No Staging",41.56,"No Staging","No Staging"]
["Sdt C2","°C","No Staging",40.74,41.45,41.45,38.880000000000003,"No Staging",39.04,"No Staging",38.36,"No Staging","No Staging",38.65,"No Staging",38.81,"No Staging",38.630000000000003,"No Staging","No Staging"]
["Frequency C1","Hz","No Staging",0,0,0,0,"No Staging",0,"No Staging",0,"No Staging","No Staging",0,"No Staging",0,"No Staging",0,"No Staging","No Staging"]
["Frequency C2","Hz","No Staging",0,0,0,0,"No Staging",0,"No Staging",0,"No Staging","No Staging",0,"No Staging",0,"No Staging",0,"No Staging","No Staging"]
["Fan ON C1","-","No Staging","2","2","2","2","No Staging","2","No Staging","2","No Staging","No Staging","2","No Staging","2","No Staging","2","No Staging","No Staging"]
["Fan ON C2","-","No Staging","2","2","2","2","No Staging","2","No Staging","4","No Staging","No Staging","2","No Staging","2","No Staging","4","No Staging","No Staging"]
["Fan rpm C1","rpm","No Staging",810,575,762,655,"No Staging",720,"No Staging",720,"No Staging","No Staging",575,"No Staging",762,"No Staging",762,"No Staging","No Staging"]
["Fan rpm C2","rpm","No Staging",810,762,762,655,"No Staging",655,"No Staging",590,"No Staging","No Staging",669,"No Staging",669,"No Staging",575,"No Staging","No Staging"]
["Air Flow C1","m3/s","No Staging",9.5299999999999994,6.58,8.93,7.59,"No Staging",8.4,"No Staging",8.4,"No Staging","No Staging",6.58,"No Staging",8.93,"No Staging",8.93,"No Staging","No Staging"]
["Air Flow C2","m3/s","No Staging",9.5299999999999994,8.93,8.93,7.59,"No Staging",7.59,"No Staging",13.54,"No Staging","No Staging",7.76,"No Staging",7.76,"No Staging",13.16,"No Staging","No Staging"]
["Air Speed C1","m/s","No Staging",2.14,1.48,2.0099999999999998,1.71,"No Staging",1.89,"No Staging",1.89,"No Staging","No Staging",1.48,"No Staging",2.0099999999999998,"No Staging",2.0099999999999998,"No Staging","No Staging"]
["Air Speed C2","m/s","No Staging",2.14,2.0099999999999998,2.0099999999999998,1.71,"No Staging",1.71,"No Staging",1.52,"No Staging","No Staging",1.74,"No Staging",1.74,"No Staging",1.48,"No Staging","No Staging"]
["Compressor n°1 C1","-","No Staging","ON","ON","ON","ON","No Staging","ON","No Staging","ON","No Staging","No Staging","ON","No Staging","ON","No Staging","ON","No Staging","No Staging"]
["Compressor n°2 C1","-","No Staging","ON","ON","OFF","OFF","No Staging","ON","No Staging","OFF","No Staging","No Staging","ON","No Staging","OFF","No Staging","OFF","No Staging","No Staging"]
["Compressor n°3 C1","-","No Staging","OFF","OFF","OFF","OFF","No Staging","OFF","No Staging","OFF","No Staging","No Staging","OFF","No Staging","OFF","No Staging","OFF","No Staging","No Staging"]
["Compressor n°4 C1","-","No Staging","OFF","OFF","OFF","OFF","No Staging","OFF","No Staging","OFF","No Staging","No Staging","OFF","No Staging","OFF","No Staging","OFF","No Staging","No Staging"]
["Compressor n°1 C2","-","No Staging","ON","ON","ON","ON","No Staging","ON","No Staging","ON","No Staging","No Staging","ON","No Staging","ON","No Staging","ON","No Staging","No Staging"]
["Compressor n°2 C2","-","No Staging","OFF","OFF","ON","ON","No Staging","OFF","No Staging","ON","No Staging","No Staging","OFF","No Staging","ON","No Staging","ON","No Staging","No Staging"]
["Compressor n°3 C2","-","No Staging","OFF","OFF","OFF","OFF","No Staging","OFF","No Staging","OFF","No Staging","No Staging","OFF","No Staging","OFF","No Staging","OFF","No Staging","No Staging"]
["Compressor n°4 C2","-","No Staging","OFF","OFF","OFF","OFF","No Staging","OFF","No Staging","OFF","No Staging","No Staging","OFF","No Staging","OFF","No Staging","OFF","No Staging","No Staging"]
[]
["Calculation Error","-","No Error","No Error","No Error","No Error","No Error","No Error","No Error","No Error","No Error","No Error","No Error","No Error","No Error","No Error","No Error","No Error","No Error","No Error"]
["47% EER","%",5.3220000000000001,5.0629999999999997,5.3,5.056,5.5039999999999996,5.3380000000000001,5.3540000000000001,5.21,5.5819999999999999,5.7839999999999998,5.524,5.4619999999999997,5.5570000000000004,5.6280000000000001,5.3550000000000004,5.5590000000000002,5.7389999999999999,5.508]
["47% Solution"]
["Load","%",47,47,47,47,47,47,47,47,47,47,47,47,47,47,47,47,47,47]
["OAT","°C",25,25,25,25,25,25,25,25,25,25,25,25,25,25,25,25,25,25]
["EEWT","°C",15,15,15,15,15,15,15,15,15,15,15,15,15,15,15,15,15,15]
["ELWT","°C",10,10,10,10,10,10,10,10,10,10,10,10,10,10,10,10,10,10]
["EER","-",5.3220000000000001,5.0629999999999997,5.3,5.056,5.5039999999999996,5.3380000000000001,5.3540000000000001,5.21,5.5819999999999999,5.7839999999999998,5.524,5.4619999999999997,5.5570000000000004,5.6280000000000001,5.3550000000000004,5.5590000000000002,5.7389999999999999,5.508]
["Capacity","kW",111.52,119.85,115.34,124.46,80.510000000000005,91.21,101.82,109.51,125.89,154.34,150.55000000000001,83.82,95.94,117.37,117.46,132.94,153.11000000000001,160.13999999999999]
["Evap. Flow","l/s",5.3,5.7,5.5,5.9,4.0999999999999996,5.2,6,6,6,7.4,7.2,4.0999999999999996,5.2,6,6,6.3,7.3,7.6]
["Evap. Pressure drop","kPa",8.6999999999999993,9.9,9.3000000000000007,10.6,8.3000000000000007,8.4,8.1,8.1,8.1,11.9,11.4,8.3000000000000007,8.4,8.1,8.1,9,11.7,12.7]
["PI (total)","kW",20.95,23.67,21.76,24.62,14.63,17.09,19.02,21.02,22.55,26.69,27.25,15.35,17.27,20.85,21.93,23.91,26.68,29.08]
["PI fan (total)","kW",0,0,0,0,0,0,0,0,0,3.36,0,0,0,2.37,0,0,2.77,0]
["PI pump","kW","-","-","-","-","-","-","-","-","-","-","-","-","-","-","-","-","-","-"]
["PI compressor C1","kW",0,0,0,0,0,0,0,0,0,9.1300000000000008,0,0,0,9.5299999999999994,0,0,9.5399999999999991,0]
["PI compressor C2","kW",0,0,0,0,0,0,0,0,0,14.35,0,0,0,9.07,0,0,14.49,0]
["PI fan C1","kW",0,0,0,0,0,0,0,0,0,1.36,0,0,0,0.92,0,0,0.92,0]
["PI fan C2","kW",0,0,0,0,0,0,0,0,0,1.99,0,0,0,1.45,0,0,1.85,0]
["T evap C1","°C",0,0,0,0,0,0,0,0,0,8.0500000000000007,0,0,0,7.97,0,0,8.06,0]
["T evap C2","°C",0,0,0,0,0,0,0,0,0,7.5,0,0,0,7.95,0,0,7.5,0]
["T cond C1","°C",0,0,0,0,0,0,0,0,0,34.31,0,0,0,36.020000000000003,0,0,36.049999999999997,0]
["T cond C2","°C",0,0,0,0,0,0,0,0,0,33.65,0,0,0,34.04,0,0,33.979999999999997,0]
["Dp suction C1","kPa",0,0,0,0,0,0,0,0,0,0.25,0,0,0,0.25,0,0,0.25,0]
["Dp suction C2","kPa",0,0,0,0,0,0,0,0,0,0.17,0,0,0,0.25,0,0,0.17,0]
["Dp discharge C1","kPa",0,0,0,0,0,0,0,0,0,0.2,0,0,0,0.2,0,0,0.2,0]
["Dp discharge C2","kPa",0,0,0,0,0,0,0,0,0,0.13,0,0,0,0.2,0,0,0.13,0]
["Sst C1","°C",0,0,0,0,0,0,0,0,0,7.8,0,0,0,7.72,0,0,7.81,0]
["Sst C2","°C",0,0,0,0,0,0,0,0,0,7.33,0,0,0,7.7,0,0,7.33,0]
["Sdt C1","°C",0,0,0,0,0,0,0,0,0,34.51,0,0,0,36.22,0,0,36.25,0]
["Sdt C2","°C",0,0,0,0,0,0,0,0,0,33.78,0,0,0,34.24,0,0,34.11,0]
["Frequency C1","Hz",0,0,0,0,0,0,0,0,0,50,0,0,0,50,0,0,50,0]
["Frequency C2","Hz",0,0,0,0,0,0,0,0,0,33.33,0,0,0,50,0,0,33.33,0]
["Fan ON C1","-","0","0","0","0","0","0","0","0","0","2","0","0","0","2","0","0","2","0"]
["Fan ON C2","-","0","0","0","0","0","0","0","0","0","4","0","0","0","2","0","0","4","0"]
["Fan rpm C1","rpm",0,0,0,0,0,0,0,0,0,655,0,0,0,575,0,0,575,0]
["Fan rpm C2","rpm",0,0,0,0,0,0,0,0,0,590,0,0,0,669,0,0,575,0]
["Air Flow C1","m3/s",0,0,0,0,0,0,0,0,0,7.63,0,0,0,6.62,0,0,6.62,0]
["Air Flow C2","m3/s",0,0,0,0,0,0,0,0,0,13.62,0,0,0,7.81,0,0,13.24,0]
["Air Speed C1","m/s",0,0,0,0,0,0,0,0,0,1.72,0,0,0,1.49,0,0,1.49,0]
["Air Speed C2","m/s",0,0,0,0,0,0,0,0,0,1.53,0,0,0,1.76,0,0,1.49,0]
["Compressor n°1 C1","-","OFF","OFF","OFF","OFF","OFF","OFF","OFF","OFF","OFF","ON","OFF","OFF","OFF","ON","OFF","OFF","ON","OFF"]
["Compressor n°2 C1","-","OFF","OFF","OFF","OFF","OFF","OFF","OFF","OFF","OFF","OFF","OFF","OFF","OFF","OFF","OFF","OFF","OFF","OFF"]
["Compressor n°3 C1","-","OFF","OFF","OFF","OFF","OFF","OFF","OFF","OFF","OFF","OFF","OFF","OFF","OFF","OFF","OFF","OFF","OFF","OFF"]
["Compressor n°4 C1","-","OFF","OFF","OFF","OFF","OFF","OFF","OFF","OFF","OFF","OFF","OFF","OFF","OFF","OFF","OFF","OFF","OFF","OFF"]
["Compressor n°1 C2","-","OFF","OFF","OFF","OFF","OFF","OFF","OFF","OFF","OFF","ON","OFF","OFF","OFF","ON","OFF","OFF","ON","OFF"]
["Compressor n°2 C2","-","OFF","OFF","OFF","OFF","OFF","OFF","OFF","OFF","OFF","OFF","OFF","OFF","OFF","OFF","OFF","OFF","OFF","OFF"]
["Compressor n°3 C2","-","OFF","OFF","OFF","OFF","OFF","OFF","OFF","OFF","OFF","OFF","OFF","OFF","OFF","OFF","OFF","OFF","OFF","OFF"]
["Compressor n°4 C2","-","OFF","OFF","OFF","OFF","OFF","OFF","OFF","OFF","OFF","OFF","OFF","OFF","OFF","OFF","OFF","OFF","OFF","OFF"]
[]
["47% EER","%",5.28,5.0659999999999998,5.274,5.0590000000000002,5.5430000000000001,5.2489999999999997,5.2969999999999997,5.0910000000000002,5.43,"No Staging",5.4450000000000003,5.5010000000000003,5.5940000000000003,"No Staging",5.34,5.444,"No Staging",5.4580000000000002]
["47% StageUp"]
["Load","%",46.96,51.65,46.78,51.27,53.06,58.96,52.36,57,52.65,"No Staging",42.16,52.68,46.32,"No Staging",47.34,52.79,"No Staging",42.27]
["OAT","°C",25,25,25,25,25,25,25,25,25,"No Staging",25,25,25,"No Staging",25,25,"No Staging",25]
["EEWT","°C",15,15,15,15,15,15,15,15,15,"No Staging",15,15,15,"No Staging",15,15,"No Staging",15]
["ELWT","°C",10,10,10,10,10,10,10,10,10,"No Staging",10,10,10,"No Staging",10,10,"No Staging",10]
["EER","-",5.28,5.0659999999999998,5.274,5.0590000000000002,5.5430000000000001,5.2489999999999997,5.2969999999999997,5.0910000000000002,5.43,"No Staging",5.4450000000000003,5.5010000000000003,5.5940000000000003,"No Staging",5.34,5.444,"No Staging",5.4580000000000002]
["Capacity","kW",149.91999999999999,182.28,149.36000000000001,180.95,115.81,148.54,149.52000000000001,181.97,185.82,"No Staging",186.01,114.97,116.69,"No Staging",151.16,186.32,"No Staging",186.5]
["Evap. Flow","l/s",7.2,8.6999999999999993,7.1,8.6,5.5,7.1,7.1,8.6999999999999993,8.9,"No Staging",8.9,5.5,5.6,"No Staging",7.2,8.9,"No Staging",8.9]
["Evap. Pressure drop","kPa",15,21.5,14.9,21.2,14.1,14.7,11.2,16.2,16.899999999999999,"No Staging",16.899999999999999,14,9.5,"No Staging",11.5,17,"No Staging",17]
["PI (total)","kW",28.39,35.979999999999997,28.32,35.770000000000003,20.89,28.3,28.23,35.74,34.22,"No Staging",34.159999999999997,20.9,20.86,"No Staging",28.3,34.22,"No Staging",34.17]
["PI fan (total)","kW",3.94,5.12,3.58,4.2699999999999996,2.72,3.16,2.8,3.61,3.8,"No Staging",3.8,2.37,2.37,"No Staging",3.58,3.98,"No Staging",3.98]
["PI pump","kW","-","-","-","-","-","-","-","-","-","No Staging","-","-","-","No Staging","-","-","No Staging","-"]
["PI compressor C1","kW",9.11,15.47,9.07,15.78,9.1199999999999992,9.1300000000000008,9.4499999999999993,16.149999999999999,16.149999999999999,"No Staging",16.149999999999999,9.51,9.07,"No Staging",9.07,15.8,"No Staging",15.8]
["PI compressor C2","kW",15.47,15.47,15.78,15.78,9.1199999999999992,16.12,16.149999999999999,16.149999999999999,14.37,"No Staging",14.34,9.07,9.5299999999999994,"No Staging",15.8,14.5,"No Staging",14.47]
["PI fan C1","kW",1.38,2.56,1.45,2.13,1.36,1.36,1,1.8,1.8,"No Staging",1.8,0.92,1.45,"No Staging",1.45,2.13,"No Staging",2.13]
["PI fan C2","kW",2.56,2.56,2.13,2.13,1.36,1.8,1.8,1.8,1.99,"No Staging",1.99,1.45,0.92,"No Staging",2.13,1.85,"No Staging",1.85]
["T evap C1","°C",7.77,7.12,7.77,7.13,7.33,7.77,8.06,7.58,7.58,"No Staging",7.56,7.33,7.77,"No Staging",8.0399999999999991,7.57,"No Staging",7.54]
["T evap C2","°C",7.12,7.12,7.13,7.13,7.33,7.16,7.58,7.58,7.52,"No Staging",7.5,7.31,7.79,"No Staging",7.57,7.52,"No Staging",7.5]
["T cond C1","°C",34.19,36.119999999999997,34,36.869999999999997,34.130000000000003,34.24,35.69,37.85,37.85,"No Staging",37.840000000000003,35.840000000000003,34,"No Staging",34.07,37,"No Staging",37]
["T cond C2","°C",36.119999999999997,36.119999999999997,36.869999999999997,36.869999999999997,34.130000000000003,37.71,37.85,37.85,33.61,"No Staging",33.630000000000003,33.9,35.97,"No Staging",37,33.909999999999997,"No Staging",33.93]
["Dp suction C1","kPa",0.25,0.25,0.25,0.25,0.25,0.25,0.25,0.25,0.25,"No Staging",0.25,0.25,0.25,"No Staging",0.25,0.25,"No Staging",0.25]
["Dp suction C2","kPa",0.25,0.25,0.25,0.25,0.25,0.25,0.25,0.25,0.25,"No Staging",0.17,0.25,0.25,"No Staging",0.25,0.25,"No Staging",0.17]
["Dp discharge C1","kPa",0.2,0.2,0.2,0.2,0.2,0.2,0.2,0.2,0.2,"No Staging",0.2,0.2,0.2,"No Staging",0.2,0.2,"No Staging",0.2]
["Dp discharge C2","kPa",0.2,0.2,0.2,0.2,0.2,0.2,0.2,0.2,0.2,"No Staging",0.13,0.2,0.2,"No Staging",0.2,0.2,"No Staging",0.13]
["Sst C1","°C",7.52,6.87,7.52,6.88,7.08,7.52,7.81,7.33,7.33,"No Staging",7.31,7.08,7.52,"No Staging",7.79,7.32,"No Staging",7.29]
["Sst C2","°C",6.87,6.87,6.88,6.88,7.08,6.91,7.33,7.33,7.27,"No Staging",7.33,7.06,7.54,"No Staging",7.32,7.27,"No Staging",7.33]
["Sdt C1","°C",34.39,36.32,34.200000000000003,37.07,34.33,34.44,35.89,38.049999999999997,38.049999999999997,"No Staging",38.04,36.04,34.200000000000003,"No Staging",34.270000000000003,37.200000000000003,"No Staging",37.200000000000003]
["Sdt C2","°C",36.32,36.32,37.07,37.07,34.33,37.909999999999997,38.049999999999997,38.049999999999997,33.81,"No Staging",33.76,34.1,36.17,"No Staging",37.200000000000003,34.11,"No Staging",34.06]
["Frequency C1","Hz",0,0,0,0,0,0,0,0,0,"No Staging",0,0,0,"No Staging",0,0,"No Staging",0]
["Frequency C2","Hz",0,0,0,0,0,0,0,0,0,"No Staging",0,0,0,"No Staging",0,0,"No Staging",0]
["Fan ON C1","-","2","2","2","2","2","2","2","2","2","No Staging","2","2","2","No Staging","2","2","No Staging","2"]
["Fan ON C2","-","2","2","2","2","2","2","2","2","4","No Staging","4","2","2","No Staging","2","4","No Staging","4"]
["Fan rpm C1","rpm",658,810,669,762,655,655,590,720,720,"No Staging",720,575,669,"No Staging",669,762,"No Staging",762]
["Fan rpm C2","rpm",810,810,762,762,655,720,720,720,590,"No Staging",590,669,575,"No Staging",762,575,"No Staging",575]
["Air Flow C1","m3/s",7.67,9.59,7.81,8.98,7.63,7.63,6.81,8.4499999999999993,8.4499999999999993,"No Staging",8.4499999999999993,6.62,7.81,"No Staging",7.81,8.98,"No Staging",8.98]
["Air Flow C2","m3/s",9.59,9.59,8.98,8.98,7.63,8.4499999999999993,8.4499999999999993,8.4499999999999993,13.62,"No Staging",13.62,7.81,6.62,"No Staging",8.98,13.24,"No Staging",13.24]
["Air Speed C1","m/s",1.72,2.16,1.76,2.02,1.72,1.72,1.53,1.9,1.9,"No Staging",1.9,1.49,1.76,"No Staging",1.76,2.02,"No Staging",2.02]
["Air Speed C2","m/s",2.16,2.16,2.02,2.02,1.72,1.9,1.9,1.9,1.53,"No Staging",1.53,1.76,1.49,"No Staging",2.02,1.49,"No Staging",1.49]
["Compressor n°1 C1","-","ON","ON","ON","ON","ON","ON","ON","ON","ON","No Staging","ON","ON","ON","No Staging","ON","ON","No Staging","ON"]
["Compressor n°2 C1","-","OFF","OFF","OFF","OFF","OFF","OFF","OFF","OFF","OFF","No Staging","OFF","OFF","OFF","No Staging","OFF","OFF","No Staging","OFF"]
["Compressor n°3 C1","-","OFF","OFF","OFF","OFF","OFF","OFF","OFF","OFF","OFF","No Staging","OFF","OFF","OFF","No Staging","OFF","OFF","No Staging","OFF"]
["Compressor n°4 C1","-","OFF","OFF","OFF","OFF","OFF","OFF","OFF","OFF","OFF","No Staging","OFF","OFF","OFF","No Staging","OFF","OFF","No Staging","OFF"]
["Compressor n°1 C2","-","ON","ON","ON","ON","ON","ON","ON","ON","ON","No Staging","ON","ON","ON","No Staging","ON","ON","No Staging","ON"]
["Compressor n°2 C2","-","OFF","OFF","OFF","OFF","OFF","OFF","OFF","OFF","OFF","No Staging","OFF","OFF","OFF","No Staging","OFF","OFF","No Staging","OFF"]
["Compressor n°3 C2","-","OFF","OFF","OFF","OFF","OFF","OFF","OFF","OFF","OFF","No Staging","OFF","OFF","OFF","No Staging","OFF","OFF","No Staging","OFF"]
["Compressor n°4 C2","-","OFF","OFF","OFF","OFF","OFF","OFF","OFF","OFF","OFF","No Staging","OFF","OFF","OFF","No Staging","OFF","OFF","No Staging","OFF"]
[]
["47% EER","%",5.484,5.0599999999999996,5.42,5.0519999999999996,5.4530000000000003,5.48,5.4960000000000004,5.5010000000000003,5.7539999999999996,"No Staging",5.7880000000000003,5.391,5.4139999999999997,"No Staging",5.43,5.7380000000000004,"No Staging",5.7709999999999999]
["47% StageDown"]
["Load","%",17.95,25.63,17.66,25.44,26.07,22.74,20.149999999999999,18.02,26.54,"No Staging",21.3,25.67,22.38,"No Staging",17.739999999999998,26.46,"No Staging",21.24]
["OAT","°C",25,25,25,25,25,25,25,25,25,"No Staging",25,25,25,"No Staging",25,25,"No Staging",25]
["EEWT","°C",12.7,14.18,12.66,14.16,13.36,12.69,12.3,12.3,13.78,"No Staging",13.78,13.32,12.66,"No Staging",12.26,13.76,"No Staging",13.78]
["ELWT","°C",10,10,10,10,10,10,10,10,10,"No Staging",10,10,10,"No Staging",10,10,"No Staging",10]
["EER","-",5.484,5.0599999999999996,5.42,5.0519999999999996,5.4530000000000003,5.48,5.4960000000000004,5.5010000000000003,5.7539999999999996,"No Staging",5.7880000000000003,5.391,5.4139999999999997,"No Staging",5.43,5.7380000000000004,"No Staging",5.7709999999999999]
["Capacity","kW",57.31,90.46,56.39,89.78,56.9,57.28,57.54,57.54,93.66,"No Staging",93.97,56.02,56.39,"No Staging",56.63,93.39,"No Staging",93.7]
["Evap. Flow","l/s",5.0999999999999996,5.2,5.0999999999999996,5.2,4,5.0999999999999996,6,6,5.9,"No Staging",5.9,4,5.0999999999999996,"No Staging",6,5.9,"No Staging",5.9]
["Evap. Pressure drop","kPa",8,8.1999999999999993,8,8.1999999999999993,8,8,8.1,8.1,7.9,"No Staging",8,8,8,"No Staging",8.1,7.9,"No Staging",7.9]
["PI (total)","kW",10.45,17.88,10.4,17.77,10.43,10.45,10.47,10.46,16.28,"No Staging",16.239999999999998,10.39,10.42,"No Staging",10.43,16.27,"No Staging",16.239999999999998]
["PI fan (total)","kW",1.38,2.56,0.92,2.13,1.36,1.36,1.36,1.36,1.99,"No Staging",1.99,0.92,0.92,"No Staging",0.92,1.85,"No Staging",1.85]
["PI pump","kW","-","-","-","-","-","-","-","-","-","No Staging","-","-","-","No Staging","-","-","No Staging","-"]
["PI compressor C1","kW",9.1,15.46,9.5,0,0,9.1199999999999992,9.1199999999999992,9.1199999999999992,0,"No Staging",0,0,0,"No Staging",9.51,0,"No Staging",0]
["PI compressor C2","kW",0,0,0,15.76,9.11,0,0,0,14.37,"No Staging",14.35,9.5,9.5,"No Staging",0,14.5,"No Staging",14.47]
["PI fan C1","kW",1.38,2.56,0.92,0,0,1.36,1.36,1.36,0,"No Staging",0,0,0,"No Staging",0.92,0,"No Staging",0]
["PI fan C2","kW",0,0,0,2.13,1.36,0,0,0,1.99,"No Staging",1.99,0.92,0.92,"No Staging",0,1.85,"No Staging",1.85]
["T evap C1","°C",7,6.86,7.01,0,0,7,7.15,7.15,0,"No Staging",0,0,0,"No Staging",7.15,0,"No Staging",0]
["T evap C2","°C",0,0,0,6.87,6.79,0,0,0,7.12,"No Staging",7.12,6.79,7.01,"No Staging",0,7.12,"No Staging",7.12]
["T cond C1","°C",34,36.04,35.74,0,0,34.049999999999997,34.090000000000003,34.090000000000003,0,"No Staging",0,0,0,"No Staging",35.78,0,"No Staging",0]
["T cond C2","°C",0,0,0,36.78,34,0,0,0,33.520000000000003,"No Staging",33.54,35.68,35.74,"No Staging",0,33.81,"No Staging",33.840000000000003]
["Dp suction C1","kPa",0.25,0.25,0.25,0,0,0.25,0.25,0.25,0,"No Staging",0,0,0,"No Staging",0.25,0,"No Staging",0]
["Dp suction C2","kPa",0,0,0,0.25,0.25,0,0,0,0.25,"No Staging",0.17,0.25,0.25,"No Staging",0,0.25,"No Staging",0.17]
["Dp discharge C1","kPa",0.2,0.2,0.2,0,0,0.2,0.2,0.2,0,"No Staging",0,0,0,"No Staging",0.2,0,"No Staging",0]
["Dp discharge C2","kPa",0,0,0,0.2,0.2,0,0,0,0.2,"No Staging",0.13,0.2,0.2,"No Staging",0,0.2,"No Staging",0.13]
["Sst C1","°C",6.75,6.61,6.76,0,0,6.75,6.9,6.9,0,"No Staging",0,0,0,"No Staging",6.9,0,"No Staging",0]
["Sst C2","°C",0,0,0,6.62,6.54,0,0,0,6.87,"No Staging",6.95,6.54,6.76,"No Staging",0,6.87,"No Staging",6.95]
["Sdt C1","°C",34.200000000000003,36.24,35.94,0,0,34.25,34.29,34.29,0,"No Staging",0,0,0,"No Staging",35.979999999999997,0,"No Staging",0]
["Sdt C2","°C",0,0,0,36.979999999999997,34.200000000000003,0,0,0,33.72,"No Staging",33.67,35.880000000000003,35.94,"No Staging",0,34.01,"No Staging",33.97]
["Frequency C1","Hz",0,0,0,0,0,0,0,0,0,"No Staging",0,0,0,"No Staging",0,0,"No Staging",0]
["Frequency C2","Hz",0,0,0,0,0,0,0,0,0,"No Staging",0,0,0,"No Staging",0,0,"No Staging",0]
["Fan ON C1","-","2","2","2","2","2","2","2","2","2","No Staging","2","2","2","No Staging","2","2","No Staging","2"]
["Fan ON C2","-","2","2","2","2","2","2","2","2","4","No Staging","4","2","2","No Staging","2","4","No Staging","4"]
["Fan rpm C1","rpm",658,810,575,0,0,655,655,655,0,"No Staging",0,0,0,"No Staging",575,0,"No Staging",0]
["Fan rpm C2","rpm",0,0,0,762,655,0,0,0,590,"No Staging",590,575,575,"No Staging",0,575,"No Staging",575]
["Air Flow C1","m3/s",7.67,9.59,6.62,0,0,7.63,7.63,7.63,0,"No Staging",0,0,0,"No Staging",6.62,0,"No Staging",0]
["Air Flow C2","m3/s",0,0,0,8.98,7.63,0,0,0,13.62,"No Staging",13.62,6.62,6.62,"No Staging",0,13.24,"No Staging",13.24]
["Air Speed C1","m/s",1.72,2.16,1.49,0,0,1.72,1.72,1.72,0,"No Staging",0,0,0,"No Staging",1.49,0,"No Staging",0]
["Air Speed C2","m/s",0,0,0,2.02,1.72,0,0,0,1.53,"No Staging",1.53,1.49,1.49,"No Staging",0,1.49,"No Staging",1.49]
["Compressor n°1 C1","-","ON","ON","ON","ON","ON","ON","ON","ON","ON","No Staging","ON","ON","ON","No Staging","ON","ON","No Staging","ON"]
["Compressor n°2 C1","-","OFF","OFF","OFF","OFF","OFF","OFF","OFF","OFF","OFF","No Staging","OFF","OFF","OFF","No Staging","OFF","OFF","No Staging","OFF"]
["Compressor n°3 C1","-","OFF","OFF","OFF","OFF","OFF","OFF","OFF","OFF","OFF","No Staging","OFF","OFF","OFF","No Staging","OFF","OFF","No Staging","OFF"]
["Compressor n°4 C1","-","OFF","OFF","OFF","OFF","OFF","OFF","OFF","OFF","OFF","No Staging","OFF","OFF","OFF","No Staging","OFF","OFF","No Staging","OFF"]
["Compressor n°1 C2","-","ON","ON","ON","ON","ON","ON","ON","ON","ON","No Staging","ON","ON","ON","No Staging","ON","ON","No Staging","ON"]
["Compressor n°2 C2","-","OFF","OFF","OFF","OFF","OFF","OFF","OFF","OFF","OFF","No Staging","OFF","OFF","OFF","No Staging","OFF","OFF","No Staging","OFF"]
["Compressor n°3 C2","-","OFF","OFF","OFF","OFF","OFF","OFF","OFF","OFF","OFF","No Staging","OFF","OFF","OFF","No Staging","OFF","OFF","No Staging","OFF"]
["Compressor n°4 C2","-","OFF","OFF","OFF","OFF","OFF","OFF","OFF","OFF","OFF","No Staging","OFF","OFF","OFF","No Staging","OFF","OFF","No Staging","OFF"]
[]
["Calculation Error","-","No Error","No Error","No Error","No Error","No Error","No Error","No Error","No Error","No Error","No Error","No Error","No Error","No Error","No Error","No Error","No Error","No Error","No Error"]
["21% EER","%",6.5730000000000004,5.73,6.55,5.7679999999999998,6.2249999999999996,6.4080000000000004,6.5449999999999999,6.5990000000000002,6.7039999999999997,6.9329999999999998,6.9459999999999997,6.22,6.3920000000000003,6.524,6.5890000000000004,6.75,6.9820000000000002,7.0069999999999997]
["21% Solution"]
["Load","%",21,21,21,21,21,21,21,21,21,21,21,21,21,21,21,21,21,21]
["OAT","°C",20,20,20,20,20,20,20,20,20,20,20,20,20,20,20,20,20,20]
["EEWT","°C",16.5,16.5,16.5,16.5,16.5,16.5,16.5,16.5,16.5,16.5,16.5,16.5,16.5,16.5,16.5,16.5,16.5,16.5]
["ELWT","°C",11.5,11.5,11.5,11.5,11.5,11.5,11.5,11.5,11.5,11.5,11.5,11.5,11.5,11.5,11.5,11.5,11.5,11.5]
["EER","-",6.5730000000000004,5.73,6.55,5.7679999999999998,6.2249999999999996,6.4080000000000004,6.5449999999999999,6.5990000000000002,6.7039999999999997,6.9329999999999998,6.9459999999999997,6.22,6.3920000000000003,6.524,6.5890000000000004,6.75,6.9820000000000002,7.0069999999999997]
["Capacity","kW",49.83,53.55,51.53,55.61,35.97,40.75,45.49,48.93,56.25,63.81,67.27,37.450000000000003,42.87,48.28,52.48,59.4,67.349999999999994,71.55]
["Evap. Flow","l/s",5.2,5.2,5.2,5.2,4.0999999999999996,5.2,6,6,6,6,6,4.0999999999999996,5.2,6,6,6,6,6]
["Evap. Pressure drop","kPa",8.4,8.4,8.4,8.4,8.3000000000000007,8.4,8.1,8.1,8.1,8.1,8.1,8.3000000000000007,8.4,8.1,8.1,8.1,3.7,8.1]
["PI (total)","kW",7.58,9.35,7.87,9.64,5.78,6.36,6.95,7.41,8.39,9.1999999999999993,9.68,6.02,6.71,7.4,7.96,8.8000000000000007,9.65,10.210000000000001]
["PI fan (total)","kW",0,0,0,0,0,0,0,0,0,0,0,0,0,0,0,0,0,0]
["PI pump","kW","-","-","-","-","-","-","-","-","-","-","-","-","-","-","-","-","-","-"]
["PI compressor C1","kW",0,0,0,0,0,0,0,0,0,0,0,0,0,0,0,0,0,0]
["PI compressor C2","kW",0,0,0,0,0,0,0,0,0,0,0,0,0,0,0,0,0,0]
["PI fan C1","kW",0,0,0,0,0,0,0,0,0,0,0,0,0,0,0,0,0,0]
["PI fan C2","kW",0,0,0,0,0,0,0,0,0,0,0,0,0,0,0,0,0,0]
["T evap C1","°C",0,0,0,0,0,0,0,0,0,0,0,0,0,0,0,0,0,0]
["T evap C2","°C",0,0,0,0,0,0,0,0,0,0,0,0,0,0,0,0,0,0]
["T cond C1","°C",0,0,0,0,0,0,0,0,0,0,0,0,0,0,0,0,0,0]
["T cond C2","°C",0,0,0,0,0,0,0,0,0,0,0,0,0,0,0,0,0,0]
["Dp suction C1","kPa",0,0,0,0,0,0,0,0,0,0,0,0,0,0,0,0,0,0]
["Dp suction C2","kPa",0,0,0,0,0,0,0,0,0,0,0,0,0,0,0,0,0,0]
["Dp discharge C1","kPa",0,0,0,0,0,0,0,0,0,0,0,0,0,0,0,0,0,0]
["Dp discharge C2","kPa",0,0,0,0,0,0,0,0,0,0,0,0,0,0,0,0,0,0]
["Sst C1","°C",0,0,0,0,0,0,0,0,0,0,0,0,0,0,0,0,0,0]
["Sst C2","°C",0,0,0,0,0,0,0,0,0,0,0,0,0,0,0,0,0,0]
["Sdt C1","°C",0,0,0,0,0,0,0,0,0,0,0,0,0,0,0,0,0,0]
["Sdt C2","°C",0,0,0,0,0,0,0,0,0,0,0,0,0,0,0,0,0,0]
["Frequency C1","Hz",0,0,0,0,0,0,0,0,0,0,0,0,0,0,0,0,0,0]
["Frequency C2","Hz",0,0,0,0,0,0,0,0,0,0,0,0,0,0,0,0,0,0]
["Fan ON C1","-","0","0","0","0","0","0","0","0","0","0","0","0","0","0","0","0","0","0"]
["Fan ON C2","-","0","0","0","0","0","0","0","0","0","0","0","0","0","0","0","0","0","0"]
["Fan rpm C1","rpm",0,0,0,0,0,0,0,0,0,0,0,0,0,0,0,0,0,0]
["Fan rpm C2","rpm",0,0,0,0,0,0,0,0,0,0,0,0,0,0,0,0,0,0]
["Air Flow C1","m3/s",0,0,0,0,0,0,0,0,0,0,0,0,0,0,0,0,0,0]
["Air Flow C2","m3/s",0,0,0,0,0,0,0,0,0,0,0,0,0,0,0,0,0,0]
["Air Speed C1","m/s",0,0,0,0,0,0,0,0,0,0,0,0,0,0,0,0,0,0]
["Air Speed C2","m/s",0,0,0,0,0,0,0,0,0,0,0,0,0,0,0,0,0,0]
["Compressor n°1 C1","-","OFF","OFF","OFF","OFF","OFF","OFF","OFF","OFF","OFF","OFF","OFF","OFF","OFF","OFF","OFF","OFF","OFF","OFF"]
["Compressor n°2 C1","-","OFF","OFF","OFF","OFF","OFF","OFF","OFF","OFF","OFF","OFF","OFF","OFF","OFF","OFF","OFF","OFF","OFF","OFF"]
["Compressor n°3 C1","-","OFF","OFF","OFF","OFF","OFF","OFF","OFF","OFF","OFF","OFF","OFF","OFF","OFF","OFF","OFF","OFF","OFF","OFF"]
["Compressor n°4 C1","-","OFF","OFF","OFF","OFF","OFF","OFF","OFF","OFF","OFF","OFF","OFF","OFF","OFF","OFF","OFF","OFF","OFF","OFF"]
["Compressor n°1 C2","-","OFF","OFF","OFF","OFF","OFF","OFF","OFF","OFF","OFF","OFF","OFF","OFF","OFF","OFF","OFF","OFF","OFF","OFF"]
["Compressor n°2 C2","-","OFF","OFF","OFF","OFF","OFF","OFF","OFF","OFF","OFF","OFF","OFF","OFF","OFF","OFF","OFF","OFF","OFF","OFF"]
["Compressor n°3 C2","-","OFF","OFF","OFF","OFF","OFF","OFF","OFF","OFF","OFF","OFF","OFF","OFF","OFF","OFF","OFF","OFF","OFF","OFF"]
["Compressor n°4 C2","-","OFF","OFF","OFF","OFF","OFF","OFF","OFF","OFF","OFF","OFF","OFF","OFF","OFF","OFF","OFF","OFF","OFF","OFF"]
[]
["21% EER","%",6.65,5.9420000000000002,6.61,5.9619999999999997,6.4269999999999996,6.5640000000000001,6.66,6.6859999999999999,6.9470000000000001,7.1239999999999997,7.11,6.3970000000000002,6.52,6.61,6.6440000000000001,6.9649999999999999,7.1479999999999997,7.1420000000000003]
["21% StageUp"]
["Load","%",17.41,23.85,17.22,23.77,24.67,21.82,19.52,17.510000000000002,24.85,21.97,20.239999999999998,24.41,21.58,19.309999999999999,17.350000000000001,24.89,22.01,20.3]
["OAT","°C",20,20,20,20,20,20,20,20,20,20,20,20,20,20,20,20,20,20]
["EEWT","°C",13.73,13.77,13.89,13.88,13.41,13.27,13.25,13.4,13.49,13.92,14.08,13.52,13.38,13.38,13.56,13.64,14.08,14.26]
["ELWT","°C",10.89,9.3800000000000008,11.02,9.51,9.94,10.47,10.78,10.92,9.6199999999999992,9.8800000000000008,10.050000000000001,10.09,10.61,10.94,11.11,9.76,10.029999999999999,10.23]
["EER","-",6.65,5.9420000000000002,6.61,5.9619999999999997,6.4269999999999996,6.5640000000000001,6.66,6.6859999999999999,6.9470000000000001,7.1239999999999997,7.11,6.3970000000000002,6.52,6.61,6.6440000000000001,6.9649999999999999,7.1479999999999997,7.1420000000000003]
["Capacity","kW",61.51,93.23,60.83,92.9,59.31,60.68,61.62,61.88,97.13,99.08,98.89,58.69,60.01,60.95,61.28,97.28,99.26,99.17]
["Evap. Flow","l/s",5.2,5.0999999999999996,5.0999999999999996,5.0999999999999996,4.0999999999999996,5.2,6,6,6,5.8,5.8,4.0999999999999996,5.2,6,6,6,5.9,5.9]
["Evap. Pressure drop","kPa",8.3000000000000007,8,8,8,8.1999999999999993,8.3000000000000007,8,8,8.1,7.8,7.8,8.1999999999999993,8.3000000000000007,8,8,8.1,7.8,7.8]
["PI (total)","kW",9.25,15.69,9.1999999999999993,15.58,9.23,9.24,9.25,9.25,13.98,13.91,13.91,9.17,9.1999999999999993,9.2200000000000006,9.2200000000000006,13.97,13.89,13.89]
["PI fan (total)","kW",1.4,2.6,0.94,2.17,1.38,1.38,1.38,1.38,2.0299999999999998,2.0299999999999998,2.0299999999999998,0.94,0.94,0.94,0.94,1.88,1.88,1.88]
["PI pump","kW","-","-","-","-","-","-","-","-","-","-","-","-","-","-","-","-","-","-"]
["PI compressor C1","kW",7.99,0,8.41,0,8,8,7.99,8,0,0,0,0,8.4,8.41,8.41,0,0,0]
["PI compressor C2","kW",0,13.41,0,13.73,0,0,0,0,12.21,12.14,12.15,8.39,0,0,0,12.35,12.27,12.27]
["PI fan C1","kW",1.4,0,0.94,0,1.38,1.38,1.38,1.38,0,0,0,0,0.94,0.94,0.94,0,0,0]
["PI fan C2","kW",0,2.6,0,2.17,0,0,0,0,2.0299999999999998,2.0299999999999998,2.0299999999999998,0.94,0,0,0,1.88,1.88,1.88]
["T evap C1","°C",7.85,0,8,0,6.7,7.43,7.91,8.0500000000000007,0,0,0,0,7.57,8.07,8.24,0,0,0]
["T evap C2","°C",0,6.26,0,6.38,0,0,0,0,6.72,7.24,7.18,6.85,0,0,0,6.86,7.39,7.36]
["T cond C1","°C",29.36,0,31.2,0,29.1,29.29,29.41,29.47,0,0,0,0,31.07,31.22,31.28,0,0,0]
["T cond C2","°C",0,31.05,0,31.83,0,0,0,0,28.55,28.7,28.68,30.86,0,0,0,28.89,29.03,29.01]
["Dp suction C1","kPa",0.25,0,0.25,0,0.25,0.25,0.25,0.25,0,0,0,0,0.25,0.25,0.25,0,0,0]
["Dp suction C2","kPa",0,0.25,0,0.25,0,0,0,0,0.25,0.17,0.17,0.25,0,0,0,0.25,0.17,0.17]
["Dp discharge C1","kPa",0.2,0,0.2,0,0.2,0.2,0.2,0.2,0,0,0,0,0.2,0.2,0.2,0,0,0]
["Dp discharge C2","kPa",0,0.2,0,0.2,0,0,0,0,0.2,0.13,0.13,0.2,0,0,0,0.2,0.13,0.13]
["Sst C1","°C",7.6,0,7.75,0,6.45,7.18,7.66,7.8,0,0,0,0,7.32,7.82,7.99,0,0,0]
["Sst C2","°C",0,6.01,0,6.13,0,0,0,0,6.47,7.07,7.01,6.6,0,0,0,6.61,7.22,7.19]
["Sdt C1","°C",29.56,0,31.4,0,29.3,29.49,29.61,29.67,0,0,0,0,31.27,31.42,31.48,0,0,0]
["Sdt C2","°C",0,31.25,0,32.03,0,0,0,0,28.75,28.83,28.81,31.06,0,0,0,29.09,29.16,29.14]
["Frequency C1","Hz",0,0,0,0,0,0,0,0,0,0,0,0,0,0,0,0,0,0]
["Frequency C2","Hz",0,0,0,0,0,0,0,0,0,0,0,0,0,0,0,0,0,0]
["Fan ON C1","-","2","0","2","0","2","2","2","2","0","0","0","0","2","2","2","0","0","0"]
["Fan ON C2","-","0","2","0","2","0","0","0","0","4","4","4","2","0","0","0","4","4","4"]
["Fan rpm C1","rpm",658,810,575,762,655,655,655,655,720,655,720,575,575,575,575,762,575,762]
["Fan rpm C2","rpm",810,810,762,762,655,720,655,720,590,590,590,575,762,669,762,575,575,575]
["Air Flow C1","m3/s",7.72,0,6.66,0,7.68,7.68,7.68,7.68,0,0,0,0,6.66,6.66,6.66,0,0,0]
["Air Flow C2","m3/s",0,9.64,0,9.0299999999999994,0,0,0,0,13.71,13.71,13.71,6.66,0,0,0,13.32,13.32,13.32]
["Air Speed C1","m/s",1.73,0,1.5,0,1.73,1.73,1.73,1.73,0,0,0,0,1.5,1.5,1.5,0,0,0]
["Air Speed C2","m/s",0,2.17,0,2.0299999999999998,0,0,0,0,1.54,1.54,1.54,1.5,0,0,0,1.5,1.5,1.5]
["Compressor n°1 C1","-","ON","OFF","ON","OFF","ON","ON","ON","ON","OFF","OFF","OFF","OFF","ON","ON","ON","OFF","OFF","OFF"]
["Compressor n°2 C1","-","OFF","OFF","OFF","OFF","OFF","OFF","OFF","OFF","OFF","OFF","OFF","OFF","OFF","OFF","OFF","OFF","OFF","OFF"]
["Compressor n°3 C1","-","OFF","OFF","OFF","OFF","OFF","OFF","OFF","OFF","OFF","OFF","OFF","OFF","OFF","OFF","OFF","OFF","OFF","OFF"]
["Compressor n°4 C1","-","OFF","OFF","OFF","OFF","OFF","OFF","OFF","OFF","OFF","OFF","OFF","OFF","OFF","OFF","OFF","OFF","OFF","OFF"]
["Compressor n°1 C2","-","OFF","ON","OFF","ON","OFF","OFF","OFF","OFF","ON","ON","ON","ON","OFF","OFF","OFF","ON","ON","ON"]
["Compressor n°2 C2","-","OFF","OFF","OFF","OFF","OFF","OFF","OFF","OFF","OFF","OFF","OFF","OFF","OFF","OFF","OFF","OFF","OFF","OFF"]
["Compressor n°3 C2","-","OFF","OFF","OFF","OFF","OFF","OFF","OFF","OFF","OFF","OFF","OFF","OFF","OFF","OFF","OFF","OFF","OFF","OFF"]
["Compressor n°4 C2","-","OFF","OFF","OFF","OFF","OFF","OFF","OFF","OFF","OFF","OFF","OFF","OFF","OFF","OFF","OFF","OFF","OFF","OFF"]
[]
["21% EER","%",0,0,0,0,0,0,0,0,0,0,0,0,0,0,0,0,0,0]
["21% StageDown"]
["Load","%",0,0,0,0,0,0,0,0,0,0,0,0,0,0,0,0,0,0]
["OAT","°C",20,20,20,20,20,20,20,20,20,20,20,20,20,20,20,20,20,20]
["EEWT","°C",0,0,0,0,0,0,0,0,0,0,0,0,0,0,0,0,0,0]
["ELWT","°C",0,0,0,0,0,0,0,0,0,0,0,0,0,0,0,0,0,0]
["EER","-",0,0,0,0,0,0,0,0,0,0,0,0,0,0,0,0,0,0]
["Capacity","kW",0,0,0,0,0,0,0,0,0,0,0,0,0,0,0,0,0,0]
["Evap. Flow","l/s",0,0,0,0,0,0,0,0,0,0,0,0,0,0,0,0,0,0]
["Evap. Pressure drop","kPa",0,0,0,0,0,0,0,0,0,0,0,0,0,0,0,0,0,0]
["PI (total)","kW",0,0,0,0,0,0,0,0,0,0,0,0,0,0,0,0,0,0]
["PI fan (total)","kW",0,0,0,0,0,0,0,0,0,0,0,0,0,0,0,0,0,0]
["PI pump","kW","-","-","-","-","-","-","-","-","-","-","-","-","-","-","-","-","-","-"]
["PI compressor C1","kW",0,0,0,0,0,0,0,0,0,0,0,0,0,0,0,0,0,0]
["PI compressor C2","kW",0,0,0,0,0,0,0,0,0,0,0,0,0,0,0,0,0,0]
["PI fan C1","kW",0,0,0,0,0,0,0,0,0,0,0,0,0,0,0,0,0,0]
["PI fan C2","kW",0,0,0,0,0,0,0,0,0,0,0,0,0,0,0,0,0,0]
["T evap C1","°C",0,0,0,0,0,0,0,0,0,0,0,0,0,0,0,0,0,0]
["T evap C2","°C",0,0,0,0,0,0,0,0,0,0,0,0,0,0,0,0,0,0]
["T cond C1","°C",0,0,0,0,0,0,0,0,0,0,0,0,0,0,0,0,0,0]
["T cond C2","°C",0,0,0,0,0,0,0,0,0,0,0,0,0,0,0,0,0,0]
["Dp suction C1","kPa",0,0,0,0,0,0,0,0,0,0,0,0,0,0,0,0,0,0]
["Dp suction C2","kPa",0,0,0,0,0,0,0,0,0,0,0,0,0,0,0,0,0,0]
["Dp discharge C1","kPa",0,0,0,0,0,0,0,0,0,0,0,0,0,0,0,0,0,0]
["Dp discharge C2","kPa",0,0,0,0,0,0,0,0,0,0,0,0,0,0,0,0,0,0]
["Sst C1","°C",0,0,0,0,0,0,0,0,0,0,0,0,0,0,0,0,0,0]
["Sst C2","°C",0,0,0,0,0,0,0,0,0,0,0,0,0,0,0,0,0,0]
["Sdt C1","°C",0,0,0,0,0,0,0,0,0,0,0,0,0,0,0,0,0,0]
["Sdt C2","°C",0,0,0,0,0,0,0,0,0,0,0,0,0,0,0,0,0,0]
["Frequency C1","Hz",0,0,0,0,0,0,0,0,0,0,0,0,0,0,0,0,0,0]
["Frequency C2","Hz",0,0,0,0,0,0,0,0,0,0,0,0,0,0,0,0,0,0]
["Fan ON C1","-","2","0","2","0","2","2","2","2","0","0","0","0","2","2","2","0","0","0"]
["Fan ON C2","-","0","2","0","2","0","0","0","0","4","4","4","2","0","0","0","4","4","4"]
["Fan rpm C1","rpm",0,0,0,0,0,0,0,0,0,0,0,0,0,0,0,0,0,0]
["Fan rpm C2","rpm",0,0,0,0,0,0,0,0,0,0,0,0,0,0,0,0,0,0]
["Air Flow C1","m3/s",0,0,0,0,0,0,0,0,0,0,0,0,0,0,0,0,0,0]
["Air Flow C2","m3/s",0,0,0,0,0,0,0,0,0,0,0,0,0,0,0,0,0,0]
["Air Speed C1","m/s",0,0,0,0,0,0,0,0,0,0,0,0,0,0,0,0,0,0]
["Air Speed C2","m/s",0,0,0,0,0,0,0,0,0,0,0,0,0,0,0,0,0,0]
["Compressor n°1 C1","-","ON","OFF","ON","OFF","ON","ON","ON","ON","OFF","OFF","OFF","OFF","ON","ON","ON","OFF","OFF","OFF"]
["Compressor n°2 C1","-","OFF","OFF","OFF","OFF","OFF","OFF","OFF","OFF","OFF","OFF","OFF","OFF","OFF","OFF","OFF","OFF","OFF","OFF"]
["Compressor n°3 C1","-","OFF","OFF","OFF","OFF","OFF","OFF","OFF","OFF","OFF","OFF","OFF","OFF","OFF","OFF","OFF","OFF","OFF","OFF"]
["Compressor n°4 C1","-","OFF","OFF","OFF","OFF","OFF","OFF","OFF","OFF","OFF","OFF","OFF","OFF","OFF","OFF","OFF","OFF","OFF","OFF"]
["Compressor n°1 C2","-","OFF","ON","OFF","ON","OFF","OFF","OFF","OFF","ON","ON","ON","ON","OFF","OFF","OFF","ON","ON","ON"]
["Compressor n°2 C2","-","OFF","OFF","OFF","OFF","OFF","OFF","OFF","OFF","OFF","OFF","OFF","OFF","OFF","OFF","OFF","OFF","OFF","OFF"]
["Compressor n°3 C2","-","OFF","OFF","OFF","OFF","OFF","OFF","OFF","OFF","OFF","OFF","OFF","OFF","OFF","OFF","OFF","OFF","OFF","OFF"]
["Compressor n°4 C2","-","OFF","OFF","OFF","OFF","OFF","OFF","OFF","OFF","OFF","OFF","OFF","OFF","OFF","OFF","OFF","OFF","OFF","OFF"]
["nominal air flow",null,{"$f":"(C70)*3600","v":34092},{"$f":"(D70)*3600","v":34092},{"$f":"(E70)*3600","v":40500},{"$f":"(F70+F71)*3600","v":81000},60120,{"$f":"(H70+H71)*3600","v":60120},{"$f":"(I70+I71)*3600","v":60120},{"$f":"(J70+J71)*3600","v":60120},90179.999999999985,90179.999999999985,90179.999999999985,81000,81000,81000,81000,121536.00000000001,121536.00000000001,121536.00000000001]
["Sound Power","dB(A)",87.5,87.6,92.3,92.6,82.8,83,83.1,83.3,84.9,84.9,85,91.2,91.6,91.9,92.3,93.6,93.8,94]

{"sheet":"Foglio4","index":2,"n_rows":26,"n_cols":10,"rows_kept":26,"cut":false,"hidden":false,"merged":[[24,1,24,9],[25,2,25,9],[8,1,8,4],[8,6,8,9],[15,1,15,9],[19,1,19,9],[20,2,20,4],[21,6,22,6],[5,1,5,9],[0,1,0,9],[1,1,1,9],[2,1,2,9],[3,1,3,9],[4,1,4,9]]}
[null,"Information requirements for comfort chillers"]
[null,{"$f":"Foglio2!D14","v":"EWFT270B-SRC2"}]
[null,"Outdoor side heat exchanger of air conditioner: Air"]
[null,"Indoor side heat exchanger of air conditioner: water"]
[null,"Type: Scroll"]
[null,"Driver of compressor: Electric"]
[null,"Item","Symbol","Value","Unit",null,"Item","Symbol","Value","Unit"]
[null,"Rated cooling\ncapacity","Prated,c",{"$f":"Foglio2!D42","v":255},"kW",null,"Seasonal space\ncooling energy\nefficiency","ηs,c",{"$f":"Foglio2!D7","v":177.32},"%"]
[null,"Declared cooling capacity for part load at given outdoor temperatures\nTj and indoor 27°/19 °C (dry/wet bulb)",null,null,null,null,"Declared energy efficiency ratio or gas utilisation efficiency/auxiliary\nenergy factor for part load at given outdoor temperatures Tj"]
[null,"Tj = + 35 °C","Pdc",{"$f":"Foglio2!D42","v":255},"kW",null,"Tj = + 35 °C","EERd or GUEc,bin\n/AEFc,bin",{"$f":"Foglio2!D35","v":2.6269999999999998}]
[null,"Tj = + 30 °C","Pdc",{"$f":"Foglio2!D91","v":188.7},"kW",null,"Tj = + 30 °C","EERd or GUEc,bin\n/AEFc,bin",{"$f":"Foglio2!D84","v":3.8159999999999998}]
[null,"Tj = + 25 °C","Pdc",{"$f":"Foglio2!D236","v":119.85},"kW",null,"Tj = + 25 °C","EERd or GUEc,bin\n/AEFc,bin",{"$f":"Foglio2!D229","v":5.0629999999999997}]
[null,"Tj = + 20 °C","Pdc",{"$f":"Foglio2!D381","v":53.55},"kW",null,"Tj = + 20 °C","EERd or GUEc,bin\n/AEFc,bin",{"$f":"Foglio2!D374","v":5.73}]
[]
[null,"Degradation coefficient\nfor air\nconditioners (*9)","\nCdc","\n0.95","\n—"]
[null,"Power consumption in modes other than ‘active mode’"]
[null,"Off mode","POFF",{"$f":"Foglio2!D32","v":0},"kW",null,"Crankcase heater\nmode","PCK",{"$f":"Foglio2!D31","v":0},"kW"]
[null,"Thermostat-off\nmode","PTO",{"$f":"Foglio2!D29","v":0.12},"kW",null,"Standby mode","PSB",{"$f":"Foglio2!D30","v":0.2},"kW"]
[]
[null,"Other items"]
[null,"Capacity control","Step",null,null,null,"For air-to-water\ncomfort chillers: air\nflow rate, outdoor\nmeasured","—",{"$f":"Foglio2!D517","v":34092},"m3/h"]
[null,"Sound power level,\noutdoor","LWA ",{"$f":"Foglio2!D518","v":87.6},"dB",null,"For water/brine-towater\nchillers:\nRated brine or water\nflow rate, outdoor\nside heat exchanger","—",null,"m3/h"]
[null,"Emissions of\nnitrogen oxides (if\napplicable)","NOx (*10)",null,"mg/kWh\ninput GCV"]
[null,"GWP of the\nrefrigerant",null,{"$f":"Foglio2!C4","v":675},"kg CO2eq (\n100 years )"]
[null,"Standard rating conditions used: Low Temp Application"]
[null,"Contact details","Daikin Applied Europe S.p.A. Via Piani di Santa Maria, 72 | 00072 | Ariccia | Roma"]

{"sheet":"Foglio3","index":3,"n_rows":26,"n_cols":10,"rows_kept":26,"cut":false,"hidden":false,"merged":[[24,1,24,9],[25,2,25,9],[8,1,8,4],[8,6,8,9],[15,1,15,9],[19,1,19,9],[20,2,20,4],[21,6,22,6],[5,1,5,9],[0,1,0,9],[1,1,1,9],[2,1,2,9],[3,1,3,9],[4,1,4,9]]}
[null,"Information requirements for comfort chillers"]
[null,{"$f":"Foglio2!E14","v":"EWFT250B-SSC2"}]
[null,"Outdoor side heat exchanger of air conditioner: Air"]
[null,"Indoor side heat exchanger of air conditioner: water"]
[null,"Type: Scroll"]
[null,"Driver of compressor: Electric"]
[null,"Item","Symbol","Value","Unit",null,"Item","Symbol","Value","Unit"]
[null,"Rated cooling\ncapacity","Prated,c",{"$f":"Foglio2!E42","v":245.4},"kW",null,"Seasonal space\ncooling energy\nefficiency","ηs,c",{"$f":"Foglio2!E7","v":189.60000000000002},"%"]
[null,"Declared cooling capacity for part load at given outdoor temperatures\nTj and indoor 27°/19 °C (dry/wet bulb)",null,null,null,null,"Declared energy efficiency ratio or gas utilisation efficiency/auxiliary\nenergy factor for part load at given outdoor temperatures Tj"]
[null,"Tj = + 35 °C","Pdc",{"$f":"Foglio2!E42","v":245.4},"kW",null,"Tj = + 35 °C","EERd or GUEc,bin\n/AEFc,bin",{"$f":"Foglio2!E35","v":2.895}]
[null,"Tj = + 30 °C","Pdc",{"$f":"Foglio2!E91","v":181.59},"kW",null,"Tj = + 30 °C","EERd or GUEc,bin\n/AEFc,bin",{"$f":"Foglio2!E84","v":3.9369999999999998}]
[null,"Tj = + 25 °C","Pdc",{"$f":"Foglio2!E236","v":115.34},"kW",null,"Tj = + 25 °C","EERd or GUEc,bin\n/AEFc,bin",{"$f":"Foglio2!E229","v":5.3}]
[null,"Tj = + 20 °C","Pdc",{"$f":"Foglio2!E381","v":51.53},"kW",null,"Tj = + 20 °C","EERd or GUEc,bin\n/AEFc,bin",{"$f":"Foglio2!E374","v":6.55}]
[]
[null,"Degradation coefficient\nfor air\nconditioners (*9)","\nCdc","\n0.95","\n—"]
[null,"Power consumption in modes other than ‘active mode’"]
[null,"Off mode","POFF",{"$f":"Foglio2!E32","v":0},"kW",null,"Crankcase heater\nmode","PCK",{"$f":"Foglio2!E31","v":0},"kW"]
[null,"Thermostat-off\nmode","PTO",{"$f":"Foglio2!E29","v":0.12},"kW",null,"Standby mode","PSB",{"$f":"Foglio2!E30","v":0.2},"kW"]
[]
[null,"Other items"]
[null,"Capacity control","Step",null,null,null,"For air-to-water\ncomfort chillers: air\nflow rate, outdoor\nmeasured","—",{"$f":"Foglio2!E517","v":40500},"m3/h"]
[null,"Sound power level,\noutdoor","LWA ",{"$f":"Foglio2!E518","v":92.3},"dB",null,"For water/brine-towater\nchillers:\nRated brine or water\nflow rate, outdoor\nside heat exchanger","—",null,"m3/h"]
[null,"Emissions of\nnitrogen oxides (if\napplicable)","NOx (*10)",null,"mg/kWh\ninput GCV"]
[null,"GWP of the\nrefrigerant",null,{"$f":"Foglio2!C4","v":675},"kg CO2eq (\n100 years )"]
[null,"Standard rating conditions used: Low Temp Application"]
[null,"Contact details","Daikin Applied Europe S.p.A. Via Piani di Santa Maria, 72 | 00072 | Ariccia | Roma"]

{"sheet":"Foglio5","index":4,"n_rows":26,"n_cols":10,"rows_kept":26,"cut":false,"hidden":false,"merged":[[24,1,24,9],[25,2,25,9],[8,1,8,4],[8,6,8,9],[15,1,15,9],[19,1,19,9],[20,2,20,4],[21,6,22,6],[5,1,5,9],[0,1,0,9],[1,1,1,9],[2,1,2,9],[3,1,3,9],[4,1,4,9]]}
[null,"Information requirements for comfort chillers"]
[null,{"$f":"Foglio2!F14","v":"EWFT270B-SSC2"}]
[null,"Outdoor side heat exchanger of air conditioner: Air"]
[null,"Indoor side heat exchanger of air conditioner: water"]
[null,"Type: Scroll"]
[null,"Driver of compressor: Electric"]
[null,"Item","Symbol","Value","Unit",null,"Item","Symbol","Value","Unit"]
[null,"Rated cooling\ncapacity","Prated,c",{"$f":"Foglio2!F42","v":264.8},"kW",null,"Seasonal space\ncooling energy\nefficiency","ηs,c",{"$f":"Foglio2!F7","v":178.8},"%"]
[null,"Declared cooling capacity for part load at given outdoor temperatures\nTj and indoor 27°/19 °C (dry/wet bulb)",null,null,null,null,"Declared energy efficiency ratio or gas utilisation efficiency/auxiliary\nenergy factor for part load at given outdoor temperatures Tj"]
[null,"Tj = + 35 °C","Pdc",{"$f":"Foglio2!F42","v":264.8},"kW",null,"Tj = + 35 °C","EERd or GUEc,bin\n/AEFc,bin",{"$f":"Foglio2!F35","v":2.7879999999999998}]
[null,"Tj = + 30 °C","Pdc",{"$f":"Foglio2!F91","v":195.95},"kW",null,"Tj = + 30 °C","EERd or GUEc,bin\n/AEFc,bin",{"$f":"Foglio2!F84","v":3.819}]
[null,"Tj = + 25 °C","Pdc",{"$f":"Foglio2!F236","v":124.46},"kW",null,"Tj = + 25 °C","EERd or GUEc,bin\n/AEFc,bin",{"$f":"Foglio2!F229","v":5.056}]
[null,"Tj = + 20 °C","Pdc",{"$f":"Foglio2!F381","v":55.61},"kW",null,"Tj = + 20 °C","EERd or GUEc,bin\n/AEFc,bin",{"$f":"Foglio2!F374","v":5.7679999999999998}]
[]
[null,"Degradation coefficient\nfor air\nconditioners (*9)","\nCdc","\n0.95","\n—"]
[null,"Power consumption in modes other than ‘active mode’"]
[null,"Off mode","POFF",{"$f":"Foglio2!F32","v":0},"kW",null,"Crankcase heater\nmode","PCK",{"$f":"Foglio2!F31","v":0},"kW"]
[null,"Thermostat-off\nmode","PTO",{"$f":"Foglio2!F29","v":0.12},"kW",null,"Standby mode","PSB",{"$f":"Foglio2!F30","v":0.2},"kW"]
[]
[null,"Other items"]
[null,"Capacity control","Step",null,null,null,"For air-to-water\ncomfort chillers: air\nflow rate, outdoor\nmeasured","—",{"$f":"Foglio2!F517","v":81000},"m3/h"]
[null,"Sound power level,\noutdoor","LWA ",{"$f":"Foglio2!F518","v":92.6},"dB",null,"For water/brine-towater\nchillers:\nRated brine or water\nflow rate, outdoor\nside heat exchanger","—",null,"m3/h"]
[null,"Emissions of\nnitrogen oxides (if\napplicable)","NOx (*10)",null,"mg/kWh\ninput GCV"]
[null,"GWP of the\nrefrigerant",null,{"$f":"Foglio2!C4","v":675},"kg CO2eq (\n100 years )"]
[null,"Standard rating conditions used: Low Temp Application"]
[null,"Contact details","Daikin Applied Europe S.p.A. Via Piani di Santa Maria, 72 | 00072 | Ariccia | Roma"]

{"sheet":"Foglio6","index":5,"n_rows":26,"n_cols":10,"rows_kept":26,"cut":false,"hidden":false,"merged":[[24,1,24,9],[25,2,25,9],[8,1,8,4],[8,6,8,9],[15,1,15,9],[19,1,19,9],[20,2,20,4],[21,6,22,6],[5,1,5,9],[0,1,0,9],[1,1,1,9],[2,1,2,9],[3,1,3,9],[4,1,4,9]]}
[null,"Information requirements for comfort chillers"]
[null,{"$f":"Foglio2!G14","v":"EWFT180B-XRC2"}]
[null,"Outdoor side heat exchanger of air conditioner: Air"]
[null,"Indoor side heat exchanger of air conditioner: water"]
[null,"Type: Scroll"]
[null,"Driver of compressor: Electric"]
[null,"Item","Symbol","Value","Unit",null,"Item","Symbol","Value","Unit"]
[null,"Rated cooling\ncapacity","Prated,c",{"$f":"Foglio2!G42","v":171.3},"kW",null,"Seasonal space\ncooling energy\nefficiency","ηs,c",{"$f":"Foglio2!G7","v":194.64},"%"]
[null,"Declared cooling capacity for part load at given outdoor temperatures\nTj and indoor 27°/19 °C (dry/wet bulb)",null,null,null,null,"Declared energy efficiency ratio or gas utilisation efficiency/auxiliary\nenergy factor for part load at given outdoor temperatures Tj"]
[null,"Tj = + 35 °C","Pdc",{"$f":"Foglio2!G42","v":171.3},"kW",null,"Tj = + 35 °C","EERd or GUEc,bin\n/AEFc,bin",{"$f":"Foglio2!G35","v":3.1160000000000001}]
[null,"Tj = + 30 °C","Pdc",{"$f":"Foglio2!G91","v":126.76},"kW",null,"Tj = + 30 °C","EERd or GUEc,bin\n/AEFc,bin",{"$f":"Foglio2!G84","v":4.22}]
[null,"Tj = + 25 °C","Pdc",{"$f":"Foglio2!G236","v":80.510000000000005},"kW",null,"Tj = + 25 °C","EERd or GUEc,bin\n/AEFc,bin",{"$f":"Foglio2!G229","v":5.5039999999999996}]
[null,"Tj = + 20 °C","Pdc",{"$f":"Foglio2!G381","v":35.97},"kW",null,"Tj = + 20 °C","EERd or GUEc,bin\n/AEFc,bin",{"$f":"Foglio2!G374","v":6.2249999999999996}]
[]
[null,"Degradation coefficient\nfor air\nconditioners (*9)","\nCdc","\n0.95","\n—"]
[null,"Power consumption in modes other than ‘active mode’"]
[null,"Off mode","POFF",{"$f":"Foglio2!G32","v":0},"kW",null,"Crankcase heater\nmode","PCK",{"$f":"Foglio2!G31","v":0},"kW"]
[null,"Thermostat-off\nmode","PTO",{"$f":"Foglio2!G29","v":0.1},"kW",null,"Standby mode","PSB",{"$f":"Foglio2!G30","v":0.2},"kW"]
[]
[null,"Other items"]
[null,"Capacity control","Step",null,null,null,"For air-to-water\ncomfort chillers: air\nflow rate, outdoor\nmeasured","—",{"$f":"Foglio2!G517","v":60120},"m3/h"]
[null,"Sound power level,\noutdoor","LWA ",{"$f":"Foglio2!G518","v":82.8},"dB",null,"For water/brine-towater\nchillers:\nRated brine or water\nflow rate, outdoor\nside heat exchanger","—",null,"m3/h"]
[null,"Emissions of\nnitrogen oxides (if\napplicable)","NOx (*10)",null,"mg/kWh\ninput GCV"]
[null,"GWP of the\nrefrigerant",null,{"$f":"Foglio2!C4","v":675},"kg CO2eq (\n100 years )"]
[null,"Standard rating conditions used: Low Temp Application"]
[null,"Contact details","Daikin Applied Europe S.p.A. Via Piani di Santa Maria, 72 | 00072 | Ariccia | Roma"]

{"sheet":"Foglio7","index":6,"n_rows":26,"n_cols":10,"rows_kept":26,"cut":false,"hidden":false,"merged":[[24,1,24,9],[25,2,25,9],[8,1,8,4],[8,6,8,9],[15,1,15,9],[19,1,19,9],[20,2,20,4],[21,6,22,6],[5,1,5,9],[0,1,0,9],[1,1,1,9],[2,1,2,9],[3,1,3,9],[4,1,4,9]]}
[null,"Information requirements for comfort chillers"]
[null,{"$f":"Foglio2!H14","v":"EWFT210B-XRC2"}]
[null,"Outdoor side heat exchanger of air conditioner: Air"]
[null,"Indoor side heat exchanger of air conditioner: water"]
[null,"Type: Scroll"]
[null,"Driver of compressor: Electric"]
[null,"Item","Symbol","Value","Unit",null,"Item","Symbol","Value","Unit"]
[null,"Rated cooling\ncapacity","Prated,c",{"$f":"Foglio2!H42","v":194.07},"kW",null,"Seasonal space\ncooling energy\nefficiency","ηs,c",{"$f":"Foglio2!H7","v":193.92000000000002},"%"]
[null,"Declared cooling capacity for part load at given outdoor temperatures\nTj and indoor 27°/19 °C (dry/wet bulb)",null,null,null,null,"Declared energy efficiency ratio or gas utilisation efficiency/auxiliary\nenergy factor for part load at given outdoor temperatures Tj"]
[null,"Tj = + 35 °C","Pdc",{"$f":"Foglio2!H42","v":194.07},"kW",null,"Tj = + 35 °C","EERd or GUEc,bin\n/AEFc,bin",{"$f":"Foglio2!H35","v":2.948}]
[null,"Tj = + 30 °C","Pdc",{"$f":"Foglio2!H91","v":135.21},"kW",null,"Tj = + 30 °C","EERd or GUEc,bin\n/AEFc,bin",{"$f":"Foglio2!H84","v":4.3179999999999996}]
[null,"Tj = + 25 °C","Pdc",{"$f":"Foglio2!H236","v":91.21},"kW",null,"Tj = + 25 °C","EERd or GUEc,bin\n/AEFc,bin",{"$f":"Foglio2!H229","v":5.3380000000000001}]
[null,"Tj = + 20 °C","Pdc",{"$f":"Foglio2!H381","v":40.75},"kW",null,"Tj = + 20 °C","EERd or GUEc,bin\n/AEFc,bin",{"$f":"Foglio2!H374","v":6.4080000000000004}]
[]
[null,"Degradation coefficient\nfor air\nconditioners (*9)","\nCdc","\n0.95","\n—"]
[null,"Power consumption in modes other than ‘active mode’"]
[null,"Off mode","POFF",{"$f":"Foglio2!H32","v":0},"kW",null,"Crankcase heater\nmode","PCK",{"$f":"Foglio2!H31","v":0},"kW"]
[null,"Thermostat-off\nmode","PTO",{"$f":"Foglio2!H29","v":0.12},"kW",null,"Standby mode","PSB",{"$f":"Foglio2!H30","v":0.2},"kW"]
[]
[null,"Other items"]
[null,"Capacity control","Step",null,null,null,"For air-to-water\ncomfort chillers: air\nflow rate, outdoor\nmeasured","—",{"$f":"Foglio2!H517","v":60120},"m3/h"]
[null,"Sound power level,\noutdoor","LWA ",{"$f":"Foglio2!H518","v":83},"dB",null,"For water/brine-towater\nchillers:\nRated brine or water\nflow rate, outdoor\nside heat exchanger","—",null,"m3/h"]
[null,"Emissions of\nnitrogen oxides (if\napplicable)","NOx (*10)",null,"mg/kWh\ninput GCV"]
[null,"GWP of the\nrefrigerant",null,{"$f":"Foglio2!C4","v":675},"kg CO2eq (\n100 years )"]
[null,"Standard rating conditions used: Low Temp Application"]
[null,"Contact details","Daikin Applied Europe S.p.A. Via Piani di Santa Maria, 72 | 00072 | Ariccia | Roma"]

{"sheet":"Foglio8","index":7,"n_rows":26,"n_cols":10,"rows_kept":26,"cut":false,"hidden":false,"merged":[[24,1,24,9],[25,2,25,9],[8,1,8,4],[8,6,8,9],[15,1,15,9],[19,1,19,9],[20,2,20,4],[21,6,22,6],[5,1,5,9],[0,1,0,9],[1,1,1,9],[2,1,2,9],[3,1,3,9],[4,1,4,9]]}
[null,"Information requirements for comfort chillers"]
[null,{"$f":"Foglio2!I14","v":"EWFT230B-XRC2"}]
[null,"Outdoor side heat exchanger of air conditioner: Air"]
[null,"Indoor side heat exchanger of air conditioner: water"]
[null,"Type: Scroll"]
[null,"Driver of compressor: Electric"]
[null,"Item","Symbol","Value","Unit",null,"Item","Symbol","Value","Unit"]
[null,"Rated cooling\ncapacity","Prated,c",{"$f":"Foglio2!I42","v":216.64},"kW",null,"Seasonal space\ncooling energy\nefficiency","ηs,c",{"$f":"Foglio2!I7","v":188.88},"%"]
[null,"Declared cooling capacity for part load at given outdoor temperatures\nTj and indoor 27°/19 °C (dry/wet bulb)",null,null,null,null,"Declared energy efficiency ratio or gas utilisation efficiency/auxiliary\nenergy factor for part load at given outdoor temperatures Tj"]
[null,"Tj = + 35 °C","Pdc",{"$f":"Foglio2!I42","v":216.64},"kW",null,"Tj = + 35 °C","EERd or GUEc,bin\n/AEFc,bin",{"$f":"Foglio2!I35","v":2.8180000000000001}]
[null,"Tj = + 30 °C","Pdc",{"$f":"Foglio2!I91","v":160.31},"kW",null,"Tj = + 30 °C","EERd or GUEc,bin\n/AEFc,bin",{"$f":"Foglio2!I84","v":3.9039999999999999}]
[null,"Tj = + 25 °C","Pdc",{"$f":"Foglio2!I236","v":101.82},"kW",null,"Tj = + 25 °C","EERd or GUEc,bin\n/AEFc,bin",{"$f":"Foglio2!I229","v":5.3540000000000001}]
[null,"Tj = + 20 °C","Pdc",{"$f":"Foglio2!I381","v":45.49},"kW",null,"Tj = + 20 °C","EERd or GUEc,bin\n/AEFc,bin",{"$f":"Foglio2!I374","v":6.5449999999999999}]
[]
[null,"Degradation coefficient\nfor air\nconditioners (*9)","\nCdc","\n0.95","\n—"]
[null,"Power consumption in modes other than ‘active mode’"]
[null,"Off mode","POFF",{"$f":"Foglio2!I32","v":0},"kW",null,"Crankcase heater\nmode","PCK",{"$f":"Foglio2!I31","v":0},"kW"]
[null,"Thermostat-off\nmode","PTO",{"$f":"Foglio2!I29","v":0.14000000000000001},"kW",null,"Standby mode","PSB",{"$f":"Foglio2!I30","v":0.2},"kW"]
[]
[null,"Other items"]
[null,"Capacity control","Step",null,null,null,"For air-to-water\ncomfort chillers: air\nflow rate, outdoor\nmeasured","—",{"$f":"Foglio2!I517","v":60120},"m3/h"]
[null,"Sound power level,\noutdoor","LWA ",{"$f":"Foglio2!I518","v":83.1},"dB",null,"For water/brine-towater\nchillers:\nRated brine or water\nflow rate, outdoor\nside heat exchanger","—",null,"m3/h"]
[null,"Emissions of\nnitrogen oxides (if\napplicable)","NOx (*10)",null,"mg/kWh\ninput GCV"]
[null,"GWP of the\nrefrigerant",null,{"$f":"Foglio2!C4","v":675},"kg CO2eq (\n100 years )"]
[null,"Standard rating conditions used: Low Temp Application"]
[null,"Contact details","Daikin Applied Europe S.p.A. Via Piani di Santa Maria, 72 | 00072 | Ariccia | Roma"]

{"sheet":"Foglio9","index":8,"n_rows":26,"n_cols":10,"rows_kept":26,"cut":false,"hidden":false,"merged":[[24,1,24,9],[25,2,25,9],[8,1,8,4],[8,6,8,9],[15,1,15,9],[19,1,19,9],[20,2,20,4],[21,6,22,6],[5,1,5,9],[0,1,0,9],[1,1,1,9],[2,1,2,9],[3,1,3,9],[4,1,4,9]]}
[null,"Information requirements for comfort chillers"]
[null,{"$f":"Foglio2!J14","v":"EWFT250B-XRC2"}]
[null,"Outdoor side heat exchanger of air conditioner: Air"]
[null,"Indoor side heat exchanger of air conditioner: water"]
[null,"Type: Scroll"]
[null,"Driver of compressor: Electric"]
[null,"Item","Symbol","Value","Unit",null,"Item","Symbol","Value","Unit"]
[null,"Rated cooling\ncapacity","Prated,c",{"$f":"Foglio2!J42","v":232.99},"kW",null,"Seasonal space\ncooling energy\nefficiency","ηs,c",{"$f":"Foglio2!J7","v":189.48000000000002},"%"]
[null,"Declared cooling capacity for part load at given outdoor temperatures\nTj and indoor 27°/19 °C (dry/wet bulb)",null,null,null,null,"Declared energy efficiency ratio or gas utilisation efficiency/auxiliary\nenergy factor for part load at given outdoor temperatures Tj"]
[null,"Tj = + 35 °C","Pdc",{"$f":"Foglio2!J42","v":232.99},"kW",null,"Tj = + 35 °C","EERd or GUEc,bin\n/AEFc,bin",{"$f":"Foglio2!J35","v":2.6139999999999999}]
[null,"Tj = + 30 °C","Pdc",{"$f":"Foglio2!J91","v":165.33},"kW",null,"Tj = + 30 °C","EERd or GUEc,bin\n/AEFc,bin",{"$f":"Foglio2!J84","v":4.1829999999999998}]
[null,"Tj = + 25 °C","Pdc",{"$f":"Foglio2!J236","v":109.51},"kW",null,"Tj = + 25 °C","EERd or GUEc,bin\n/AEFc,bin",{"$f":"Foglio2!J229","v":5.21}]
[null,"Tj = + 20 °C","Pdc",{"$f":"Foglio2!J381","v":48.93},"kW",null,"Tj = + 20 °C","EERd or GUEc,bin\n/AEFc,bin",{"$f":"Foglio2!J374","v":6.5990000000000002}]
[]
[null,"Degradation coefficient\nfor air\nconditioners (*9)","\nCdc","\n0.95","\n—"]
[null,"Power consumption in modes other than ‘active mode’"]
[null,"Off mode","POFF",{"$f":"Foglio2!J32","v":0},"kW",null,"Crankcase heater\nmode","PCK",{"$f":"Foglio2!J31","v":0},"kW"]
[null,"Thermostat-off\nmode","PTO",{"$f":"Foglio2!J29","v":0.14000000000000001},"kW",null,"Standby mode","PSB",{"$f":"Foglio2!J30","v":0.2},"kW"]
[]
[null,"Other items"]
[null,"Capacity control","Step",null,null,null,"For air-to-water\ncomfort chillers: air\nflow rate, outdoor\nmeasured","—",{"$f":"Foglio2!J517","v":60120},"m3/h"]
[null,"Sound power level,\noutdoor","LWA ",{"$f":"Foglio2!J518","v":83.3},"dB",null,"For water/brine-towater\nchillers:\nRated brine or water\nflow rate, outdoor\nside heat exchanger","—",null,"m3/h"]
[null,"Emissions of\nnitrogen oxides (if\napplicable)","NOx (*10)",null,"mg/kWh\ninput GCV"]
[null,"GWP of the\nrefrigerant",null,{"$f":"Foglio2!C4","v":675},"kg CO2eq (\n100 years )"]
[null,"Standard rating conditions used: Low Temp Application"]
[null,"Contact details","Daikin Applied Europe S.p.A. Via Piani di Santa Maria, 72 | 00072 | Ariccia | Roma"]

{"sheet":"Foglio10","index":9,"n_rows":26,"n_cols":10,"rows_kept":26,"cut":false,"hidden":false,"merged":[[24,1,24,9],[25,2,25,9],[8,1,8,4],[8,6,8,9],[15,1,15,9],[19,1,19,9],[20,2,20,4],[21,6,22,6],[5,1,5,9],[0,1,0,9],[1,1,1,9],[2,1,2,9],[3,1,3,9],[4,1,4,9]]}
[null,"Information requirements for comfort chillers"]
[null,{"$f":"Foglio2!K14","v":"EWFT290B-XRC2"}]
[null,"Outdoor side heat exchanger of air conditioner: Air"]
[null,"Indoor side heat exchanger of air conditioner: water"]
[null,"Type: Scroll"]
[null,"Driver of compressor: Electric"]
[null,"Item","Symbol","Value","Unit",null,"Item","Symbol","Value","Unit"]
[null,"Rated cooling\ncapacity","Prated,c",{"$f":"Foglio2!K42","v":267.83999999999997},"kW",null,"Seasonal space\ncooling energy\nefficiency","ηs,c",{"$f":"Foglio2!K7","v":198.2},"%"]
[null,"Declared cooling capacity for part load at given outdoor temperatures\nTj and indoor 27°/19 °C (dry/wet bulb)",null,null,null,null,"Declared energy efficiency ratio or gas utilisation efficiency/auxiliary\nenergy factor for part load at given outdoor temperatures Tj"]
[null,"Tj = + 35 °C","Pdc",{"$f":"Foglio2!K42","v":267.83999999999997},"kW",null,"Tj = + 35 °C","EERd or GUEc,bin\n/AEFc,bin",{"$f":"Foglio2!K35","v":2.8540000000000001}]
[null,"Tj = + 30 °C","Pdc",{"$f":"Foglio2!K91","v":198.2},"kW",null,"Tj = + 30 °C","EERd or GUEc,bin\n/AEFc,bin",{"$f":"Foglio2!K84","v":4.2290000000000001}]
[null,"Tj = + 25 °C","Pdc",{"$f":"Foglio2!K236","v":125.89},"kW",null,"Tj = + 25 °C","EERd or GUEc,bin\n/AEFc,bin",{"$f":"Foglio2!K229","v":5.5819999999999999}]
[null,"Tj = + 20 °C","Pdc",{"$f":"Foglio2!K381","v":56.25},"kW",null,"Tj = + 20 °C","EERd or GUEc,bin\n/AEFc,bin",{"$f":"Foglio2!K374","v":6.7039999999999997}]
[]
[null,"Degradation coefficient\nfor air\nconditioners (*9)","\nCdc","\n0.95","\n—"]
[null,"Power consumption in modes other than ‘active mode’"]
[null,"Off mode","POFF",{"$f":"Foglio2!K32","v":0},"kW",null,"Crankcase heater\nmode","PCK",{"$f":"Foglio2!K31","v":0},"kW"]
[null,"Thermostat-off\nmode","PTO",{"$f":"Foglio2!K29","v":0.14000000000000001},"kW",null,"Standby mode","PSB",{"$f":"Foglio2!K30","v":0.2},"kW"]
[]
[null,"Other items"]
[null,"Capacity control","Step",null,null,null,"For air-to-water\ncomfort chillers: air\nflow rate, outdoor\nmeasured","—",{"$f":"Foglio2!K517","v":90179.999999999985},"m3/h"]
[null,"Sound power level,\noutdoor","LWA ",{"$f":"Foglio2!K518","v":84.9},"dB",null,"For water/brine-towater\nchillers:\nRated brine or water\nflow rate, outdoor\nside heat exchanger","—",null,"m3/h"]
[null,"Emissions of\nnitrogen oxides (if\napplicable)","NOx (*10)",null,"mg/kWh\ninput GCV"]
[null,"GWP of the\nrefrigerant",null,{"$f":"Foglio2!C4","v":675},"kg CO2eq (\n100 years )"]
[null,"Standard rating conditions used: Low Temp Application"]
[null,"Contact details","Daikin Applied Europe S.p.A. Via Piani di Santa Maria, 72 | 00072 | Ariccia | Roma"]

{"sheet":"Foglio11","index":10,"n_rows":26,"n_cols":10,"rows_kept":26,"cut":false,"hidden":false,"merged":[[24,1,24,9],[25,2,25,9],[8,1,8,4],[8,6,8,9],[15,1,15,9],[19,1,19,9],[20,2,20,4],[21,6,22,6],[5,1,5,9],[0,1,0,9],[1,1,1,9],[2,1,2,9],[3,1,3,9],[4,1,4,9]]}
[null,"Information requirements for comfort chillers"]
[null,{"$f":"Foglio2!L14","v":"EWFT320B-XRC2"}]
[null,"Outdoor side heat exchanger of air conditioner: Air"]
[null,"Indoor side heat exchanger of air conditioner: water"]
[null,"Type: Scroll"]
[null,"Driver of compressor: Electric"]
[null,"Item","Symbol","Value","Unit",null,"Item","Symbol","Value","Unit"]
[null,"Rated cooling\ncapacity","Prated,c",{"$f":"Foglio2!L42","v":303.86},"kW",null,"Seasonal space\ncooling energy\nefficiency","ηs,c",{"$f":"Foglio2!L7","v":201.20000000000005},"%"]
[null,"Declared cooling capacity for part load at given outdoor temperatures\nTj and indoor 27°/19 °C (dry/wet bulb)",null,null,null,null,"Declared energy efficiency ratio or gas utilisation efficiency/auxiliary\nenergy factor for part load at given outdoor temperatures Tj"]
[null,"Tj = + 35 °C","Pdc",{"$f":"Foglio2!L42","v":303.86},"kW",null,"Tj = + 35 °C","EERd or GUEc,bin\n/AEFc,bin",{"$f":"Foglio2!L35","v":2.8220000000000001}]
[null,"Tj = + 30 °C","Pdc",{"$f":"Foglio2!L91","v":212.9},"kW",null,"Tj = + 30 °C","EERd or GUEc,bin\n/AEFc,bin",{"$f":"Foglio2!L84","v":4.1680000000000001}]
[null,"Tj = + 25 °C","Pdc",{"$f":"Foglio2!L236","v":154.34},"kW",null,"Tj = + 25 °C","EERd or GUEc,bin\n/AEFc,bin",{"$f":"Foglio2!L229","v":5.7839999999999998}]
[null,"Tj = + 20 °C","Pdc",{"$f":"Foglio2!L381","v":63.81},"kW",null,"Tj = + 20 °C","EERd or GUEc,bin\n/AEFc,bin",{"$f":"Foglio2!L374","v":6.9329999999999998}]
[]
[null,"Degradation coefficient\nfor air\nconditioners (*9)","\nCdc","\n0.95","\n—"]
[null,"Power consumption in modes other than ‘active mode’"]
[null,"Off mode","POFF",{"$f":"Foglio2!L32","v":0},"kW",null,"Crankcase heater\nmode","PCK",{"$f":"Foglio2!L31","v":0},"kW"]
[null,"Thermostat-off\nmode","PTO",{"$f":"Foglio2!L29","v":0.14000000000000001},"kW",null,"Standby mode","PSB",{"$f":"Foglio2!L30","v":0.25},"kW"]
[]
[null,"Other items"]
[null,"Capacity control","Step",null,null,null,"For air-to-water\ncomfort chillers: air\nflow rate, outdoor\nmeasured","—",{"$f":"Foglio2!L517","v":90179.999999999985},"m3/h"]
[null,"Sound power level,\noutdoor","LWA ",{"$f":"Foglio2!L518","v":84.9},"dB",null,"For water/brine-towater\nchillers:\nRated brine or water\nflow rate, outdoor\nside heat exchanger","—",null,"m3/h"]
[null,"Emissions of\nnitrogen oxides (if\napplicable)","NOx (*10)",null,"mg/kWh\ninput GCV"]
[null,"GWP of the\nrefrigerant",null,{"$f":"Foglio2!C4","v":675},"kg CO2eq (\n100 years )"]
[null,"Standard rating conditions used: Low Temp Application"]
[null,"Contact details","Daikin Applied Europe S.p.A. Via Piani di Santa Maria, 72 | 00072 | Ariccia | Roma"]

{"sheet":"Foglio12","index":11,"n_rows":26,"n_cols":10,"rows_kept":26,"cut":false,"hidden":false,"merged":[[24,1,24,9],[25,2,25,9],[8,1,8,4],[8,6,8,9],[15,1,15,9],[19,1,19,9],[20,2,20,4],[21,6,22,6],[5,1,5,9],[0,1,0,9],[1,1,1,9],[2,1,2,9],[3,1,3,9],[4,1,4,9]]}
[null,"Information requirements for comfort chillers"]
[null,{"$f":"Foglio2!M14","v":"EWFT350B-XRC2"}]
[null,"Outdoor side heat exchanger of air conditioner: Air"]
[null,"Indoor side heat exchanger of air conditioner: water"]
[null,"Type: Scroll"]
[null,"Driver of compressor: Electric"]
[null,"Item","Symbol","Value","Unit",null,"Item","Symbol","Value","Unit"]
[null,"Rated cooling\ncapacity","Prated,c",{"$f":"Foglio2!M42","v":320.31},"kW",null,"Seasonal space\ncooling energy\nefficiency","ηs,c",{"$f":"Foglio2!M7","v":195.27999999999997},"%"]
[null,"Declared cooling capacity for part load at given outdoor temperatures\nTj and indoor 27°/19 °C (dry/wet bulb)",null,null,null,null,"Declared energy efficiency ratio or gas utilisation efficiency/auxiliary\nenergy factor for part load at given outdoor temperatures Tj"]
[null,"Tj = + 35 °C","Pdc",{"$f":"Foglio2!M42","v":320.31},"kW",null,"Tj = + 35 °C","EERd or GUEc,bin\n/AEFc,bin",{"$f":"Foglio2!M35","v":2.67}]
[null,"Tj = + 30 °C","Pdc",{"$f":"Foglio2!M91","v":241.63},"kW",null,"Tj = + 30 °C","EERd or GUEc,bin\n/AEFc,bin",{"$f":"Foglio2!M84","v":4.07}]
[null,"Tj = + 25 °C","Pdc",{"$f":"Foglio2!M236","v":150.55000000000001},"kW",null,"Tj = + 25 °C","EERd or GUEc,bin\n/AEFc,bin",{"$f":"Foglio2!M229","v":5.524}]
[null,"Tj = + 20 °C","Pdc",{"$f":"Foglio2!M381","v":67.27},"kW",null,"Tj = + 20 °C","EERd or GUEc,bin\n/AEFc,bin",{"$f":"Foglio2!M374","v":6.9459999999999997}]
[]
[null,"Degradation coefficient\nfor air\nconditioners (*9)","\nCdc","\n0.95","\n—"]
[null,"Power consumption in modes other than ‘active mode’"]
[null,"Off mode","POFF",{"$f":"Foglio2!M32","v":0},"kW",null,"Crankcase heater\nmode","PCK",{"$f":"Foglio2!M31","v":0},"kW"]
[null,"Thermostat-off\nmode","PTO",{"$f":"Foglio2!M29","v":0.14000000000000001},"kW",null,"Standby mode","PSB",{"$f":"Foglio2!M30","v":0.25},"kW"]
[]
[null,"Other items"]
[null,"Capacity control","Step",null,null,null,"For air-to-water\ncomfort chillers: air\nflow rate, outdoor\nmeasured","—",{"$f":"Foglio2!M517","v":90179.999999999985},"m3/h"]
[null,"Sound power level,\noutdoor","LWA ",{"$f":"Foglio2!M518","v":85},"dB",null,"For water/brine-towater\nchillers:\nRated brine or water\nflow rate, outdoor\nside heat exchanger","—",null,"m3/h"]
[null,"Emissions of\nnitrogen oxides (if\napplicable)","NOx (*10)",null,"mg/kWh\ninput GCV"]
[null,"GWP of the\nrefrigerant",null,{"$f":"Foglio2!C4","v":675},"kg CO2eq (\n100 years )"]
[null,"Standard rating conditions used: Low Temp Application"]
[null,"Contact details","Daikin Applied Europe S.p.A. Via Piani di Santa Maria, 72 | 00072 | Ariccia | Roma"]

{"sheet":"Foglio13","index":12,"n_rows":26,"n_cols":10,"rows_kept":26,"cut":false,"hidden":false,"merged":[[24,1,24,9],[25,2,25,9],[8,1,8,4],[8,6,8,9],[15,1,15,9],[19,1,19,9],[20,2,20,4],[21,6,22,6],[5,1,5,9],[0,1,0,9],[1,1,1,9],[2,1,2,9],[3,1,3,9],[4,1,4,9]]}
[null,"Information requirements for comfort chillers"]
[null,{"$f":"Foglio2!N14","v":"EWFT180B-XSC2"}]
[null,"Outdoor side heat exchanger of air conditioner: Air"]
[null,"Indoor side heat exchanger of air conditioner: water"]
[null,"Type: Scroll"]
[null,"Driver of compressor: Electric"]
[null,"Item","Symbol","Value","Unit",null,"Item","Symbol","Value","Unit"]
[null,"Rated cooling\ncapacity","Prated,c",{"$f":"Foglio2!N42","v":178.35},"kW",null,"Seasonal space\ncooling energy\nefficiency","ηs,c",{"$f":"Foglio2!N7","v":194.56},"%"]
[null,"Declared cooling capacity for part load at given outdoor temperatures\nTj and indoor 27°/19 °C (dry/wet bulb)",null,null,null,null,"Declared energy efficiency ratio or gas utilisation efficiency/auxiliary\nenergy factor for part load at given outdoor temperatures Tj"]
[null,"Tj = + 35 °C","Pdc",{"$f":"Foglio2!N42","v":178.35},"kW",null,"Tj = + 35 °C","EERd or GUEc,bin\n/AEFc,bin",{"$f":"Foglio2!N35","v":3.198}]
[null,"Tj = + 30 °C","Pdc",{"$f":"Foglio2!N91","v":131.97999999999999},"kW",null,"Tj = + 30 °C","EERd or GUEc,bin\n/AEFc,bin",{"$f":"Foglio2!N84","v":4.21}]
[null,"Tj = + 25 °C","Pdc",{"$f":"Foglio2!N236","v":83.82},"kW",null,"Tj = + 25 °C","EERd or GUEc,bin\n/AEFc,bin",{"$f":"Foglio2!N229","v":5.4619999999999997}]
[null,"Tj = + 20 °C","Pdc",{"$f":"Foglio2!N381","v":37.450000000000003},"kW",null,"Tj = + 20 °C","EERd or GUEc,bin\n/AEFc,bin",{"$f":"Foglio2!N374","v":6.22}]
[]
[null,"Degradation coefficient\nfor air\nconditioners (*9)","\nCdc","\n0.95","\n—"]
[null,"Power consumption in modes other than ‘active mode’"]
[null,"Off mode","POFF",{"$f":"Foglio2!N32","v":0},"kW",null,"Crankcase heater\nmode","PCK",{"$f":"Foglio2!N31","v":0},"kW"]
[null,"Thermostat-off\nmode","PTO",{"$f":"Foglio2!N29","v":0.1},"kW",null,"Standby mode","PSB",{"$f":"Foglio2!N30","v":0.2},"kW"]
[]
[null,"Other items"]
[null,"Capacity control","Step",null,null,null,"For air-to-water\ncomfort chillers: air\nflow rate, outdoor\nmeasured","—",{"$f":"Foglio2!N517","v":81000},"m3/h"]
[null,"Sound power level,\noutdoor","LWA ",{"$f":"Foglio2!N518","v":91.2},"dB",null,"For water/brine-towater\nchillers:\nRated brine or water\nflow rate, outdoor\nside heat exchanger","—",null,"m3/h"]
[null,"Emissions of\nnitrogen oxides (if\napplicable)","NOx (*10)",null,"mg/kWh\ninput GCV"]
[null,"GWP of the\nrefrigerant",null,{"$f":"Foglio2!C4","v":675},"kg CO2eq (\n100 years )"]
[null,"Standard rating conditions used: Low Temp Application"]
[null,"Contact details","Daikin Applied Europe S.p.A. Via Piani di Santa Maria, 72 | 00072 | Ariccia | Roma"]

{"sheet":"Foglio14","index":13,"n_rows":26,"n_cols":10,"rows_kept":26,"cut":false,"hidden":false,"merged":[[24,1,24,9],[25,2,25,9],[8,1,8,4],[8,6,8,9],[15,1,15,9],[19,1,19,9],[20,2,20,4],[21,6,22,6],[5,1,5,9],[0,1,0,9],[1,1,1,9],[2,1,2,9],[3,1,3,9],[4,1,4,9]]}
[null,"Information requirements for comfort chillers"]
[null,{"$f":"Foglio2!O14","v":"EWFT210B-XSC2"}]
[null,"Outdoor side heat exchanger of air conditioner: Air"]
[null,"Indoor side heat exchanger of air conditioner: water"]
[null,"Type: Scroll"]
[null,"Driver of compressor: Electric"]
[null,"Item","Symbol","Value","Unit",null,"Item","Symbol","Value","Unit"]
[null,"Rated cooling\ncapacity","Prated,c",{"$f":"Foglio2!O42","v":204.13},"kW",null,"Seasonal space\ncooling energy\nefficiency","ηs,c",{"$f":"Foglio2!O7","v":198.00000000000003},"%"]
[null,"Declared cooling capacity for part load at given outdoor temperatures\nTj and indoor 27°/19 °C (dry/wet bulb)",null,null,null,null,"Declared energy efficiency ratio or gas utilisation efficiency/auxiliary\nenergy factor for part load at given outdoor temperatures Tj"]
[null,"Tj = + 35 °C","Pdc",{"$f":"Foglio2!O42","v":204.13},"kW",null,"Tj = + 35 °C","EERd or GUEc,bin\n/AEFc,bin",{"$f":"Foglio2!O35","v":3.1320000000000001}]
[null,"Tj = + 30 °C","Pdc",{"$f":"Foglio2!O91","v":137.84},"kW",null,"Tj = + 30 °C","EERd or GUEc,bin\n/AEFc,bin",{"$f":"Foglio2!O84","v":4.2939999999999996}]
[null,"Tj = + 25 °C","Pdc",{"$f":"Foglio2!O236","v":95.94},"kW",null,"Tj = + 25 °C","EERd or GUEc,bin\n/AEFc,bin",{"$f":"Foglio2!O229","v":5.5570000000000004}]
[null,"Tj = + 20 °C","Pdc",{"$f":"Foglio2!O381","v":42.87},"kW",null,"Tj = + 20 °C","EERd or GUEc,bin\n/AEFc,bin",{"$f":"Foglio2!O374","v":6.3920000000000003}]
[]
[null,"Degradation coefficient\nfor air\nconditioners (*9)","\nCdc","\n0.95","\n—"]
[null,"Power consumption in modes other than ‘active mode’"]
[null,"Off mode","POFF",{"$f":"Foglio2!O32","v":0},"kW",null,"Crankcase heater\nmode","PCK",{"$f":"Foglio2!O31","v":0},"kW"]
[null,"Thermostat-off\nmode","PTO",{"$f":"Foglio2!O29","v":0.12},"kW",null,"Standby mode","PSB",{"$f":"Foglio2!O30","v":0.2},"kW"]
[]
[null,"Other items"]
[null,"Capacity control","Step",null,null,null,"For air-to-water\ncomfort chillers: air\nflow rate, outdoor\nmeasured","—",{"$f":"Foglio2!O517","v":81000},"m3/h"]
[null,"Sound power level,\noutdoor","LWA ",{"$f":"Foglio2!O518","v":91.6},"dB",null,"For water/brine-towater\nchillers:\nRated brine or water\nflow rate, outdoor\nside heat exchanger","—",null,"m3/h"]
[null,"Emissions of\nnitrogen oxides (if\napplicable)","NOx (*10)",null,"mg/kWh\ninput GCV"]
[null,"GWP of the\nrefrigerant",null,{"$f":"Foglio2!C4","v":675},"kg CO2eq (\n100 years )"]
[null,"Standard rating conditions used: Low Temp Application"]
[null,"Contact details","Daikin Applied Europe S.p.A. Via Piani di Santa Maria, 72 | 00072 | Ariccia | Roma"]

{"sheet":"Foglio15","index":14,"n_rows":26,"n_cols":10,"rows_kept":26,"cut":false,"hidden":false,"merged":[[24,1,24,9],[25,2,25,9],[8,1,8,4],[8,6,8,9],[15,1,15,9],[19,1,19,9],[20,2,20,4],[21,6,22,6],[5,1,5,9],[0,1,0,9],[1,1,1,9],[2,1,2,9],[3,1,3,9],[4,1,4,9]]}
[null,"Information requirements for comfort chillers"]
[null,{"$f":"Foglio2!P14","v":"EWFT230B-XSC2"}]
[null,"Outdoor side heat exchanger of air conditioner: Air"]
[null,"Indoor side heat exchanger of air conditioner: water"]
[null,"Type: Scroll"]
[null,"Driver of compressor: Electric"]
[null,"Item","Symbol","Value","Unit",null,"Item","Symbol","Value","Unit"]
[null,"Rated cooling\ncapacity","Prated,c",{"$f":"Foglio2!P42","v":229.89},"kW",null,"Seasonal space\ncooling energy\nefficiency","ηs,c",{"$f":"Foglio2!P7","v":197},"%"]
[null,"Declared cooling capacity for part load at given outdoor temperatures\nTj and indoor 27°/19 °C (dry/wet bulb)",null,null,null,null,"Declared energy efficiency ratio or gas utilisation efficiency/auxiliary\nenergy factor for part load at given outdoor temperatures Tj"]
[null,"Tj = + 35 °C","Pdc",{"$f":"Foglio2!P42","v":229.89},"kW",null,"Tj = + 35 °C","EERd or GUEc,bin\n/AEFc,bin",{"$f":"Foglio2!P35","v":3.0750000000000002}]
[null,"Tj = + 30 °C","Pdc",{"$f":"Foglio2!P91","v":170.12},"kW",null,"Tj = + 30 °C","EERd or GUEc,bin\n/AEFc,bin",{"$f":"Foglio2!P84","v":4.085}]
[null,"Tj = + 25 °C","Pdc",{"$f":"Foglio2!P236","v":117.37},"kW",null,"Tj = + 25 °C","EERd or GUEc,bin\n/AEFc,bin",{"$f":"Foglio2!P229","v":5.6280000000000001}]
[null,"Tj = + 20 °C","Pdc",{"$f":"Foglio2!P381","v":48.28},"kW",null,"Tj = + 20 °C","EERd or GUEc,bin\n/AEFc,bin",{"$f":"Foglio2!P374","v":6.524}]
[]
[null,"Degradation coefficient\nfor air\nconditioners (*9)","\nCdc","\n0.95","\n—"]
[null,"Power consumption in modes other than ‘active mode’"]
[null,"Off mode","POFF",{"$f":"Foglio2!P32","v":0},"kW",null,"Crankcase heater\nmode","PCK",{"$f":"Foglio2!P31","v":0},"kW"]
[null,"Thermostat-off\nmode","PTO",{"$f":"Foglio2!P29","v":0.14000000000000001},"kW",null,"Standby mode","PSB",{"$f":"Foglio2!P30","v":0.2},"kW"]
[]
[null,"Other items"]
[null,"Capacity control","Step",null,null,null,"For air-to-water\ncomfort chillers: air\nflow rate, outdoor\nmeasured","—",{"$f":"Foglio2!P517","v":81000},"m3/h"]
[null,"Sound power level,\noutdoor","LWA ",{"$f":"Foglio2!P518","v":91.9},"dB",null,"For water/brine-towater\nchillers:\nRated brine or water\nflow rate, outdoor\nside heat exchanger","—",null,"m3/h"]
[null,"Emissions of\nnitrogen oxides (if\napplicable)","NOx (*10)",null,"mg/kWh\ninput GCV"]
[null,"GWP of the\nrefrigerant",null,{"$f":"Foglio2!C4","v":675},"kg CO2eq (\n100 years )"]
[null,"Standard rating conditions used: Low Temp Application"]
[null,"Contact details","Daikin Applied Europe S.p.A. Via Piani di Santa Maria, 72 | 00072 | Ariccia | Roma"]

{"sheet":"Foglio16","index":15,"n_rows":26,"n_cols":10,"rows_kept":26,"cut":false,"hidden":false,"merged":[[24,1,24,9],[25,2,25,9],[8,1,8,4],[8,6,8,9],[15,1,15,9],[19,1,19,9],[20,2,20,4],[21,6,22,6],[5,1,5,9],[0,1,0,9],[1,1,1,9],[2,1,2,9],[3,1,3,9],[4,1,4,9]]}
[null,"Information requirements for comfort chillers"]
[null,{"$f":"Foglio2!Q14","v":"EWFT250B-XSC2"}]
[null,"Outdoor side heat exchanger of air conditioner: Air"]
[null,"Indoor side heat exchanger of air conditioner: water"]
[null,"Type: Inverter"]
[null,"Driver of compressor: Electric"]
[null,"Item","Symbol","Value","Unit",null,"Item","Symbol","Value","Unit"]
[null,"Rated cooling\ncapacity","Prated,c",{"$f":"Foglio2!Q42","v":249.91},"kW",null,"Seasonal space\ncooling energy\nefficiency","ηs,c",{"$f":"Foglio2!Q7","v":194.39999999999998},"%"]
[null,"Declared cooling capacity for part load at given outdoor temperatures\nTj and indoor 27°/19 °C (dry/wet bulb)",null,null,null,null,"Declared energy efficiency ratio or gas utilisation efficiency/auxiliary\nenergy factor for part load at given outdoor temperatures Tj"]
[null,"Tj = + 35 °C","Pdc",{"$f":"Foglio2!Q42","v":249.91},"kW",null,"Tj = + 35 °C","EERd or GUEc,bin\n/AEFc,bin",{"$f":"Foglio2!Q35","v":2.9380000000000002}]
[null,"Tj = + 30 °C","Pdc",{"$f":"Foglio2!Q91","v":169.12},"kW",null,"Tj = + 30 °C","EERd or GUEc,bin\n/AEFc,bin",{"$f":"Foglio2!Q84","v":4.2009999999999996}]
[null,"Tj = + 25 °C","Pdc",{"$f":"Foglio2!Q236","v":117.46},"kW",null,"Tj = + 25 °C","EERd or GUEc,bin\n/AEFc,bin",{"$f":"Foglio2!Q229","v":5.3550000000000004}]
[null,"Tj = + 20 °C","Pdc",{"$f":"Foglio2!Q381","v":52.48},"kW",null,"Tj = + 20 °C","EERd or GUEc,bin\n/AEFc,bin",{"$f":"Foglio2!Q374","v":6.5890000000000004}]
[]
[null,"Degradation coefficient\nfor air\nconditioners (*9)","\nCdc","\n0.95","\n—"]
[null,"Power consumption in modes other than ‘active mode’"]
[null,"Off mode","POFF",{"$f":"Foglio2!Q32","v":0},"kW",null,"Crankcase heater\nmode","PCK",{"$f":"Foglio2!Q31","v":0},"kW"]
[null,"Thermostat-off\nmode","PTO",{"$f":"Foglio2!Q29","v":0.14000000000000001},"kW",null,"Standby mode","PSB",{"$f":"Foglio2!Q30","v":0.2},"kW"]
[]
[null,"Other items"]
[null,"Capacity control","Step",null,null,null,"For air-to-water\ncomfort chillers: air\nflow rate, outdoor\nmeasured","—",{"$f":"Foglio2!Q517","v":81000},"m3/h"]
[null,"Sound power level,\noutdoor","LWA ",{"$f":"Foglio2!Q518","v":92.3},"dB",null,"For water/brine-towater\nchillers:\nRated brine or water\nflow rate, outdoor\nside heat exchanger","—",null,"m3/h"]
[null,"Emissions of\nnitrogen oxides (if\napplicable)","NOx (*10)",null,"mg/kWh\ninput GCV"]
[null,"GWP of the\nrefrigerant",null,{"$f":"Foglio2!C4","v":675},"kg CO2eq (\n100 years )"]
[null,"Standard rating conditions used: Low Temp Application"]
[null,"Contact details","Daikin Applied Europe S.p.A. Via Piani di Santa Maria, 72 | 00072 | Ariccia | Roma"]

{"sheet":"Foglio17","index":16,"n_rows":26,"n_cols":10,"rows_kept":26,"cut":false,"hidden":false,"merged":[[24,1,24,9],[25,2,25,9],[8,1,8,4],[8,6,8,9],[15,1,15,9],[19,1,19,9],[20,2,20,4],[21,6,22,6],[5,1,5,9],[0,1,0,9],[1,1,1,9],[2,1,2,9],[3,1,3,9],[4,1,4,9]]}
[null,"Information requirements for comfort chillers"]
[null,{"$f":"Foglio2!R14","v":"EWFT290B-XSC2"}]
[null,"Outdoor side heat exchanger of air conditioner: Air"]
[null,"Indoor side heat exchanger of air conditioner: water"]
[null,"Type: Inverter"]
[null,"Driver of compressor: Electric"]
[null,"Item","Symbol","Value","Unit",null,"Item","Symbol","Value","Unit"]
[null,"Rated cooling\ncapacity","Prated,c",{"$f":"Foglio2!R42","v":282.86},"kW",null,"Seasonal space\ncooling energy\nefficiency","ηs,c",{"$f":"Foglio2!R7","v":199.36},"%"]
[null,"Declared cooling capacity for part load at given outdoor temperatures\nTj and indoor 27°/19 °C (dry/wet bulb)",null,null,null,null,"Declared energy efficiency ratio or gas utilisation efficiency/auxiliary\nenergy factor for part load at given outdoor temperatures Tj"]
[null,"Tj = + 35 °C","Pdc",{"$f":"Foglio2!R42","v":282.86},"kW",null,"Tj = + 35 °C","EERd or GUEc,bin\n/AEFc,bin",{"$f":"Foglio2!R35","v":3.04}]
[null,"Tj = + 30 °C","Pdc",{"$f":"Foglio2!R91","v":209.31},"kW",null,"Tj = + 30 °C","EERd or GUEc,bin\n/AEFc,bin",{"$f":"Foglio2!R84","v":4.202}]
[null,"Tj = + 25 °C","Pdc",{"$f":"Foglio2!R236","v":132.94},"kW",null,"Tj = + 25 °C","EERd or GUEc,bin\n/AEFc,bin",{"$f":"Foglio2!R229","v":5.5590000000000002}]
[null,"Tj = + 20 °C","Pdc",{"$f":"Foglio2!R381","v":59.4},"kW",null,"Tj = + 20 °C","EERd or GUEc,bin\n/AEFc,bin",{"$f":"Foglio2!R374","v":6.75}]
[]
[null,"Degradation coefficient\nfor air\nconditioners (*9)","\nCdc","\n0.95","\n—"]
[null,"Power consumption in modes other than ‘active mode’"]
[null,"Off mode","POFF",{"$f":"Foglio2!R32","v":0},"kW",null,"Crankcase heater\nmode","PCK",{"$f":"Foglio2!R31","v":0},"kW"]
[null,"Thermostat-off\nmode","PTO",{"$f":"Foglio2!R29","v":0.14000000000000001},"kW",null,"Standby mode","PSB",{"$f":"Foglio2!R30","v":0.2},"kW"]
[]
[null,"Other items"]
[null,"Capacity control","Step",null,null,null,"For air-to-water\ncomfort chillers: air\nflow rate, outdoor\nmeasured","—",{"$f":"Foglio2!R517","v":121536.00000000001},"m3/h"]
[null,"Sound power level,\noutdoor","LWA ",{"$f":"Foglio2!R518","v":93.6},"dB",null,"For water/brine-towater\nchillers:\nRated brine or water\nflow rate, outdoor\nside heat exchanger","—",null,"m3/h"]
[null,"Emissions of\nnitrogen oxides (if\napplicable)","NOx (*10)",null,"mg/kWh\ninput GCV"]
[null,"GWP of the\nrefrigerant",null,{"$f":"Foglio2!C4","v":675},"kg CO2eq (\n100 years )"]
[null,"Standard rating conditions used: Low Temp Application"]
[null,"Contact details","Daikin Applied Europe S.p.A. Via Piani di Santa Maria, 72 | 00072 | Ariccia | Roma"]

{"sheet":"Foglio18","index":17,"n_rows":26,"n_cols":10,"rows_kept":26,"cut":false,"hidden":false,"merged":[[24,1,24,9],[25,2,25,9],[8,1,8,4],[8,6,8,9],[15,1,15,9],[19,1,19,9],[20,2,20,4],[21,6,22,6],[5,1,5,9],[0,1,0,9],[1,1,1,9],[2,1,2,9],[3,1,3,9],[4,1,4,9]]}
[null,"Information requirements for comfort chillers"]
[null,{"$f":"Foglio2!S14","v":"EWFT320B-XSC2"}]
[null,"Outdoor side heat exchanger of air conditioner: Air"]
[null,"Indoor side heat exchanger of air conditioner: water"]
[null,"Type: Inverter"]
[null,"Driver of compressor: Electric"]
[null,"Item","Symbol","Value","Unit",null,"Item","Symbol","Value","Unit"]
[null,"Rated cooling\ncapacity","Prated,c",{"$f":"Foglio2!S42","v":320.70999999999998},"kW",null,"Seasonal space\ncooling energy\nefficiency","ηs,c",{"$f":"Foglio2!S7","v":202.48},"%"]
[null,"Declared cooling capacity for part load at given outdoor temperatures\nTj and indoor 27°/19 °C (dry/wet bulb)",null,null,null,null,"Declared energy efficiency ratio or gas utilisation efficiency/auxiliary\nenergy factor for part load at given outdoor temperatures Tj"]
[null,"Tj = + 35 °C","Pdc",{"$f":"Foglio2!S42","v":320.70999999999998},"kW",null,"Tj = + 35 °C","EERd or GUEc,bin\n/AEFc,bin",{"$f":"Foglio2!S35","v":3.03}]
[null,"Tj = + 30 °C","Pdc",{"$f":"Foglio2!S91","v":217.14},"kW",null,"Tj = + 30 °C","EERd or GUEc,bin\n/AEFc,bin",{"$f":"Foglio2!S84","v":4.1509999999999998}]
[null,"Tj = + 25 °C","Pdc",{"$f":"Foglio2!S236","v":153.11000000000001},"kW",null,"Tj = + 25 °C","EERd or GUEc,bin\n/AEFc,bin",{"$f":"Foglio2!S229","v":5.7389999999999999}]
[null,"Tj = + 20 °C","Pdc",{"$f":"Foglio2!S381","v":67.349999999999994},"kW",null,"Tj = + 20 °C","EERd or GUEc,bin\n/AEFc,bin",{"$f":"Foglio2!S374","v":6.9820000000000002}]
[]
[null,"Degradation coefficient\nfor air\nconditioners (*9)","\nCdc","\n0.95","\n—"]
[null,"Power consumption in modes other than ‘active mode’"]
[null,"Off mode","POFF",{"$f":"Foglio2!S32","v":0},"kW",null,"Crankcase heater\nmode","PCK",{"$f":"Foglio2!S31","v":0},"kW"]
[null,"Thermostat-off\nmode","PTO",{"$f":"Foglio2!S29","v":0.14000000000000001},"kW",null,"Standby mode","PSB",{"$f":"Foglio2!S30","v":0.25},"kW"]
[]
[null,"Other items"]
[null,"Capacity control","Step",null,null,null,"For air-to-water\ncomfort chillers: air\nflow rate, outdoor\nmeasured","—",{"$f":"Foglio2!S517","v":121536.00000000001},"m3/h"]
[null,"Sound power level,\noutdoor","LWA ",{"$f":"Foglio2!S518","v":93.8},"dB",null,"For water/brine-towater\nchillers:\nRated brine or water\nflow rate, outdoor\nside heat exchanger","—",null,"m3/h"]
[null,"Emissions of\nnitrogen oxides (if\napplicable)","NOx (*10)",null,"mg/kWh\ninput GCV"]
[null,"GWP of the\nrefrigerant",null,{"$f":"Foglio2!C4","v":675},"kg CO2eq (\n100 years )"]
[null,"Standard rating conditions used: Low Temp Application"]
[null,"Contact details","Daikin Applied Europe S.p.A. Via Piani di Santa Maria, 72 | 00072 | Ariccia | Roma"]

{"sheet":"Foglio19","index":18,"n_rows":26,"n_cols":10,"rows_kept":26,"cut":false,"hidden":false,"merged":[[24,1,24,9],[25,2,25,9],[8,1,8,4],[8,6,8,9],[15,1,15,9],[19,1,19,9],[20,2,20,4],[21,6,22,6],[5,1,5,9],[0,1,0,9],[1,1,1,9],[2,1,2,9],[3,1,3,9],[4,1,4,9]]}
[null,"Information requirements for comfort chillers"]
[null,{"$f":"Foglio2!T14","v":"EWFT350B-XSC2"}]
[null,"Outdoor side heat exchanger of air conditioner: Air"]
[null,"Indoor side heat exchanger of air conditioner: water"]
[null,"Type: Inverter"]
[null,"Driver of compressor: Electric"]
[null,"Item","Symbol","Value","Unit",null,"Item","Symbol","Value","Unit"]
[null,"Rated cooling\ncapacity","Prated,c",{"$f":"Foglio2!T42","v":340.72},"kW",null,"Seasonal space\ncooling energy\nefficiency","ηs,c",{"$f":"Foglio2!T7","v":198.08},"%"]
[null,"Declared cooling capacity for part load at given outdoor temperatures\nTj and indoor 27°/19 °C (dry/wet bulb)",null,null,null,null,"Declared energy efficiency ratio or gas utilisation efficiency/auxiliary\nenergy factor for part load at given outdoor temperatures Tj"]
[null,"Tj = + 35 °C","Pdc",{"$f":"Foglio2!T42","v":340.72},"kW",null,"Tj = + 35 °C","EERd or GUEc,bin\n/AEFc,bin",{"$f":"Foglio2!T35","v":2.931}]
[null,"Tj = + 30 °C","Pdc",{"$f":"Foglio2!T91","v":243.67},"kW",null,"Tj = + 30 °C","EERd or GUEc,bin\n/AEFc,bin",{"$f":"Foglio2!T84","v":4.0979999999999999}]
[null,"Tj = + 25 °C","Pdc",{"$f":"Foglio2!T236","v":160.13999999999999},"kW",null,"Tj = + 25 °C","EERd or GUEc,bin\n/AEFc,bin",{"$f":"Foglio2!T229","v":5.508}]
[null,"Tj = + 20 °C","Pdc",{"$f":"Foglio2!T381","v":71.55},"kW",null,"Tj = + 20 °C","EERd or GUEc,bin\n/AEFc,bin",{"$f":"Foglio2!T374","v":7.0069999999999997}]
[]
[null,"Degradation coefficient\nfor air\nconditioners (*9)","\nCdc","\n0.95","\n—"]
[null,"Power consumption in modes other than ‘active mode’"]
[null,"Off mode","POFF",{"$f":"Foglio2!T32","v":0},"kW",null,"Crankcase heater\nmode","PCK",{"$f":"Foglio2!T31","v":0},"kW"]
[null,"Thermostat-off\nmode","PTO",{"$f":"Foglio2!T29","v":0.14000000000000001},"kW",null,"Standby mode","PSB",{"$f":"Foglio2!T30","v":0.25},"kW"]
[]
[null,"Other items"]
[null,"Capacity control","Step",null,null,null,"For air-to-water\ncomfort chillers: air\nflow rate, outdoor\nmeasured","—",{"$f":"Foglio2!T517","v":121536.00000000001},"m3/h"]
[null,"Sound power level,\noutdoor","LWA ",{"$f":"Foglio2!T518","v":94},"dB",null,"For water/brine-towater\nchillers:\nRated brine or water\nflow rate, outdoor\nside heat exchanger","—",null,"m3/h"]
[null,"Emissions of\nnitrogen oxides (if\napplicable)","NOx (*10)",null,"mg/kWh\ninput GCV"]
[null,"GWP of the\nrefrigerant",null,{"$f":"Foglio2!C4","v":675},"kg CO2eq (\n100 years )"]
[null,"Standard rating conditions used: Low Temp Application"]
[null,"Contact details","Daikin Applied Europe S.p.A. Via Piani di Santa Maria, 72 | 00072 | Ariccia | Roma"]

{"sheet":"Foglio20","index":19,"n_rows":26,"n_cols":10,"rows_kept":26,"cut":false,"hidden":false,"merged":[[24,1,24,9],[25,2,25,9],[8,1,8,4],[8,6,8,9],[15,1,15,9],[19,1,19,9],[20,2,20,4],[21,6,22,6],[5,1,5,9],[0,1,0,9],[1,1,1,9],[2,1,2,9],[3,1,3,9],[4,1,4,9]]}
[null,"Information requirements for comfort chillers"]
[null,{"$f":"Foglio2!#REF!","v":{"$error":"#REF!"}}]
[null,"Outdoor side heat exchanger of air conditioner: Air"]
[null,"Indoor side heat exchanger of air conditioner: water"]
[null,"Type: Inverter"]
[null,"Driver of compressor: Electric"]
[null,"Item","Symbol","Value","Unit",null,"Item","Symbol","Value","Unit"]
[null,"Rated cooling\ncapacity","Prated,c",{"$f":"Foglio2!#REF!","v":{"$error":"#REF!"}},"kW",null,"Seasonal space\ncooling energy\nefficiency","ηs,c",{"$f":"Foglio2!#REF!","v":{"$error":"#REF!"}},"%"]
[null,"Declared cooling capacity for part load at given outdoor temperatures\nTj and indoor 27°/19 °C (dry/wet bulb)",null,null,null,null,"Declared energy efficiency ratio or gas utilisation efficiency/auxiliary\nenergy factor for part load at given outdoor temperatures Tj"]
[null,"Tj = + 35 °C","Pdc",{"$f":"Foglio2!#REF!","v":{"$error":"#REF!"}},"kW",null,"Tj = + 35 °C","EERd or GUEc,bin\n/AEFc,bin",{"$f":"Foglio2!#REF!","v":{"$error":"#REF!"}}]
[null,"Tj = + 30 °C","Pdc",{"$f":"Foglio2!#REF!","v":{"$error":"#REF!"}},"kW",null,"Tj = + 30 °C","EERd or GUEc,bin\n/AEFc,bin",{"$f":"Foglio2!#REF!","v":{"$error":"#REF!"}}]
[null,"Tj = + 25 °C","Pdc",{"$f":"Foglio2!#REF!","v":{"$error":"#REF!"}},"kW",null,"Tj = + 25 °C","EERd or GUEc,bin\n/AEFc,bin",{"$f":"Foglio2!#REF!","v":{"$error":"#REF!"}}]
[null,"Tj = + 20 °C","Pdc",{"$f":"Foglio2!#REF!","v":{"$error":"#REF!"}},"kW",null,"Tj = + 20 °C","EERd or GUEc,bin\n/AEFc,bin",{"$f":"Foglio2!#REF!","v":{"$error":"#REF!"}}]
[]
[null,"Degradation coefficient\nfor air\nconditioners (*9)","\nCdc","\n0.9","\n—"]
[null,"Power consumption in modes other than ‘active mode’"]
[null,"Off mode","POFF",{"$f":"Foglio2!#REF!","v":{"$error":"#REF!"}},"kW",null,"Crankcase heater\nmode","PCK",{"$f":"Foglio2!#REF!","v":{"$error":"#REF!"}},"kW"]
[null,"Thermostat-off\nmode","PTO",{"$f":"Foglio2!#REF!","v":{"$error":"#REF!"}},"kW",null,"Standby mode","PSB",{"$f":"Foglio2!#REF!","v":{"$error":"#REF!"}},"kW"]
[]
[null,"Other items"]
[null,"Capacity control","Variable",null,null,null,"For air-to-water\ncomfort chillers: air\nflow rate, outdoor\nmeasured","—",{"$f":"Foglio2!#REF!","v":{"$error":"#REF!"}},"m3/h"]
[null,"Sound power level,\noutdoor","LWA ",{"$f":"Foglio2!#REF!","v":{"$error":"#REF!"}},"dB",null,"For water/brine-towater\nchillers:\nRated brine or water\nflow rate, outdoor\nside heat exchanger","—",null,"m3/h"]
[null,"Emissions of\nnitrogen oxides (if\napplicable)","NOx (*10)",null,"mg/kWh\ninput GCV"]
[null,"GWP of the\nrefrigerant",null,{"$f":"Foglio2!C4","v":675},"kg CO2eq (\n100 years )"]
[null,"Standard rating conditions used: Low Temp Application"]
[null,"Contact details","Daikin Applied Europe S.p.A. Via Piani di Santa Maria, 72 | 00072 | Ariccia | Roma"]

{"sheet":"Foglio21","index":20,"n_rows":26,"n_cols":10,"rows_kept":26,"cut":false,"hidden":false,"merged":[[24,1,24,9],[25,2,25,9],[8,1,8,4],[8,6,8,9],[15,1,15,9],[19,1,19,9],[20,2,20,4],[21,6,22,6],[5,1,5,9],[0,1,0,9],[1,1,1,9],[2,1,2,9],[3,1,3,9],[4,1,4,9]]}
[null,"Information requirements for comfort chillers"]
[null,{"$f":"Foglio2!#REF!","v":{"$error":"#REF!"}}]
[null,"Outdoor side heat exchanger of air conditioner: Air"]
[null,"Indoor side heat exchanger of air conditioner: water"]
[null,"Type: Inverter"]
[null,"Driver of compressor: Electric"]
[null,"Item","Symbol","Value","Unit",null,"Item","Symbol","Value","Unit"]
[null,"Rated cooling\ncapacity","Prated,c",{"$f":"Foglio2!#REF!","v":{"$error":"#REF!"}},"kW",null,"Seasonal space\ncooling energy\nefficiency","ηs,c",{"$f":"Foglio2!#REF!","v":{"$error":"#REF!"}},"%"]
[null,"Declared cooling capacity for part load at given outdoor temperatures\nTj and indoor 27°/19 °C (dry/wet bulb)",null,null,null,null,"Declared energy efficiency ratio or gas utilisation efficiency/auxiliary\nenergy factor for part load at given outdoor temperatures Tj"]
[null,"Tj = + 35 °C","Pdc",{"$f":"Foglio2!#REF!","v":{"$error":"#REF!"}},"kW",null,"Tj = + 35 °C","EERd or GUEc,bin\n/AEFc,bin",{"$f":"Foglio2!#REF!","v":{"$error":"#REF!"}}]
[null,"Tj = + 30 °C","Pdc",{"$f":"Foglio2!#REF!","v":{"$error":"#REF!"}},"kW",null,"Tj = + 30 °C","EERd or GUEc,bin\n/AEFc,bin",{"$f":"Foglio2!#REF!","v":{"$error":"#REF!"}}]
[null,"Tj = + 25 °C","Pdc",{"$f":"Foglio2!#REF!","v":{"$error":"#REF!"}},"kW",null,"Tj = + 25 °C","EERd or GUEc,bin\n/AEFc,bin",{"$f":"Foglio2!#REF!","v":{"$error":"#REF!"}}]
[null,"Tj = + 20 °C","Pdc",{"$f":"Foglio2!#REF!","v":{"$error":"#REF!"}},"kW",null,"Tj = + 20 °C","EERd or GUEc,bin\n/AEFc,bin",{"$f":"Foglio2!#REF!","v":{"$error":"#REF!"}}]
[]
[null,"Degradation coefficient\nfor air\nconditioners (*9)","\nCdc","\n0.9","\n—"]
[null,"Power consumption in modes other than ‘active mode’"]
[null,"Off mode","POFF",{"$f":"Foglio2!#REF!","v":{"$error":"#REF!"}},"kW",null,"Crankcase heater\nmode","PCK",{"$f":"Foglio2!#REF!","v":{"$error":"#REF!"}},"kW"]
[null,"Thermostat-off\nmode","PTO",{"$f":"Foglio2!#REF!","v":{"$error":"#REF!"}},"kW",null,"Standby mode","PSB",{"$f":"Foglio2!#REF!","v":{"$error":"#REF!"}},"kW"]
[]
[null,"Other items"]
[null,"Capacity control","Variable",null,null,null,"For air-to-water\ncomfort chillers: air\nflow rate, outdoor\nmeasured","—",{"$f":"Foglio2!#REF!","v":{"$error":"#REF!"}},"m3/h"]
[null,"Sound power level,\noutdoor","LWA ",{"$f":"Foglio2!#REF!","v":{"$error":"#REF!"}},"dB",null,"For water/brine-towater\nchillers:\nRated brine or water\nflow rate, outdoor\nside heat exchanger","—",null,"m3/h"]
[null,"Emissions of\nnitrogen oxides (if\napplicable)","NOx (*10)",null,"mg/kWh\ninput GCV"]
[null,"GWP of the\nrefrigerant",null,{"$f":"Foglio2!C4","v":675},"kg CO2eq (\n100 years )"]
[null,"Standard rating conditions used: Low Temp Application"]
[null,"Contact details","Daikin Applied Europe S.p.A. Via Piani di Santa Maria, 72 | 00072 | Ariccia | Roma"]

{"sheet":"Foglio22","index":21,"n_rows":26,"n_cols":10,"rows_kept":26,"cut":false,"hidden":false,"merged":[[24,1,24,9],[25,2,25,9],[8,1,8,4],[8,6,8,9],[15,1,15,9],[19,1,19,9],[20,2,20,4],[21,6,22,6],[5,1,5,9],[0,1,0,9],[1,1,1,9],[2,1,2,9],[3,1,3,9],[4,1,4,9]]}
[null,"Information requirements for comfort chillers"]
[null,{"$f":"Foglio2!#REF!","v":{"$error":"#REF!"}}]
[null,"Outdoor side heat exchanger of air conditioner: Air"]
[null,"Indoor side heat exchanger of air conditioner: water"]
[null,"Type: Inverter"]
[null,"Driver of compressor: Electric"]
[null,"Item","Symbol","Value","Unit",null,"Item","Symbol","Value","Unit"]
[null,"Rated cooling\ncapacity","Prated,c",{"$f":"Foglio2!#REF!","v":{"$error":"#REF!"}},"kW",null,"Seasonal space\ncooling energy\nefficiency","ηs,c",{"$f":"Foglio2!#REF!","v":{"$error":"#REF!"}},"%"]
[null,"Declared cooling capacity for part load at given outdoor temperatures\nTj and indoor 27°/19 °C (dry/wet bulb)",null,null,null,null,"Declared energy efficiency ratio or gas utilisation efficiency/auxiliary\nenergy factor for part load at given outdoor temperatures Tj"]
[null,"Tj = + 35 °C","Pdc",{"$f":"Foglio2!#REF!","v":{"$error":"#REF!"}},"kW",null,"Tj = + 35 °C","EERd or GUEc,bin\n/AEFc,bin",{"$f":"Foglio2!#REF!","v":{"$error":"#REF!"}}]
[null,"Tj = + 30 °C","Pdc",{"$f":"Foglio2!#REF!","v":{"$error":"#REF!"}},"kW",null,"Tj = + 30 °C","EERd or GUEc,bin\n/AEFc,bin",{"$f":"Foglio2!#REF!","v":{"$error":"#REF!"}}]
[null,"Tj = + 25 °C","Pdc",{"$f":"Foglio2!#REF!","v":{"$error":"#REF!"}},"kW",null,"Tj = + 25 °C","EERd or GUEc,bin\n/AEFc,bin",{"$f":"Foglio2!#REF!","v":{"$error":"#REF!"}}]
[null,"Tj = + 20 °C","Pdc",{"$f":"Foglio2!#REF!","v":{"$error":"#REF!"}},"kW",null,"Tj = + 20 °C","EERd or GUEc,bin\n/AEFc,bin",{"$f":"Foglio2!#REF!","v":{"$error":"#REF!"}}]
[]
[null,"Degradation coefficient\nfor air\nconditioners (*9)","\nCdc","\n0.9","\n—"]
[null,"Power consumption in modes other than ‘active mode’"]
[null,"Off mode","POFF",{"$f":"Foglio2!#REF!","v":{"$error":"#REF!"}},"kW",null,"Crankcase heater\nmode","PCK",{"$f":"Foglio2!#REF!","v":{"$error":"#REF!"}},"kW"]
[null,"Thermostat-off\nmode","PTO",{"$f":"Foglio2!#REF!","v":{"$error":"#REF!"}},"kW",null,"Standby mode","PSB",{"$f":"Foglio2!#REF!","v":{"$error":"#REF!"}},"kW"]
[]
[null,"Other items"]
[null,"Capacity control","Variable",null,null,null,"For air-to-water\ncomfort chillers: air\nflow rate, outdoor\nmeasured","—",{"$f":"Foglio2!#REF!","v":{"$error":"#REF!"}},"m3/h"]
[null,"Sound power level,\noutdoor","LWA ",{"$f":"Foglio2!#REF!","v":{"$error":"#REF!"}},"dB",null,"For water/brine-towater\nchillers:\nRated brine or water\nflow rate, outdoor\nside heat exchanger","—",null,"m3/h"]
[null,"Emissions of\nnitrogen oxides (if\napplicable)","NOx (*10)",null,"mg/kWh\ninput GCV"]
[null,"GWP of the\nrefrigerant",null,{"$f":"Foglio2!C4","v":675},"kg CO2eq (\n100 years )"]
[null,"Standard rating conditions used: Low Temp Application"]
[null,"Contact details","Daikin Applied Europe S.p.A. Via Piani di Santa Maria, 72 | 00072 | Ariccia | Roma"]

{"sheet":"Foglio23","index":22,"n_rows":26,"n_cols":10,"rows_kept":26,"cut":false,"hidden":false,"merged":[[24,1,24,9],[25,2,25,9],[8,1,8,4],[8,6,8,9],[15,1,15,9],[19,1,19,9],[20,2,20,4],[21,6,22,6],[5,1,5,9],[0,1,0,9],[1,1,1,9],[2,1,2,9],[3,1,3,9],[4,1,4,9]]}
[null,"Information requirements for comfort chillers"]
[null,{"$f":"Foglio2!#REF!","v":{"$error":"#REF!"}}]
[null,"Outdoor side heat exchanger of air conditioner: Air"]
[null,"Indoor side heat exchanger of air conditioner: water"]
[null,"Type: Inverter"]
[null,"Driver of compressor: Electric"]
[null,"Item","Symbol","Value","Unit",null,"Item","Symbol","Value","Unit"]
[null,"Rated cooling\ncapacity","Prated,c",{"$f":"Foglio2!#REF!","v":{"$error":"#REF!"}},"kW",null,"Seasonal space\ncooling energy\nefficiency","ηs,c",{"$f":"Foglio2!#REF!","v":{"$error":"#REF!"}},"%"]
[null,"Declared cooling capacity for part load at given outdoor temperatures\nTj and indoor 27°/19 °C (dry/wet bulb)",null,null,null,null,"Declared energy efficiency ratio or gas utilisation efficiency/auxiliary\nenergy factor for part load at given outdoor temperatures Tj"]
[null,"Tj = + 35 °C","Pdc",{"$f":"Foglio2!#REF!","v":{"$error":"#REF!"}},"kW",null,"Tj = + 35 °C","EERd or GUEc,bin\n/AEFc,bin",{"$f":"Foglio2!#REF!","v":{"$error":"#REF!"}}]
[null,"Tj = + 30 °C","Pdc",{"$f":"Foglio2!#REF!","v":{"$error":"#REF!"}},"kW",null,"Tj = + 30 °C","EERd or GUEc,bin\n/AEFc,bin",{"$f":"Foglio2!#REF!","v":{"$error":"#REF!"}}]
[null,"Tj = + 25 °C","Pdc",{"$f":"Foglio2!#REF!","v":{"$error":"#REF!"}},"kW",null,"Tj = + 25 °C","EERd or GUEc,bin\n/AEFc,bin",{"$f":"Foglio2!#REF!","v":{"$error":"#REF!"}}]
[null,"Tj = + 20 °C","Pdc",{"$f":"Foglio2!#REF!","v":{"$error":"#REF!"}},"kW",null,"Tj = + 20 °C","EERd or GUEc,bin\n/AEFc,bin",{"$f":"Foglio2!#REF!","v":{"$error":"#REF!"}}]
[]
[null,"Degradation coefficient\nfor air\nconditioners (*9)","\nCdc","\n0.9","\n—"]
[null,"Power consumption in modes other than ‘active mode’"]
[null,"Off mode","POFF",{"$f":"Foglio2!#REF!","v":{"$error":"#REF!"}},"kW",null,"Crankcase heater\nmode","PCK",{"$f":"Foglio2!#REF!","v":{"$error":"#REF!"}},"kW"]
[null,"Thermostat-off\nmode","PTO",{"$f":"Foglio2!#REF!","v":{"$error":"#REF!"}},"kW",null,"Standby mode","PSB",{"$f":"Foglio2!#REF!","v":{"$error":"#REF!"}},"kW"]
[]
[null,"Other items"]
[null,"Capacity control","Variable",null,null,null,"For air-to-water\ncomfort chillers: air\nflow rate, outdoor\nmeasured","—",{"$f":"Foglio2!#REF!","v":{"$error":"#REF!"}},"m3/h"]
[null,"Sound power level,\noutdoor","LWA ",{"$f":"Foglio2!#REF!","v":{"$error":"#REF!"}},"dB",null,"For water/brine-towater\nchillers:\nRated brine or water\nflow rate, outdoor\nside heat exchanger","—",null,"m3/h"]
[null,"Emissions of\nnitrogen oxides (if\napplicable)","NOx (*10)",null,"mg/kWh\ninput GCV"]
[null,"GWP of the\nrefrigerant",null,{"$f":"Foglio2!C4","v":675},"kg CO2eq (\n100 years )"]
[null,"Standard rating conditions used: Low Temp Application"]
[null,"Contact details","Daikin Applied Europe S.p.A. Via Piani di Santa Maria, 72 | 00072 | Ariccia | Roma"]

{"sheet":"Foglio24","index":23,"n_rows":26,"n_cols":10,"rows_kept":26,"cut":false,"hidden":false,"merged":[[24,1,24,9],[25,2,25,9],[8,1,8,4],[8,6,8,9],[15,1,15,9],[19,1,19,9],[20,2,20,4],[21,6,22,6],[5,1,5,9],[0,1,0,9],[1,1,1,9],[2,1,2,9],[3,1,3,9],[4,1,4,9]]}
[null,"Information requirements for comfort chillers"]
[null,{"$f":"Foglio2!#REF!","v":{"$error":"#REF!"}}]
[null,"Outdoor side heat exchanger of air conditioner: Air"]
[null,"Indoor side heat exchanger of air conditioner: water"]
[null,"Type: Inverter"]
[null,"Driver of compressor: Electric"]
[null,"Item","Symbol","Value","Unit",null,"Item","Symbol","Value","Unit"]
[null,"Rated cooling\ncapacity","Prated,c",{"$f":"Foglio2!#REF!","v":{"$error":"#REF!"}},"kW",null,"Seasonal space\ncooling energy\nefficiency","ηs,c",{"$f":"Foglio2!#REF!","v":{"$error":"#REF!"}},"%"]
[null,"Declared cooling capacity for part load at given outdoor temperatures\nTj and indoor 27°/19 °C (dry/wet bulb)",null,null,null,null,"Declared energy efficiency ratio or gas utilisation efficiency/auxiliary\nenergy factor for part load at given outdoor temperatures Tj"]
[null,"Tj = + 35 °C","Pdc",{"$f":"Foglio2!#REF!","v":{"$error":"#REF!"}},"kW",null,"Tj = + 35 °C","EERd or GUEc,bin\n/AEFc,bin",{"$f":"Foglio2!#REF!","v":{"$error":"#REF!"}}]
[null,"Tj = + 30 °C","Pdc",{"$f":"Foglio2!#REF!","v":{"$error":"#REF!"}},"kW",null,"Tj = + 30 °C","EERd or GUEc,bin\n/AEFc,bin",{"$f":"Foglio2!#REF!","v":{"$error":"#REF!"}}]
[null,"Tj = + 25 °C","Pdc",{"$f":"Foglio2!#REF!","v":{"$error":"#REF!"}},"kW",null,"Tj = + 25 °C","EERd or GUEc,bin\n/AEFc,bin",{"$f":"Foglio2!#REF!","v":{"$error":"#REF!"}}]
[null,"Tj = + 20 °C","Pdc",{"$f":"Foglio2!#REF!","v":{"$error":"#REF!"}},"kW",null,"Tj = + 20 °C","EERd or GUEc,bin\n/AEFc,bin",{"$f":"Foglio2!#REF!","v":{"$error":"#REF!"}}]
[]
[null,"Degradation coefficient\nfor air\nconditioners (*9)","\nCdc","\n0.9","\n—"]
[null,"Power consumption in modes other than ‘active mode’"]
[null,"Off mode","POFF",{"$f":"Foglio2!#REF!","v":{"$error":"#REF!"}},"kW",null,"Crankcase heater\nmode","PCK",{"$f":"Foglio2!#REF!","v":{"$error":"#REF!"}},"kW"]
[null,"Thermostat-off\nmode","PTO",{"$f":"Foglio2!#REF!","v":{"$error":"#REF!"}},"kW",null,"Standby mode","PSB",{"$f":"Foglio2!#REF!","v":{"$error":"#REF!"}},"kW"]
[]
[null,"Other items"]
[null,"Capacity control","Variable",null,null,null,"For air-to-water\ncomfort chillers: air\nflow rate, outdoor\nmeasured","—",{"$f":"Foglio2!#REF!","v":{"$error":"#REF!"}},"m3/h"]
[null,"Sound power level,\noutdoor","LWA ",{"$f":"Foglio2!#REF!","v":{"$error":"#REF!"}},"dB",null,"For water/brine-towater\nchillers:\nRated brine or water\nflow rate, outdoor\nside heat exchanger","—",null,"m3/h"]
[null,"Emissions of\nnitrogen oxides (if\napplicable)","NOx (*10)",null,"mg/kWh\ninput GCV"]
[null,"GWP of the\nrefrigerant",null,{"$f":"Foglio2!C4","v":675},"kg CO2eq (\n100 years )"]
[null,"Standard rating conditions used: Low Temp Application"]
[null,"Contact details","Daikin Applied Europe S.p.A. Via Piani di Santa Maria, 72 | 00072 | Ariccia | Roma"]

{"sheet":"Foglio25","index":24,"n_rows":26,"n_cols":10,"rows_kept":26,"cut":false,"hidden":false,"merged":[[24,1,24,9],[25,2,25,9],[8,1,8,4],[8,6,8,9],[15,1,15,9],[19,1,19,9],[20,2,20,4],[21,6,22,6],[5,1,5,9],[0,1,0,9],[1,1,1,9],[2,1,2,9],[3,1,3,9],[4,1,4,9]]}
[null,"Information requirements for comfort chillers"]
[null,{"$f":"Foglio2!#REF!","v":{"$error":"#REF!"}}]
[null,"Outdoor side heat exchanger of air conditioner: Air"]
[null,"Indoor side heat exchanger of air conditioner: water"]
[null,"Type: Inverter"]
[null,"Driver of compressor: Electric"]
[null,"Item","Symbol","Value","Unit",null,"Item","Symbol","Value","Unit"]
[null,"Rated cooling\ncapacity","Prated,c",{"$f":"Foglio2!#REF!","v":{"$error":"#REF!"}},"kW",null,"Seasonal space\ncooling energy\nefficiency","ηs,c",{"$f":"Foglio2!#REF!","v":{"$error":"#REF!"}},"%"]
[null,"Declared cooling capacity for part load at given outdoor temperatures\nTj and indoor 27°/19 °C (dry/wet bulb)",null,null,null,null,"Declared energy efficiency ratio or gas utilisation efficiency/auxiliary\nenergy factor for part load at given outdoor temperatures Tj"]
[null,"Tj = + 35 °C","Pdc",{"$f":"Foglio2!#REF!","v":{"$error":"#REF!"}},"kW",null,"Tj = + 35 °C","EERd or GUEc,bin\n/AEFc,bin",{"$f":"Foglio2!#REF!","v":{"$error":"#REF!"}}]
[null,"Tj = + 30 °C","Pdc",{"$f":"Foglio2!#REF!","v":{"$error":"#REF!"}},"kW",null,"Tj = + 30 °C","EERd or GUEc,bin\n/AEFc,bin",{"$f":"Foglio2!#REF!","v":{"$error":"#REF!"}}]
[null,"Tj = + 25 °C","Pdc",{"$f":"Foglio2!#REF!","v":{"$error":"#REF!"}},"kW",null,"Tj = + 25 °C","EERd or GUEc,bin\n/AEFc,bin",{"$f":"Foglio2!#REF!","v":{"$error":"#REF!"}}]
[null,"Tj = + 20 °C","Pdc",{"$f":"Foglio2!#REF!","v":{"$error":"#REF!"}},"kW",null,"Tj = + 20 °C","EERd or GUEc,bin\n/AEFc,bin",{"$f":"Foglio2!#REF!","v":{"$error":"#REF!"}}]
[]
[null,"Degradation coefficient\nfor air\nconditioners (*9)","\nCdc","\n0.9","\n—"]
[null,"Power consumption in modes other than ‘active mode’"]
[null,"Off mode","POFF",{"$f":"Foglio2!#REF!","v":{"$error":"#REF!"}},"kW",null,"Crankcase heater\nmode","PCK",{"$f":"Foglio2!#REF!","v":{"$error":"#REF!"}},"kW"]
[null,"Thermostat-off\nmode","PTO",{"$f":"Foglio2!#REF!","v":{"$error":"#REF!"}},"kW",null,"Standby mode","PSB",{"$f":"Foglio2!#REF!","v":{"$error":"#REF!"}},"kW"]
[]
[null,"Other items"]
[null,"Capacity control","Variable",null,null,null,"For air-to-water\ncomfort chillers: air\nflow rate, outdoor\nmeasured","—",{"$f":"Foglio2!#REF!","v":{"$error":"#REF!"}},"m3/h"]
[null,"Sound power level,\noutdoor","LWA ",{"$f":"Foglio2!#REF!","v":{"$error":"#REF!"}},"dB",null,"For water/brine-towater\nchillers:\nRated brine or water\nflow rate, outdoor\nside heat exchanger","—",null,"m3/h"]
[null,"Emissions of\nnitrogen oxides (if\napplicable)","NOx (*10)",null,"mg/kWh\ninput GCV"]
[null,"GWP of the\nrefrigerant",null,{"$f":"Foglio2!C4","v":675},"kg CO2eq (\n100 years )"]
[null,"Standard rating conditions used: Low Temp Application"]
[null,"Contact details","Daikin Applied Europe S.p.A. Via Piani di Santa Maria, 72 | 00072 | Ariccia | Roma"]

{"sheet":"Foglio26","index":25,"n_rows":26,"n_cols":10,"rows_kept":26,"cut":false,"hidden":false,"merged":[[24,1,24,9],[25,2,25,9],[8,1,8,4],[8,6,8,9],[15,1,15,9],[19,1,19,9],[20,2,20,4],[21,6,22,6],[5,1,5,9],[0,1,0,9],[1,1,1,9],[2,1,2,9],[3,1,3,9],[4,1,4,9]]}
[null,"Information requirements for comfort chillers"]
[null,{"$f":"Foglio2!#REF!","v":{"$error":"#REF!"}}]
[null,"Outdoor side heat exchanger of air conditioner: Air"]
[null,"Indoor side heat exchanger of air conditioner: water"]
[null,"Type: Inverter"]
[null,"Driver of compressor: Electric"]
[null,"Item","Symbol","Value","Unit",null,"Item","Symbol","Value","Unit"]
[null,"Rated cooling\ncapacity","Prated,c",{"$f":"Foglio2!#REF!","v":{"$error":"#REF!"}},"kW",null,"Seasonal space\ncooling energy\nefficiency","ηs,c",{"$f":"Foglio2!#REF!","v":{"$error":"#REF!"}},"%"]
[null,"Declared cooling capacity for part load at given outdoor temperatures\nTj and indoor 27°/19 °C (dry/wet bulb)",null,null,null,null,"Declared energy efficiency ratio or gas utilisation efficiency/auxiliary\nenergy factor for part load at given outdoor temperatures Tj"]
[null,"Tj = + 35 °C","Pdc",{"$f":"Foglio2!#REF!","v":{"$error":"#REF!"}},"kW",null,"Tj = + 35 °C","EERd or GUEc,bin\n/AEFc,bin",{"$f":"Foglio2!#REF!","v":{"$error":"#REF!"}}]
[null,"Tj = + 30 °C","Pdc",{"$f":"Foglio2!#REF!","v":{"$error":"#REF!"}},"kW",null,"Tj = + 30 °C","EERd or GUEc,bin\n/AEFc,bin",{"$f":"Foglio2!#REF!","v":{"$error":"#REF!"}}]
[null,"Tj = + 25 °C","Pdc",{"$f":"Foglio2!#REF!","v":{"$error":"#REF!"}},"kW",null,"Tj = + 25 °C","EERd or GUEc,bin\n/AEFc,bin",{"$f":"Foglio2!#REF!","v":{"$error":"#REF!"}}]
[null,"Tj = + 20 °C","Pdc",{"$f":"Foglio2!#REF!","v":{"$error":"#REF!"}},"kW",null,"Tj = + 20 °C","EERd or GUEc,bin\n/AEFc,bin",{"$f":"Foglio2!#REF!","v":{"$error":"#REF!"}}]
[]
[null,"Degradation coefficient\nfor air\nconditioners (*9)","\nCdc","\n0.9","\n—"]
[null,"Power consumption in modes other than ‘active mode’"]
[null,"Off mode","POFF",{"$f":"Foglio2!#REF!","v":{"$error":"#REF!"}},"kW",null,"Crankcase heater\nmode","PCK",{"$f":"Foglio2!#REF!","v":{"$error":"#REF!"}},"kW"]
[null,"Thermostat-off\nmode","PTO",{"$f":"Foglio2!#REF!","v":{"$error":"#REF!"}},"kW",null,"Standby mode","PSB",{"$f":"Foglio2!#REF!","v":{"$error":"#REF!"}},"kW"]
[]
[null,"Other items"]
[null,"Capacity control","Variable",null,null,null,"For air-to-water\ncomfort chillers: air\nflow rate, outdoor\nmeasured","—",{"$f":"Foglio2!#REF!","v":{"$error":"#REF!"}},"m3/h"]
[null,"Sound power level,\noutdoor","LWA ",{"$f":"Foglio2!#REF!","v":{"$error":"#REF!"}},"dB",null,"For water/brine-towater\nchillers:\nRated brine or water\nflow rate, outdoor\nside heat exchanger","—",null,"m3/h"]
[null,"Emissions of\nnitrogen oxides (if\napplicable)","NOx (*10)",null,"mg/kWh\ninput GCV"]
[null,"GWP of the\nrefrigerant",null,{"$f":"Foglio2!C4","v":675},"kg CO2eq (\n100 years )"]
[null,"Standard rating conditions used: Low Temp Application"]
[null,"Contact details","Daikin Applied Europe S.p.A. Via Piani di Santa Maria, 72 | 00072 | Ariccia | Roma"]

{"sheet":"Foglio27","index":26,"n_rows":26,"n_cols":10,"rows_kept":26,"cut":false,"hidden":false,"merged":[[24,1,24,9],[25,2,25,9],[8,1,8,4],[8,6,8,9],[15,1,15,9],[19,1,19,9],[20,2,20,4],[21,6,22,6],[5,1,5,9],[0,1,0,9],[1,1,1,9],[2,1,2,9],[3,1,3,9],[4,1,4,9]]}
[null,"Information requirements for comfort chillers"]
[null,{"$f":"Foglio2!#REF!","v":{"$error":"#REF!"}}]
[null,"Outdoor side heat exchanger of air conditioner: Air"]
[null,"Indoor side heat exchanger of air conditioner: water"]
[null,"Type: Inverter"]
[null,"Driver of compressor: Electric"]
[null,"Item","Symbol","Value","Unit",null,"Item","Symbol","Value","Unit"]
[null,"Rated cooling\ncapacity","Prated,c",{"$f":"Foglio2!#REF!","v":{"$error":"#REF!"}},"kW",null,"Seasonal space\ncooling energy\nefficiency","ηs,c",{"$f":"Foglio2!#REF!","v":{"$error":"#REF!"}},"%"]
[null,"Declared cooling capacity for part load at given outdoor temperatures\nTj and indoor 27°/19 °C (dry/wet bulb)",null,null,null,null,"Declared energy efficiency ratio or gas utilisation efficiency/auxiliary\nenergy factor for part load at given outdoor temperatures Tj"]
[null,"Tj = + 35 °C","Pdc",{"$f":"Foglio2!#REF!","v":{"$error":"#REF!"}},"kW",null,"Tj = + 35 °C","EERd or GUEc,bin\n/AEFc,bin",{"$f":"Foglio2!#REF!","v":{"$error":"#REF!"}}]
[null,"Tj = + 30 °C","Pdc",{"$f":"Foglio2!#REF!","v":{"$error":"#REF!"}},"kW",null,"Tj = + 30 °C","EERd or GUEc,bin\n/AEFc,bin",{"$f":"Foglio2!#REF!","v":{"$error":"#REF!"}}]
[null,"Tj = + 25 °C","Pdc",{"$f":"Foglio2!#REF!","v":{"$error":"#REF!"}},"kW",null,"Tj = + 25 °C","EERd or GUEc,bin\n/AEFc,bin",{"$f":"Foglio2!#REF!","v":{"$error":"#REF!"}}]
[null,"Tj = + 20 °C","Pdc",{"$f":"Foglio2!#REF!","v":{"$error":"#REF!"}},"kW",null,"Tj = + 20 °C","EERd or GUEc,bin\n/AEFc,bin",{"$f":"Foglio2!#REF!","v":{"$error":"#REF!"}}]
[]
[null,"Degradation coefficient\nfor air\nconditioners (*9)","\nCdc","\n0.9","\n—"]
[null,"Power consumption in modes other than ‘active mode’"]
[null,"Off mode","POFF",{"$f":"Foglio2!#REF!","v":{"$error":"#REF!"}},"kW",null,"Crankcase heater\nmode","PCK",{"$f":"Foglio2!#REF!","v":{"$error":"#REF!"}},"kW"]
[null,"Thermostat-off\nmode","PTO",{"$f":"Foglio2!#REF!","v":{"$error":"#REF!"}},"kW",null,"Standby mode","PSB",{"$f":"Foglio2!#REF!","v":{"$error":"#REF!"}},"kW"]
[]
[null,"Other items"]
[null,"Capacity control","Variable",null,null,null,"For air-to-water\ncomfort chillers: air\nflow rate, outdoor\nmeasured","—",{"$f":"Foglio2!#REF!","v":{"$error":"#REF!"}},"m3/h"]
[null,"Sound power level,\noutdoor","LWA ",{"$f":"Foglio2!#REF!","v":{"$error":"#REF!"}},"dB",null,"For water/brine-towater\nchillers:\nRated brine or water\nflow rate, outdoor\nside heat exchanger","—",null,"m3/h"]
[null,"Emissions of\nnitrogen oxides (if\napplicable)","NOx (*10)",null,"mg/kWh\ninput GCV"]
[null,"GWP of the\nrefrigerant",null,{"$f":"Foglio2!C4","v":675},"kg CO2eq (\n100 years )"]
[null,"Standard rating conditions used: Low Temp Application"]
[null,"Contact details","Daikin Applied Europe S.p.A. Via Piani di Santa Maria, 72 | 00072 | Ariccia | Roma"]

{"sheet":"Foglio28","index":27,"n_rows":26,"n_cols":10,"rows_kept":26,"cut":false,"hidden":false,"merged":[[24,1,24,9],[25,2,25,9],[8,1,8,4],[8,6,8,9],[15,1,15,9],[19,1,19,9],[20,2,20,4],[21,6,22,6],[5,1,5,9],[0,1,0,9],[1,1,1,9],[2,1,2,9],[3,1,3,9],[4,1,4,9]]}
[null,"Information requirements for comfort chillers"]
[null,{"$f":"Foglio2!#REF!","v":{"$error":"#REF!"}}]
[null,"Outdoor side heat exchanger of air conditioner: Air"]
[null,"Indoor side heat exchanger of air conditioner: water"]
[null,"Type: Inverter"]
[null,"Driver of compressor: Electric"]
[null,"Item","Symbol","Value","Unit",null,"Item","Symbol","Value","Unit"]
[null,"Rated cooling\ncapacity","Prated,c",{"$f":"Foglio2!#REF!","v":{"$error":"#REF!"}},"kW",null,"Seasonal space\ncooling energy\nefficiency","ηs,c",{"$f":"Foglio2!#REF!","v":{"$error":"#REF!"}},"%"]
[null,"Declared cooling capacity for part load at given outdoor temperatures\nTj and indoor 27°/19 °C (dry/wet bulb)",null,null,null,null,"Declared energy efficiency ratio or gas utilisation efficiency/auxiliary\nenergy factor for part load at given outdoor temperatures Tj"]
[null,"Tj = + 35 °C","Pdc",{"$f":"Foglio2!#REF!","v":{"$error":"#REF!"}},"kW",null,"Tj = + 35 °C","EERd or GUEc,bin\n/AEFc,bin",{"$f":"Foglio2!#REF!","v":{"$error":"#REF!"}}]
[null,"Tj = + 30 °C","Pdc",{"$f":"Foglio2!#REF!","v":{"$error":"#REF!"}},"kW",null,"Tj = + 30 °C","EERd or GUEc,bin\n/AEFc,bin",{"$f":"Foglio2!#REF!","v":{"$error":"#REF!"}}]
[null,"Tj = + 25 °C","Pdc",{"$f":"Foglio2!#REF!","v":{"$error":"#REF!"}},"kW",null,"Tj = + 25 °C","EERd or GUEc,bin\n/AEFc,bin",{"$f":"Foglio2!#REF!","v":{"$error":"#REF!"}}]
[null,"Tj = + 20 °C","Pdc",{"$f":"Foglio2!#REF!","v":{"$error":"#REF!"}},"kW",null,"Tj = + 20 °C","EERd or GUEc,bin\n/AEFc,bin",{"$f":"Foglio2!#REF!","v":{"$error":"#REF!"}}]
[]
[null,"Degradation coefficient\nfor air\nconditioners (*9)","\nCdc","\n0.9","\n—"]
[null,"Power consumption in modes other than ‘active mode’"]
[null,"Off mode","POFF",{"$f":"Foglio2!#REF!","v":{"$error":"#REF!"}},"kW",null,"Crankcase heater\nmode","PCK",{"$f":"Foglio2!#REF!","v":{"$error":"#REF!"}},"kW"]
[null,"Thermostat-off\nmode","PTO",{"$f":"Foglio2!#REF!","v":{"$error":"#REF!"}},"kW",null,"Standby mode","PSB",{"$f":"Foglio2!#REF!","v":{"$error":"#REF!"}},"kW"]
[]
[null,"Other items"]
[null,"Capacity control","Variable",null,null,null,"For air-to-water\ncomfort chillers: air\nflow rate, outdoor\nmeasured","—",{"$f":"Foglio2!#REF!","v":{"$error":"#REF!"}},"m3/h"]
[null,"Sound power level,\noutdoor","LWA ",{"$f":"Foglio2!#REF!","v":{"$error":"#REF!"}},"dB",null,"For water/brine-towater\nchillers:\nRated brine or water\nflow rate, outdoor\nside heat exchanger","—",null,"m3/h"]
[null,"Emissions of\nnitrogen oxides (if\napplicable)","NOx (*10)",null,"mg/kWh\ninput GCV"]
[null,"GWP of the\nrefrigerant",null,{"$f":"Foglio2!C4","v":675},"kg CO2eq (\n100 years )"]
[null,"Standard rating conditions used: Low Temp Application"]
[null,"Contact details","Daikin Applied Europe S.p.A. Via Piani di Santa Maria, 72 | 00072 | Ariccia | Roma"]